BEGIN:VCALENDAR
VERSION:2.0
PRODID:-//Bio Grand Est - ECPv6.15.14//NONSGML v1.0//EN
CALSCALE:GREGORIAN
METHOD:PUBLISH
X-WR-CALNAME:Bio Grand Est
X-ORIGINAL-URL:https://biograndest.org
X-WR-CALDESC:Évènements pour Bio Grand Est
REFRESH-INTERVAL;VALUE=DURATION:PT1H
X-Robots-Tag:noindex
X-PUBLISHED-TTL:PT1H
BEGIN:VTIMEZONE
TZID:Europe/Paris
BEGIN:DAYLIGHT
TZOFFSETFROM:+0100
TZOFFSETTO:+0200
TZNAME:CEST
DTSTART:20210328T010000
END:DAYLIGHT
BEGIN:STANDARD
TZOFFSETFROM:+0200
TZOFFSETTO:+0100
TZNAME:CET
DTSTART:20211031T010000
END:STANDARD
BEGIN:DAYLIGHT
TZOFFSETFROM:+0100
TZOFFSETTO:+0200
TZNAME:CEST
DTSTART:20220327T010000
END:DAYLIGHT
BEGIN:STANDARD
TZOFFSETFROM:+0200
TZOFFSETTO:+0100
TZNAME:CET
DTSTART:20221030T010000
END:STANDARD
BEGIN:DAYLIGHT
TZOFFSETFROM:+0100
TZOFFSETTO:+0200
TZNAME:CEST
DTSTART:20230326T010000
END:DAYLIGHT
BEGIN:STANDARD
TZOFFSETFROM:+0200
TZOFFSETTO:+0100
TZNAME:CET
DTSTART:20231029T010000
END:STANDARD
END:VTIMEZONE
BEGIN:VEVENT
DTSTART;TZID=Europe/Paris:20220610T160000
DTEND;TZID=Europe/Paris:20220610T173000
DTSTAMP:20260422T170119
CREATED:20220607T141438Z
LAST-MODIFIED:20220607T141438Z
UID:14485-1654876800-1654882200@biograndest.org
SUMMARY:Visite de la plate forme alsacienne de conservation de céréales anciennes
DESCRIPTION:Vous vous intéressez à la culture de céréales anciennes en Alsace ou vous la pratiquez déjà. Cette visite pourrait bien vous intéresser… \nLes céréales de la ferme MOYSES\, cultivées sur la ferme familiale de 54 ha\, toutes antérieures à 1900\, sont conservées\, évaluées\, cultivées\, stockées\, moulues et panifiées sur place\, à Feldkirch (Alsace). \nBio en Grand Est s’allie avec la ferme MOYSES et vous propose de découvrir le travail effectué sur la ferme par la visite guidée du conservatoire 2022 de céréales anciennes (93 variétés provenant de 31 pays de l’Europe\, du Caucase\, Moyen et Extrême Orient). Selon vos centres d’intérêts\, nous pourrons aborder d’avantage la biologie\, la botanique\, les méthodes de cultures ou de multiplication. Une dégustation de pain sera également prévue lors de la visite. \nLa visite se tiendra le : \nVendredi 10 juin \nDe 16h à 17h30 \nRDV à la ferme Moyses\, à Feldkirch (rue principale – 68 540) \n  \nEntrée libre\, inscription souhaitable par mail auprès d’Émilie POQUET \nPlus d’informations : https://ferme-moyses.alsace/
URL:https://biograndest.org/evenement/visite-de-la-plate-forme-alsacienne-de-conservation-de-cereales-anciennes/
LOCATION:Ferme Moyses – Feldkirch (68)\, Rue Principale\, Feldkirch\, 68540\, France
CATEGORIES:Alsace,Biodiversité,Evènement,Filières
ATTACH;FMTTYPE=image/jpeg:https://biograndest.org/wp-content/uploads/2022/06/gcanciennes-scaled.jpg
END:VEVENT
BEGIN:VEVENT
DTSTART;TZID=Europe/Paris:20220616T203000
DTEND;TZID=Europe/Paris:20220616T223000
DTSTAMP:20260422T170119
CREATED:20220524T062300Z
LAST-MODIFIED:20220524T062300Z
UID:14425-1655411400-1655418600@biograndest.org
SUMMARY:Conférence-débat sur l'agroforesterie
DESCRIPTION:Dans le cadre du plan de relance « Plantons des haies »\, le Pôle Coopératif accueillera une conférence-débat sur l’agroforesterie animée par Dempsey Princet\, SylvaTerra\, conseil en agroforesterie accompagné de Bernard Meurisse\, MNE.\n\n\nJeudi 16 juin 2022 de 20h30 à 22h30 au Pôle Coopératif à Revigny-sur-Ornain.\n\nAu programme :\n– Qu’est-ce que l’agroforesterie ?\n– Quels sont les intérêts de l’arbre en agriculture ?\n– Les points clés d’un projet agroforestier\n– Plantation\, conseil et itinéraire technique \n Conférence participative basée sur les échanges avec les participants. \nEn partenariat avec Mne Environnement\, Agriculture Biologique en Grand Est\, CPIE de Meuse\, Fredon Grand Est\, CPIE Nancy Champenoux et LPO Meurthe-et-Moselle. \nRéservation conseillée au 07 69 37 47 41 ou à contact@pole-cooperatif.fr
URL:https://biograndest.org/evenement/conference-debat-agroforesterie/
LOCATION:Revigny-sur-Ornain (55)
CATEGORIES:Biodiversité,Meuse
ATTACH;FMTTYPE=image/jpeg:https://biograndest.org/wp-content/uploads/2022/05/2022-06-conf-plantons.jpg
END:VEVENT
BEGIN:VEVENT
DTSTART;TZID=Europe/Paris:20220622T133000
DTEND;TZID=Europe/Paris:20220622T163000
DTSTAMP:20260422T170119
CREATED:20220610T143518Z
LAST-MODIFIED:20220610T143518Z
UID:14524-1655904600-1655915400@biograndest.org
SUMMARY:Vigne Bio Ouverte : Installations en faveur de la biodiversité au vignoble
DESCRIPTION:L’Association des Champagne Biologique\, Bio en Grand Est et la LPO Champagne-Ardenne vous invitent à une Vigne Bio Ouverte organisée le Mercredi 22 juin 2022 à 13h30 en compagnie de Cyril BONNET\, vigneron à Chamery (51)\, pour un Échange sur les aménagements en faveur de la Biodiversité au vignoble.  \nAu programme de l’après-midi : \n\nPrésentation du diagnostic biodiversité de la LPO\nApproche de l’agroforesterie du vigneron\nVisite des installations en faveur de la biodiversité\nTemps d’échange\n\nTélécharger le programme \n— \nInscription obligatoire auprès de Anaëlle COMESTAZ \nou par téléphone au 06 40 79 06 60 \n 
URL:https://biograndest.org/evenement/vigne-bio-ouverte-installations-en-faveur-de-la-biodiversite-au-vignoble/
LOCATION:Chamery (51)
CATEGORIES:Animation,Biodiversité,Marne
ATTACH;FMTTYPE=image/jpeg:https://biograndest.org/wp-content/uploads/2022/06/vbo-biodiversite.jpg
END:VEVENT
END:VCALENDAR