BEGIN:VCALENDAR
VERSION:2.0
PRODID:-//Bio Grand Est - ECPv6.15.14//NONSGML v1.0//EN
CALSCALE:GREGORIAN
METHOD:PUBLISH
X-WR-CALNAME:Bio Grand Est
X-ORIGINAL-URL:https://biograndest.org
X-WR-CALDESC:Évènements pour Bio Grand Est
REFRESH-INTERVAL;VALUE=DURATION:PT1H
X-Robots-Tag:noindex
X-PUBLISHED-TTL:PT1H
BEGIN:VTIMEZONE
TZID:Europe/Paris
BEGIN:DAYLIGHT
TZOFFSETFROM:+0100
TZOFFSETTO:+0200
TZNAME:CEST
DTSTART:20210328T010000
END:DAYLIGHT
BEGIN:STANDARD
TZOFFSETFROM:+0200
TZOFFSETTO:+0100
TZNAME:CET
DTSTART:20211031T010000
END:STANDARD
BEGIN:DAYLIGHT
TZOFFSETFROM:+0100
TZOFFSETTO:+0200
TZNAME:CEST
DTSTART:20220327T010000
END:DAYLIGHT
BEGIN:STANDARD
TZOFFSETFROM:+0200
TZOFFSETTO:+0100
TZNAME:CET
DTSTART:20221030T010000
END:STANDARD
BEGIN:DAYLIGHT
TZOFFSETFROM:+0100
TZOFFSETTO:+0200
TZNAME:CEST
DTSTART:20230326T010000
END:DAYLIGHT
BEGIN:STANDARD
TZOFFSETFROM:+0200
TZOFFSETTO:+0100
TZNAME:CET
DTSTART:20231029T010000
END:STANDARD
END:VTIMEZONE
BEGIN:VEVENT
DTSTART;TZID=Europe/Paris:20220705T090000
DTEND;TZID=Europe/Paris:20220705T170000
DTSTAMP:20260422T145538
CREATED:20220615T081336Z
LAST-MODIFIED:20220615T081336Z
UID:14532-1657011600-1657040400@biograndest.org
SUMMARY:Journée technique : La place de l'arbre dans la vigne
DESCRIPTION:Depuis presque un an\, domaines viticoles et organisations partenaires de France\, d’Allemagne et de Suisse travaillent au développement de la biodiversité dans le vignoble dans le cadre du projet VinBiodiv. \nDans ce contexte\, Bio en Grand Est et le Parc Naturel Régional des Ballons des Vosges organisent une journée technique en présentiel : \nLa place de l’arbre dans la vigne \n5 juillet 2022 – 9 heures – Colmar (RITTMO – 37 rue de Herrlisheim) \nAlain CANET\, spécialiste de l’agroforesterie\, présentera le matin une conférence sur la place de l’arbre dans l’écosystème de la vigne et commentera\, l’après-midi\, les systèmes agroforestiers de deux domaines viticoles du village d’Ammerschwihr. \nCette journée est ouverte à tous les professionnels du milieu viticole qui s’intéressent à la cohabitation entre vignes et arbres\, autour ou dans les parcelles viticoles. \nLe programme détaillé est le suivant :  \nDans la matinée\,\n9:00 – Café d’Accueil (bâtiment RITTMO)\n9:30 – Alain CANET\, spécialiste de l’agroforesterie\, présentera la place de l’arbre dans l’écosystème de la vigne.\n12:30 – Pause déjeuner – organisée et prise en charge par Bio en Grand Est \nDans l’après-midi\,\n14:00 – Nous nous retrouvons dans le vignoble d’Ammerschwihr pour l’étude des systèmes agroforestiers en compagnie d’Alain CANET et de Delphine LACUISSE (Ligue de Protection des Oiseaux)\n17 :00 – Pot de l’amitié \nL’ensemble des interventions se dérouleront en français mais peuvent être traduite en allemand (sur inscription). La participation est gratuite. L’inscription est obligatoire avant le 28 juin ici. \nNous espérons vivement que vous serez présent le 05 juillet ! \nCe projet est cofinancé par le Fonds de développement régional européen.
URL:https://biograndest.org/evenement/journee-technique-la-place-de-larbre-dans-la-vigne/
LOCATION:Colmar (68)\, France
CATEGORIES:Alsace,Biodiversité,Techniques
ATTACH;FMTTYPE=image/jpeg:https://biograndest.org/wp-content/uploads/2022/06/vbo-biodiversite.jpg
END:VEVENT
END:VCALENDAR