BEGIN:VCALENDAR
VERSION:2.0
PRODID:-//Bio Grand Est - ECPv6.15.14//NONSGML v1.0//EN
CALSCALE:GREGORIAN
METHOD:PUBLISH
X-ORIGINAL-URL:https://biograndest.org
X-WR-CALDESC:Évènements pour Bio Grand Est
REFRESH-INTERVAL;VALUE=DURATION:PT1H
X-Robots-Tag:noindex
X-PUBLISHED-TTL:PT1H
BEGIN:VTIMEZONE
TZID:Europe/Paris
BEGIN:DAYLIGHT
TZOFFSETFROM:+0100
TZOFFSETTO:+0200
TZNAME:CEST
DTSTART:20210328T010000
END:DAYLIGHT
BEGIN:STANDARD
TZOFFSETFROM:+0200
TZOFFSETTO:+0100
TZNAME:CET
DTSTART:20211031T010000
END:STANDARD
BEGIN:DAYLIGHT
TZOFFSETFROM:+0100
TZOFFSETTO:+0200
TZNAME:CEST
DTSTART:20220327T010000
END:DAYLIGHT
BEGIN:STANDARD
TZOFFSETFROM:+0200
TZOFFSETTO:+0100
TZNAME:CET
DTSTART:20221030T010000
END:STANDARD
BEGIN:DAYLIGHT
TZOFFSETFROM:+0100
TZOFFSETTO:+0200
TZNAME:CEST
DTSTART:20230326T010000
END:DAYLIGHT
BEGIN:STANDARD
TZOFFSETFROM:+0200
TZOFFSETTO:+0100
TZNAME:CET
DTSTART:20231029T010000
END:STANDARD
END:VTIMEZONE
BEGIN:VEVENT
DTSTART;VALUE=DATE:20221117
DTEND;VALUE=DATE:20221118
DTSTAMP:20260422T075654
CREATED:20221021T095026Z
LAST-MODIFIED:20221021T095026Z
UID:15383-1668643200-1668729599@biograndest.org
SUMMARY:Mois de la Bio : Vinbiodiv – Biodiversité dans le vignoble
DESCRIPTION:Lancé en 2021\, VinBiodiv développe la biodiversité dans le vignoble du Rhin Supérieur. Le matin\, nous présenterons les travaux en cours. L’après-midi nous visiterons un vignoble et ferons une dégustation de vins issus de cépages résistants aux champignons (PIWI). \nPour plus d’informations :   \nClément LAMY – 07 88 76 02 81 \n  \nAvec le soutien de : Interreg\, Agence de l’Eau Rhin-Meuse\, Région Grand Est
URL:https://biograndest.org/evenement/mois-de-la-bio-vinbiodiv-biodiversite-dans-le-vignoble/
LOCATION:Heitersheim (Allemagne)\, Malteserhalle\, Jahnstrasse 22\, Heitersheim\, 79423\, Allemagne
CATEGORIES:Alsace,Biodiversité,Evènement
ATTACH;FMTTYPE=image/jpeg:https://biograndest.org/wp-content/uploads/2022/10/viti-mdb22.jpg
END:VEVENT
END:VCALENDAR