BEGIN:VCALENDAR
VERSION:2.0
PRODID:-//Bio Grand Est - ECPv6.15.14//NONSGML v1.0//EN
CALSCALE:GREGORIAN
METHOD:PUBLISH
X-WR-CALNAME:Bio Grand Est
X-ORIGINAL-URL:https://biograndest.org
X-WR-CALDESC:Évènements pour Bio Grand Est
REFRESH-INTERVAL;VALUE=DURATION:PT1H
X-Robots-Tag:noindex
X-PUBLISHED-TTL:PT1H
BEGIN:VTIMEZONE
TZID:Europe/Paris
BEGIN:DAYLIGHT
TZOFFSETFROM:+0100
TZOFFSETTO:+0200
TZNAME:CEST
DTSTART:20220327T010000
END:DAYLIGHT
BEGIN:STANDARD
TZOFFSETFROM:+0200
TZOFFSETTO:+0100
TZNAME:CET
DTSTART:20221030T010000
END:STANDARD
BEGIN:DAYLIGHT
TZOFFSETFROM:+0100
TZOFFSETTO:+0200
TZNAME:CEST
DTSTART:20230326T010000
END:DAYLIGHT
BEGIN:STANDARD
TZOFFSETFROM:+0200
TZOFFSETTO:+0100
TZNAME:CET
DTSTART:20231029T010000
END:STANDARD
BEGIN:DAYLIGHT
TZOFFSETFROM:+0100
TZOFFSETTO:+0200
TZNAME:CEST
DTSTART:20240331T010000
END:DAYLIGHT
BEGIN:STANDARD
TZOFFSETFROM:+0200
TZOFFSETTO:+0100
TZNAME:CET
DTSTART:20241027T010000
END:STANDARD
END:VTIMEZONE
BEGIN:VEVENT
DTSTART;TZID=Europe/Paris:20230119T090000
DTEND;TZID=Europe/Paris:20230119T170000
DTSTAMP:20260422T042915
CREATED:20230103T122541Z
LAST-MODIFIED:20230103T122744Z
UID:15752-1674118800-1674147600@biograndest.org
SUMMARY:Formation - Comment entretenir ma haie pour atteindre mes objectifs
DESCRIPTION:Dans le cadre du Plan de Relance et de Plantons des Haies\, le CIVAM de l’Oasis et ses partenaires (Bio en Grand Est\, LPO Champagne Ardennes\, ReNard) vous accompagnent dans la réflexion et l’implantation de votre projet de haie. \nAfin d’acquérir les bases de l’entretien d’une haie mais aussi garantir sa durabilité et son rôle sur la biodiversité locale\, nous vous proposons d’assister à une formation collective : \nComment entretenir ma haie pour atteindre mes objectifs\,\nle jeudi 19 janvier 2022 à la Mairie de Matougues\, 51150 MATOUGUES\navec la visite de deux fermes\n  \nCette formation\, finançable par Vivéa\, a pour objectif de vous aider à entretenir votre haie en intégrant tous les facteurs pour atteindre a vos objectifs avec ce type de infrastructure agroécologique. \nConsultez le programme détaillé de la formation ICI \nInscription à réaliser auprès de  Anaëlle COMESTAZ \nSi vous êtes en situation de handicap\, contactez le responsable de la formation afin de connaître les modalités d’accueil possible.
URL:https://biograndest.org/evenement/formation-comment-entretenir-ma-haie-pour-atteindre-mes-objectifs/
LOCATION:Matougues\, 13\, Grande Rue\, Matougues
CATEGORIES:Biodiversité,Champagne,Formation,Marne
ATTACH;FMTTYPE=image/jpeg:https://biograndest.org/wp-content/uploads/2021/01/biodiversité_BGE.jpg
END:VEVENT
END:VCALENDAR