BEGIN:VCALENDAR
VERSION:2.0
PRODID:-//Bio Grand Est - ECPv6.15.14//NONSGML v1.0//EN
CALSCALE:GREGORIAN
METHOD:PUBLISH
X-ORIGINAL-URL:https://biograndest.org
X-WR-CALDESC:Évènements pour Bio Grand Est
REFRESH-INTERVAL;VALUE=DURATION:PT1H
X-Robots-Tag:noindex
X-PUBLISHED-TTL:PT1H
BEGIN:VTIMEZONE
TZID:Europe/Paris
BEGIN:DAYLIGHT
TZOFFSETFROM:+0100
TZOFFSETTO:+0200
TZNAME:CEST
DTSTART:20220327T010000
END:DAYLIGHT
BEGIN:STANDARD
TZOFFSETFROM:+0200
TZOFFSETTO:+0100
TZNAME:CET
DTSTART:20221030T010000
END:STANDARD
BEGIN:DAYLIGHT
TZOFFSETFROM:+0100
TZOFFSETTO:+0200
TZNAME:CEST
DTSTART:20230326T010000
END:DAYLIGHT
BEGIN:STANDARD
TZOFFSETFROM:+0200
TZOFFSETTO:+0100
TZNAME:CET
DTSTART:20231029T010000
END:STANDARD
BEGIN:DAYLIGHT
TZOFFSETFROM:+0100
TZOFFSETTO:+0200
TZNAME:CEST
DTSTART:20240331T010000
END:DAYLIGHT
BEGIN:STANDARD
TZOFFSETFROM:+0200
TZOFFSETTO:+0100
TZNAME:CET
DTSTART:20241027T010000
END:STANDARD
END:VTIMEZONE
BEGIN:VEVENT
DTSTART;TZID=Europe/Paris:20230607T090000
DTEND;TZID=Europe/Paris:20230607T170000
DTSTAMP:20260421T192628
CREATED:20230523T102200Z
LAST-MODIFIED:20230523T113401Z
UID:16622-1686128400-1686157200@biograndest.org
SUMMARY:Formation : Entomofaune auxiliaire en grandes cultures biologiques : la reconnaître\, la comprendre et la favoriser.
DESCRIPTION:Objectif de la formation : Reconnaitre les auxiliaires des grandes cultures bio\, leurs besoins et leurs fonctions. Adapter l’environnement de sa ferme pour augmenter l’entomofaune auxiliaire. \nDurée : 14 heures soit 2 jour(s) \nIntervenante : Johanna Villenave-Chasset\, docteure en entomologie et écologie du paysage\, directrice du bureau d’étude Flor’Insectes \nProgramme de la formation :\nMercredi 07 juin 2023 à Houdilcourt (08) :Matin : – Présentation des différentes familles d’auxiliaires\, leur biologie\, leurs rôles;\n-Identifier certains groupes et leurs caractéristiques (carabes\, syrphes\, chrysopes\, coccinelles…);\n-utilisation de la clé de détermination simplifiée d’auximore;\n-notions de bio-écologie des auxiliaires.\nAprès-midi\, sur le terrain :\n-Observation des auxiliaires de cultures (légumineuses\, céréales…) et dans les abords des parcelles;\n-Détermination de ces auxiliaires. \nVendredi 24 novembre 2023 à Houdilcourt (08):\nMatin : Description des différents aménagements du paysage favorables aux différents types d’auxiliaires : haies (type de haie\, essences\, entretien…)\, bandes fleuries (types de plantes)\, intercultures (espèces\, stade de destruction)\, couverts associés aux cultures\, rotations.\nAprès-midi : Travaux pratiques à partir de photos aériennes des exploitations des stagiaires : identification des zones à « enjeux paysager »\, dessin sur carte des projets d’aménagements et échanges avec le groupe. \nPour retrouver le programme complet et le formulaire d’inscription de la formation\, cliquez ICI. \nPour tous renseignements ou inscription\, veuillez contacter : Aurélie PARANT-SONGY : aurelie.songy@biograndest.org / 06.88.28.37.68 \n  \nInscription souhaitée avant le 31 mai 2023.
URL:https://biograndest.org/evenement/formation-entomofaune-auxiliaire-en-grandes-cultures-biologiques-la-reconnaitre-la-comprendre-et-la-favoriser/
LOCATION:Houdilcourt
CATEGORIES:Ardennes,Biodiversité,Formation,Techniques
ATTACH;FMTTYPE=image/jpeg:https://biograndest.org/wp-content/uploads/2019/03/LOR_insecteWeb.jpg
END:VEVENT
BEGIN:VEVENT
DTSTART;TZID=Europe/Paris:20230616T090000
DTEND;TZID=Europe/Paris:20230616T170000
DTSTAMP:20260421T192628
CREATED:20230426T070057Z
LAST-MODIFIED:20230426T073624Z
UID:16471-1686906000-1686934800@biograndest.org
SUMMARY:VinBioDiv : séminaire de clôture
DESCRIPTION:Préserver la biodiversité sur le territoire\, améliorer la résilience de notre production viticole\, promouvoir les actions agro-environnementales mises en place localement\, mutualiser nos expériences sur tout le bassin rhénan …\nC’est tout l’enjeu du projet VinBiodiv ! \nRendez-vous le 16 Juin 2023 – Kientzheim – Confrérie Saint Étienne d’Alsace \nLe programme détaillé à venir ! \nLa matinée\, sera scindée en deux temps : \n1. Nous présenterons les travaux réalisés durant le projet avec les partenaires des trois pays engagés: France\, Allemagne et Suisse\, le tout accessible en français et en allemand; \n2. Nous remettrons les prix aux gagnants du Vititrophée\, premier trophée viticole qui vise à promouvoir et encourager les pratiques favorables à la biodiversité \nCette matinée sera suivi d’un cocktail déjeunatoire sur place. \nVous pouvez dores et déjà vous inscrire ICI \nPour plus d’informations : Clément LAMY\, 07 88 76 02 09
URL:https://biograndest.org/evenement/vinbiodiv-seminaire-de-cloture/
LOCATION:Kientzheim (68)
CATEGORIES:Alsace,Biodiversité
ATTACH;FMTTYPE=image/jpeg:https://biograndest.org/wp-content/uploads/2022/06/vbo-biodiversite.jpg
END:VEVENT
END:VCALENDAR