BEGIN:VCALENDAR
VERSION:2.0
PRODID:-//Bio Grand Est - ECPv6.15.14//NONSGML v1.0//EN
CALSCALE:GREGORIAN
METHOD:PUBLISH
X-ORIGINAL-URL:https://biograndest.org
X-WR-CALDESC:Évènements pour Bio Grand Est
REFRESH-INTERVAL;VALUE=DURATION:PT1H
X-Robots-Tag:noindex
X-PUBLISHED-TTL:PT1H
BEGIN:VTIMEZONE
TZID:Europe/Paris
BEGIN:DAYLIGHT
TZOFFSETFROM:+0100
TZOFFSETTO:+0200
TZNAME:CEST
DTSTART:20220327T010000
END:DAYLIGHT
BEGIN:STANDARD
TZOFFSETFROM:+0200
TZOFFSETTO:+0100
TZNAME:CET
DTSTART:20221030T010000
END:STANDARD
BEGIN:DAYLIGHT
TZOFFSETFROM:+0100
TZOFFSETTO:+0200
TZNAME:CEST
DTSTART:20230326T010000
END:DAYLIGHT
BEGIN:STANDARD
TZOFFSETFROM:+0200
TZOFFSETTO:+0100
TZNAME:CET
DTSTART:20231029T010000
END:STANDARD
BEGIN:DAYLIGHT
TZOFFSETFROM:+0100
TZOFFSETTO:+0200
TZNAME:CEST
DTSTART:20240331T010000
END:DAYLIGHT
BEGIN:STANDARD
TZOFFSETFROM:+0200
TZOFFSETTO:+0100
TZNAME:CET
DTSTART:20241027T010000
END:STANDARD
END:VTIMEZONE
BEGIN:VEVENT
DTSTART;TZID=Europe/Paris:20231109T100000
DTEND;TZID=Europe/Paris:20231109T170000
DTSTAMP:20260421T105106
CREATED:20230927T074825Z
LAST-MODIFIED:20231024T064737Z
UID:17254-1699524000-1699549200@biograndest.org
SUMMARY:Planter\, entretenir et valoriser ses haies. Pour qui\, pourquoi et comment ?
DESCRIPTION:Retours d’expérience de 3 fermes qui intègrent l’arbre à leur système de production. \nCorinne et Ernest HOEFFEL sont éleveurs sélectionneurs de Charolais (300 têtes dont 100 mères vaches) sur 170 ha de SAU et 40 ha de prairies situées en zone Natura 2000. Ils cultivent des céréales\, méteils complexes et prairies. Ils sont également producteurs de miel. 1er prix 2021 au concours général agricole « Pratiques agroécologiques – agroforesterie » :\n \nRetour de 5 ans de coopération engagée avec l’arbre et la biodiversité et d’expérience sur l’entretien des haies et la valorisation sous forme de plaquettes litières : \n\nTechnique et partenaires à l’entretien des haies et création de la plaquette\nExplication du mélange plaquette/paille à l’étable puis compostage à la ferme puis épandage sur cultures\nRésultat sur les sols et la production\, analyses des sols\n\nDaniel STARCK est paysan-boulanger à Seebach et produit sur 25ha des céréales panifiables en alternance avec des légumineuses ou des prairies temporaires. Clément SCHWEITZER est éleveur de porcs sur paille avec 250 truies avec 5000 porcelets par an et 97ha de céréales. Trophée national de l’agriculture durable en 2010 et Trophée du « leadership bien-être animal en élevage porcin » en 2011 : \n\nL’arbre comme solution en fonction des problématiques de chacun\nPriorisation du feeling\, du sentiment de bien-être sur sa ferme\, des questions d’argent et de terre perdue pour la plantation et l’entretien des haies\nTechniques de plantation et résultats visuels au fur et à mesure de la visite dans les champs\n\nTéléchargez le programme détaillé ICI \nInscription auprès de Patricia HEUZE \n 
URL:https://biograndest.org/evenement/planter-entretenir-et-valoriser-ses-haies-pour-qui-pourquoi-et-comment/
LOCATION:Ferme Hoeffel\, rrue de l’Eglise\, 67360 WALBOURG\, 67360
CATEGORIES:Alsace,Biodiversité,Climat
ATTACH;FMTTYPE=image/jpeg:https://biograndest.org/wp-content/uploads/2023/09/mdb-agrofor2023.jpg
END:VEVENT
END:VCALENDAR