BEGIN:VCALENDAR
VERSION:2.0
PRODID:-//Bio Grand Est - ECPv6.15.14//NONSGML v1.0//EN
CALSCALE:GREGORIAN
METHOD:PUBLISH
X-ORIGINAL-URL:https://biograndest.org
X-WR-CALDESC:Évènements pour Bio Grand Est
REFRESH-INTERVAL;VALUE=DURATION:PT1H
X-Robots-Tag:noindex
X-PUBLISHED-TTL:PT1H
BEGIN:VTIMEZONE
TZID:Europe/Paris
BEGIN:DAYLIGHT
TZOFFSETFROM:+0100
TZOFFSETTO:+0200
TZNAME:CEST
DTSTART:20250330T010000
END:DAYLIGHT
BEGIN:STANDARD
TZOFFSETFROM:+0200
TZOFFSETTO:+0100
TZNAME:CET
DTSTART:20251026T010000
END:STANDARD
BEGIN:DAYLIGHT
TZOFFSETFROM:+0100
TZOFFSETTO:+0200
TZNAME:CEST
DTSTART:20260329T010000
END:DAYLIGHT
BEGIN:STANDARD
TZOFFSETFROM:+0200
TZOFFSETTO:+0100
TZNAME:CET
DTSTART:20261025T010000
END:STANDARD
BEGIN:DAYLIGHT
TZOFFSETFROM:+0100
TZOFFSETTO:+0200
TZNAME:CEST
DTSTART:20270328T010000
END:DAYLIGHT
BEGIN:STANDARD
TZOFFSETFROM:+0200
TZOFFSETTO:+0100
TZNAME:CET
DTSTART:20271031T010000
END:STANDARD
END:VTIMEZONE
BEGIN:VEVENT
DTSTART;TZID=Europe/Paris:20260501T160000
DTEND;TZID=Europe/Paris:20260501T200000
DTSTAMP:20260425T203456
CREATED:20260424T172500Z
LAST-MODIFIED:20260424T172500Z
UID:23951-1777651200-1777665600@biograndest.org
SUMMARY:Marché de producteurs bio et locaux
DESCRIPTION:Le marché du vendredi soir\, également appelé « marché bio »\, accueille une dominante de produits de culture biologique : fruits\, légumes\, produits laitiers\, pains\, brioche et biscuits\, viandes\, pâtes… De quoi préparer de bons plats bio\, locaux et de saison ! \nAnimé par une douzaine de producteurs\, sa notoriété dépasse les limites de l’agglomération nancéienne. \nRetrouvez tous les rendez-vous du Printemps Bio  ICI
URL:https://biograndest.org/evenement/marche-de-producteurs-bio-et-locaux/
LOCATION:avenue du charmois 54500 Vandœuvre-lès-Nancy
CATEGORIES:Bon Bien Bio,Consommateurs,Evènement,Meurthe-et-Moselle
ATTACH;FMTTYPE=image/png:https://biograndest.org/wp-content/uploads/2026/04/ptpsbiovand-scaled.png
END:VEVENT
BEGIN:VEVENT
DTSTART;TZID=Europe/Paris:20260505T160000
DTEND;TZID=Europe/Paris:20260505T200000
DTSTAMP:20260425T203456
CREATED:20260424T094442Z
LAST-MODIFIED:20260424T094442Z
UID:23901-1777996800-1778011200@biograndest.org
SUMMARY:Fête des plants !
DESCRIPTION:Rendez-vous au  jardins du Papi\, chemin de Prédieu\, 54110 Varangéville pour une fête conviviale et chaleureuse !! \nAu programme :\n– Vente de plants de fraises et de légumes bio\n– Marché avec producteurs et artisans locaux\n– Animations : atelier purin d’ortie\, jeux…\n– Buvette et restauration sur place \nPlus d’info : 07 85 01 33 90 \nRetrouvez tous les rendez-vous du Printemps Bio  ICI
URL:https://biograndest.org/evenement/fete-des-plants/
LOCATION:Varangéville (54)
CATEGORIES:Bon Bien Bio,Evènement,Meurthe-et-Moselle
ATTACH;FMTTYPE=image/jpeg:https://biograndest.org/wp-content/uploads/2026/04/jardinpapi.jpg
END:VEVENT
BEGIN:VEVENT
DTSTART;TZID=Europe/Paris:20260508T160000
DTEND;TZID=Europe/Paris:20260508T200000
DTSTAMP:20260425T203456
CREATED:20260424T172622Z
LAST-MODIFIED:20260424T172622Z
UID:23954-1778256000-1778270400@biograndest.org
SUMMARY:Marché de producteurs bio et locaux
DESCRIPTION:Le marché du vendredi soir\, également appelé « marché bio »\, accueille une dominante de produits de culture biologique : fruits\, légumes\, produits laitiers\, pains\, brioche et biscuits\, viandes\, pâtes… De quoi préparer de bons plats bio\, locaux et de saison ! \nAnimé par une douzaine de producteurs\, sa notoriété dépasse les limites de l’agglomération nancéienne. \nRetrouvez tous les rendez-vous du Printemps Bio  ICI
URL:https://biograndest.org/evenement/marche-de-producteurs-bio-et-locaux-2/
LOCATION:avenue du charmois 54500 Vandœuvre-lès-Nancy
CATEGORIES:Bon Bien Bio,Consommateurs,Evènement,Meurthe-et-Moselle
ATTACH;FMTTYPE=image/png:https://biograndest.org/wp-content/uploads/2026/04/ptpsbiovand-scaled.png
END:VEVENT
BEGIN:VEVENT
DTSTART;TZID=Europe/Paris:20260515T160000
DTEND;TZID=Europe/Paris:20260515T190000
DTSTAMP:20260425T203456
CREATED:20260424T170759Z
LAST-MODIFIED:20260424T170759Z
UID:23932-1778860800-1778871600@biograndest.org
SUMMARY:L'Autre Marché
DESCRIPTION:Rendez-vous sous la Halle Ouverte pour un marché 100% bio local ! \nChaque vendredi de 16h à 19h\, rencontrez vos producteurs locaux certifiés bio sous la Halle Ouverte\, sur le marché bio et local. \nFruits\, légumes\, formages et autres produits laitiers\, pains et biscuits\, huiles\, légumineuses\, viande… Tout ce qu’il faut pour concocter de délicieux plats bio\, locaux\, de saison pour ravir les papilles des petits et des grands. \nPour découvrir les producteurs bio du marché et les animations proposées : https://www.octroi-nancy.fr/marche-bio/ \n  \nRetrouvez tous les rendez-vous du Printemps Bio  ICI
URL:https://biograndest.org/evenement/autremarche1/
LOCATION:47 Boulevard d’Austrasie – Nancy (54)
CATEGORIES:Bon Bien Bio,Consommateurs,Evènement,Meurthe-et-Moselle
ATTACH;FMTTYPE=image/png:https://biograndest.org/wp-content/uploads/2026/04/autremarche-scaled.png
END:VEVENT
BEGIN:VEVENT
DTSTART;TZID=Europe/Paris:20260515T160000
DTEND;TZID=Europe/Paris:20260515T200000
DTSTAMP:20260425T203456
CREATED:20260424T172832Z
LAST-MODIFIED:20260424T172832Z
UID:23956-1778860800-1778875200@biograndest.org
SUMMARY:Marché de producteurs bio et locaux
DESCRIPTION:Le marché du vendredi soir\, également appelé « marché bio »\, accueille une dominante de produits de culture biologique : fruits\, légumes\, produits laitiers\, pains\, brioche et biscuits\, viandes\, pâtes… De quoi préparer de bons plats bio\, locaux et de saison ! \nAnimé par une douzaine de producteurs\, sa notoriété dépasse les limites de l’agglomération nancéienne. \nRetrouvez tous les rendez-vous du Printemps Bio  ICI
URL:https://biograndest.org/evenement/marche-de-producteurs-bio-et-locaux-3/
LOCATION:avenue du charmois 54500 Vandœuvre-lès-Nancy
CATEGORIES:Bon Bien Bio,Consommateurs,Evènement,Meurthe-et-Moselle
ATTACH;FMTTYPE=image/png:https://biograndest.org/wp-content/uploads/2026/04/ptpsbiovand-scaled.png
END:VEVENT
BEGIN:VEVENT
DTSTART;TZID=Europe/Paris:20260522T160000
DTEND;TZID=Europe/Paris:20260522T190000
DTSTAMP:20260425T203456
CREATED:20260424T170930Z
LAST-MODIFIED:20260424T170930Z
UID:23936-1779465600-1779476400@biograndest.org
SUMMARY:L'Autre Marché
DESCRIPTION:Rendez-vous sous la Halle Ouverte pour un marché 100% bio local ! \nChaque vendredi de 16h à 19h\, rencontrez vos producteurs locaux certifiés bio sous la Halle Ouverte\, sur le marché bio et local. \nFruits\, légumes\, formages et autres produits laitiers\, pains et biscuits\, huiles\, légumineuses\, viande… Tout ce qu’il faut pour concocter de délicieux plats bio\, locaux\, de saison pour ravir les papilles des petits et des grands. \nPour découvrir les producteurs bio du marché et les animations proposées : https://www.octroi-nancy.fr/marche-bio/ \n  \nRetrouvez tous les rendez-vous du Printemps Bio  ICI
URL:https://biograndest.org/evenement/lautre-marche2/
LOCATION:47 Boulevard d’Austrasie – Nancy (54)
CATEGORIES:Bon Bien Bio,Consommateurs,Evènement,Meurthe-et-Moselle
ATTACH;FMTTYPE=image/png:https://biograndest.org/wp-content/uploads/2026/04/autremarche-scaled.png
END:VEVENT
BEGIN:VEVENT
DTSTART;TZID=Europe/Paris:20260522T160000
DTEND;TZID=Europe/Paris:20260522T200000
DTSTAMP:20260425T203456
CREATED:20260424T172942Z
LAST-MODIFIED:20260424T172942Z
UID:23958-1779465600-1779480000@biograndest.org
SUMMARY:Marché de producteurs bio et locaux
DESCRIPTION:Le marché du vendredi soir\, également appelé « marché bio »\, accueille une dominante de produits de culture biologique : fruits\, légumes\, produits laitiers\, pains\, brioche et biscuits\, viandes\, pâtes… De quoi préparer de bons plats bio\, locaux et de saison ! \nAnimé par une douzaine de producteurs\, sa notoriété dépasse les limites de l’agglomération nancéienne. \nRetrouvez tous les rendez-vous du Printemps Bio  ICI
URL:https://biograndest.org/evenement/marche-de-producteurs-bio-et-locaux-4/
LOCATION:avenue du charmois 54500 Vandœuvre-lès-Nancy
CATEGORIES:Bon Bien Bio,Consommateurs,Evènement,Meurthe-et-Moselle
ATTACH;FMTTYPE=image/png:https://biograndest.org/wp-content/uploads/2026/04/ptpsbiovand-scaled.png
END:VEVENT
BEGIN:VEVENT
DTSTART;TZID=Europe/Paris:20260529T160000
DTEND;TZID=Europe/Paris:20260529T190000
DTSTAMP:20260425T203456
CREATED:20260424T171040Z
LAST-MODIFIED:20260424T171051Z
UID:23938-1780070400-1780081200@biograndest.org
SUMMARY:L'Autre Marché
DESCRIPTION:Rendez-vous sous la Halle Ouverte pour un marché 100% bio local ! \nChaque vendredi de 16h à 19h\, rencontrez vos producteurs locaux certifiés bio sous la Halle Ouverte\, sur le marché bio et local. \nFruits\, légumes\, formages et autres produits laitiers\, pains et biscuits\, huiles\, légumineuses\, viande… Tout ce qu’il faut pour concocter de délicieux plats bio\, locaux\, de saison pour ravir les papilles des petits et des grands. \nPour découvrir les producteurs bio du marché et les animations proposées : https://www.octroi-nancy.fr/marche-bio/ \n  \nRetrouvez tous les rendez-vous du Printemps Bio  ICI
URL:https://biograndest.org/evenement/lautre-marche3/
LOCATION:47 Boulevard d’Austrasie – Nancy (54)
CATEGORIES:Bon Bien Bio,Consommateurs,Evènement,Meurthe-et-Moselle
ATTACH;FMTTYPE=image/png:https://biograndest.org/wp-content/uploads/2026/04/autremarche-scaled.png
END:VEVENT
BEGIN:VEVENT
DTSTART;TZID=Europe/Paris:20260529T160000
DTEND;TZID=Europe/Paris:20260529T200000
DTSTAMP:20260425T203456
CREATED:20260424T173054Z
LAST-MODIFIED:20260424T173054Z
UID:23960-1780070400-1780084800@biograndest.org
SUMMARY:Marché de producteurs bio et locaux
DESCRIPTION:Le marché du vendredi soir\, également appelé « marché bio »\, accueille une dominante de produits de culture biologique : fruits\, légumes\, produits laitiers\, pains\, brioche et biscuits\, viandes\, pâtes… De quoi préparer de bons plats bio\, locaux et de saison ! \nAnimé par une douzaine de producteurs\, sa notoriété dépasse les limites de l’agglomération nancéienne. \nRetrouvez tous les rendez-vous du Printemps Bio  ICI
URL:https://biograndest.org/evenement/marche-de-producteurs-bio-et-locaux-5/
LOCATION:avenue du charmois 54500 Vandœuvre-lès-Nancy
CATEGORIES:Bon Bien Bio,Consommateurs,Evènement,Meurthe-et-Moselle
ATTACH;FMTTYPE=image/png:https://biograndest.org/wp-content/uploads/2026/04/ptpsbiovand-scaled.png
END:VEVENT
END:VCALENDAR