BEGIN:VCALENDAR
VERSION:2.0
PRODID:-//Bio Grand Est - ECPv6.15.14//NONSGML v1.0//EN
CALSCALE:GREGORIAN
METHOD:PUBLISH
X-ORIGINAL-URL:https://biograndest.org
X-WR-CALDESC:Évènements pour Bio Grand Est
REFRESH-INTERVAL;VALUE=DURATION:PT1H
X-Robots-Tag:noindex
X-PUBLISHED-TTL:PT1H
BEGIN:VTIMEZONE
TZID:Europe/Paris
BEGIN:DAYLIGHT
TZOFFSETFROM:+0100
TZOFFSETTO:+0200
TZNAME:CEST
DTSTART:20250330T010000
END:DAYLIGHT
BEGIN:STANDARD
TZOFFSETFROM:+0200
TZOFFSETTO:+0100
TZNAME:CET
DTSTART:20251026T010000
END:STANDARD
BEGIN:DAYLIGHT
TZOFFSETFROM:+0100
TZOFFSETTO:+0200
TZNAME:CEST
DTSTART:20260329T010000
END:DAYLIGHT
BEGIN:STANDARD
TZOFFSETFROM:+0200
TZOFFSETTO:+0100
TZNAME:CET
DTSTART:20261025T010000
END:STANDARD
BEGIN:DAYLIGHT
TZOFFSETFROM:+0100
TZOFFSETTO:+0200
TZNAME:CEST
DTSTART:20270328T010000
END:DAYLIGHT
BEGIN:STANDARD
TZOFFSETFROM:+0200
TZOFFSETTO:+0100
TZNAME:CET
DTSTART:20271031T010000
END:STANDARD
END:VTIMEZONE
BEGIN:VEVENT
DTSTART;TZID=Europe/Paris:20260605T160000
DTEND;TZID=Europe/Paris:20260605T200000
DTSTAMP:20260425T192537
CREATED:20260424T173204Z
LAST-MODIFIED:20260424T173204Z
UID:23962-1780675200-1780689600@biograndest.org
SUMMARY:Marché de producteurs bio et locaux
DESCRIPTION:Le marché du vendredi soir\, également appelé « marché bio »\, accueille une dominante de produits de culture biologique : fruits\, légumes\, produits laitiers\, pains\, brioche et biscuits\, viandes\, pâtes… De quoi préparer de bons plats bio\, locaux et de saison ! \nAnimé par une douzaine de producteurs\, sa notoriété dépasse les limites de l’agglomération nancéienne. \nRetrouvez tous les rendez-vous du Printemps Bio  ICI
URL:https://biograndest.org/evenement/marche-de-producteurs-bio-et-locaux-6/
LOCATION:avenue du charmois 54500 Vandœuvre-lès-Nancy
CATEGORIES:Bon Bien Bio,Consommateurs,Evènement,Meurthe-et-Moselle
ATTACH;FMTTYPE=image/png:https://biograndest.org/wp-content/uploads/2026/04/ptpsbiovand-scaled.png
END:VEVENT
BEGIN:VEVENT
DTSTART;TZID=Europe/Paris:20260607T100000
DTEND;TZID=Europe/Paris:20260607T170000
DTSTAMP:20260425T192537
CREATED:20260409T122829Z
LAST-MODIFIED:20260421T072058Z
UID:23671-1780826400-1780851600@biograndest.org
SUMMARY:Vézelise fête l'Agriculture Bio !
DESCRIPTION:Marché de producteurs bio à Vézelise\nRendez-vous aux Halles de Vézelise pour une journée conviviale autour de la bio et du local ! \nProfitez d’un large choix d’activités et d’animations toute la journée. \n\nun marché de producteurs locaux bio\nun marché artisanal et de créateurs\nune mini ferme bio sous les halles\nune exposition de matériels agricoles du Village 1900 de Xaronval\nune exposition photo Nature proposée par le Club Photos du Saintois\n10 associations engagées pour l’environnement et l’agriculture (au grenier des halles)\n\nAu programme\n10h00 : Parade Bio au rythme de la batucada Néo Samba E Vida\, suivez le char des BIO et la transhumance de moutons depuis le parking Probiolor (côté G20) jusqu’au centre-ville. \n11h00 : Portes ouvertes de Probiolor \n14h00 : Concert sous les halles avec le groupe Au coin d’la rue \nRestauration bio sur place :\n\nBurgers locaux avec Les Fermiers d’ici\nFlammekueches au feu de bois avec Quoi qu’il en croûte & Boulange paysanne lorraine\nGlaces artisanales avec Ô Maribelle\nBuvette\n\nEntrée libre – Tout public\nLieu : Les Halles\, à Vézelise \n  \nRetrouvez tous les rendez-vous du Printemps Bio  ICI
URL:https://biograndest.org/evenement/vezelise-fete-lagriculture-bio-2/
LOCATION:Vézelise (54)
CATEGORIES:Animation,Bon Bien Bio,Evènement,Meurthe-et-Moselle
ATTACH;FMTTYPE=image/jpeg:https://biograndest.org/wp-content/uploads/2026/03/fete-vezelise-scaled.jpg
END:VEVENT
BEGIN:VEVENT
DTSTART;TZID=Europe/Paris:20260612T160000
DTEND;TZID=Europe/Paris:20260612T190000
DTSTAMP:20260425T192537
CREATED:20260424T171327Z
LAST-MODIFIED:20260424T171327Z
UID:23943-1781280000-1781290800@biograndest.org
SUMMARY:L'Autre Marché
DESCRIPTION:Rendez-vous sous la Halle Ouverte pour un marché 100% bio local ! \nChaque vendredi de 16h à 19h\, rencontrez vos producteurs locaux certifiés bio sous la Halle Ouverte\, sur le marché bio et local. \nFruits\, légumes\, formages et autres produits laitiers\, pains et biscuits\, huiles\, légumineuses\, viande… Tout ce qu’il faut pour concocter de délicieux plats bio\, locaux\, de saison pour ravir les papilles des petits et des grands. \nPour découvrir les producteurs bio du marché et les animations proposées : https://www.octroi-nancy.fr/marche-bio/ \n  \nRetrouvez tous les rendez-vous du Printemps Bio  ICI
URL:https://biograndest.org/evenement/lautre-marche5/
LOCATION:47 Boulevard d’Austrasie – Nancy (54)
CATEGORIES:Bon Bien Bio,Consommateurs,Evènement,Meurthe-et-Moselle
ATTACH;FMTTYPE=image/png:https://biograndest.org/wp-content/uploads/2026/04/autremarche-scaled.png
END:VEVENT
BEGIN:VEVENT
DTSTART;TZID=Europe/Paris:20260612T160000
DTEND;TZID=Europe/Paris:20260612T200000
DTSTAMP:20260425T192537
CREATED:20260424T173316Z
LAST-MODIFIED:20260424T173316Z
UID:23964-1781280000-1781294400@biograndest.org
SUMMARY:Marché de producteurs bio et locaux
DESCRIPTION:Le marché du vendredi soir\, également appelé « marché bio »\, accueille une dominante de produits de culture biologique : fruits\, légumes\, produits laitiers\, pains\, brioche et biscuits\, viandes\, pâtes… De quoi préparer de bons plats bio\, locaux et de saison ! \nAnimé par une douzaine de producteurs\, sa notoriété dépasse les limites de l’agglomération nancéienne. \nRetrouvez tous les rendez-vous du Printemps Bio  ICI
URL:https://biograndest.org/evenement/marche-de-producteurs-bio-et-locaux-7/
LOCATION:avenue du charmois 54500 Vandœuvre-lès-Nancy
CATEGORIES:Bon Bien Bio,Consommateurs,Evènement,Meurthe-et-Moselle
ATTACH;FMTTYPE=image/png:https://biograndest.org/wp-content/uploads/2026/04/ptpsbiovand-scaled.png
END:VEVENT
BEGIN:VEVENT
DTSTART;TZID=Europe/Paris:20260619T160000
DTEND;TZID=Europe/Paris:20260619T190000
DTSTAMP:20260425T192537
CREATED:20260424T171609Z
LAST-MODIFIED:20260424T171609Z
UID:23945-1781884800-1781895600@biograndest.org
SUMMARY:L'Autre Marché
DESCRIPTION:Rendez-vous sous la Halle Ouverte pour un marché 100% bio local ! \nChaque vendredi de 16h à 19h\, rencontrez vos producteurs locaux certifiés bio sous la Halle Ouverte\, sur le marché bio et local. \nFruits\, légumes\, formages et autres produits laitiers\, pains et biscuits\, huiles\, légumineuses\, viande… Tout ce qu’il faut pour concocter de délicieux plats bio\, locaux\, de saison pour ravir les papilles des petits et des grands. \nEt ce vendredi à 17h\, profitez d’un Petit Moment avec un concert gratuit de Second Cockpit ! \nPour découvrir les producteurs bio du marché et les animations proposées : https://www.octroi-nancy.fr/marche-bio/ \n  \nRetrouvez tous les rendez-vous du Printemps Bio  ICI
URL:https://biograndest.org/evenement/lautre-marche6/
LOCATION:47 Boulevard d’Austrasie – Nancy (54)
CATEGORIES:Bon Bien Bio,Consommateurs,Evènement,Meurthe-et-Moselle
ATTACH;FMTTYPE=image/png:https://biograndest.org/wp-content/uploads/2026/04/autremarche-scaled.png
END:VEVENT
BEGIN:VEVENT
DTSTART;TZID=Europe/Paris:20260619T160000
DTEND;TZID=Europe/Paris:20260619T200000
DTSTAMP:20260425T192537
CREATED:20260424T173423Z
LAST-MODIFIED:20260424T173423Z
UID:23966-1781884800-1781899200@biograndest.org
SUMMARY:Marché de producteurs bio et locaux
DESCRIPTION:Le marché du vendredi soir\, également appelé « marché bio »\, accueille une dominante de produits de culture biologique : fruits\, légumes\, produits laitiers\, pains\, brioche et biscuits\, viandes\, pâtes… De quoi préparer de bons plats bio\, locaux et de saison ! \nAnimé par une douzaine de producteurs\, sa notoriété dépasse les limites de l’agglomération nancéienne. \nRetrouvez tous les rendez-vous du Printemps Bio  ICI
URL:https://biograndest.org/evenement/marche-de-producteurs-bio-et-locaux-8/
LOCATION:avenue du charmois 54500 Vandœuvre-lès-Nancy
CATEGORIES:Bon Bien Bio,Consommateurs,Evènement,Meurthe-et-Moselle
ATTACH;FMTTYPE=image/png:https://biograndest.org/wp-content/uploads/2026/04/ptpsbiovand-scaled.png
END:VEVENT
BEGIN:VEVENT
DTSTART;TZID=Europe/Paris:20260626T160000
DTEND;TZID=Europe/Paris:20260626T190000
DTSTAMP:20260425T192537
CREATED:20260424T171746Z
LAST-MODIFIED:20260424T171746Z
UID:23947-1782489600-1782500400@biograndest.org
SUMMARY:L'Autre Marché
DESCRIPTION:Rendez-vous sous la Halle Ouverte pour un marché 100% bio local ! \nChaque vendredi de 16h à 19h\, rencontrez vos producteurs locaux certifiés bio sous la Halle Ouverte\, sur le marché bio et local. \nFruits\, légumes\, formages et autres produits laitiers\, pains et biscuits\, huiles\, légumineuses\, viande… Tout ce qu’il faut pour concocter de délicieux plats bio\, locaux\, de saison pour ravir les papilles des petits et des grands. \nPour découvrir les producteurs bio du marché et les animations proposées : https://www.octroi-nancy.fr/marche-bio/ \n  \nRetrouvez tous les rendez-vous du Printemps Bio  ICI
URL:https://biograndest.org/evenement/lautre-marche7/
LOCATION:47 Boulevard d’Austrasie – Nancy (54)
CATEGORIES:Bon Bien Bio,Consommateurs,Evènement,Meurthe-et-Moselle
ATTACH;FMTTYPE=image/png:https://biograndest.org/wp-content/uploads/2026/04/autremarche-scaled.png
END:VEVENT
BEGIN:VEVENT
DTSTART;TZID=Europe/Paris:20260626T160000
DTEND;TZID=Europe/Paris:20260626T200000
DTSTAMP:20260425T192537
CREATED:20260424T173528Z
LAST-MODIFIED:20260424T173528Z
UID:23968-1782489600-1782504000@biograndest.org
SUMMARY:Marché de producteurs bio et locaux
DESCRIPTION:Le marché du vendredi soir\, également appelé « marché bio »\, accueille une dominante de produits de culture biologique : fruits\, légumes\, produits laitiers\, pains\, brioche et biscuits\, viandes\, pâtes… De quoi préparer de bons plats bio\, locaux et de saison ! \nAnimé par une douzaine de producteurs\, sa notoriété dépasse les limites de l’agglomération nancéienne. \nRetrouvez tous les rendez-vous du Printemps Bio  ICI
URL:https://biograndest.org/evenement/marche-de-producteurs-bio-et-locaux-9/
LOCATION:avenue du charmois 54500 Vandœuvre-lès-Nancy
CATEGORIES:Bon Bien Bio,Consommateurs,Evènement,Meurthe-et-Moselle
ATTACH;FMTTYPE=image/png:https://biograndest.org/wp-content/uploads/2026/04/ptpsbiovand-scaled.png
END:VEVENT
BEGIN:VEVENT
DTSTART;TZID=Europe/Paris:20260703T160000
DTEND;TZID=Europe/Paris:20260703T190000
DTSTAMP:20260425T192537
CREATED:20260424T171926Z
LAST-MODIFIED:20260424T171926Z
UID:23949-1783094400-1783105200@biograndest.org
SUMMARY:L'Autre Marché
DESCRIPTION:Rendez-vous sous la Halle Ouverte pour un marché 100% bio local ! \nChaque vendredi de 16h à 19h\, rencontrez vos producteurs locaux certifiés bio sous la Halle Ouverte\, sur le marché bio et local. \nFruits\, légumes\, formages et autres produits laitiers\, pains et biscuits\, huiles\, légumineuses\, viande… Tout ce qu’il faut pour concocter de délicieux plats bio\, locaux\, de saison pour ravir les papilles des petits et des grands. \nPour découvrir les producteurs bio du marché et les animations proposées : https://www.octroi-nancy.fr/marche-bio/ \n  \nRetrouvez tous les rendez-vous du Printemps Bio  ICI
URL:https://biograndest.org/evenement/lautre-marche/
LOCATION:47 Boulevard d’Austrasie – Nancy (54)
CATEGORIES:Bon Bien Bio,Consommateurs,Evènement,Meurthe-et-Moselle
ATTACH;FMTTYPE=image/png:https://biograndest.org/wp-content/uploads/2026/04/autremarche-scaled.png
END:VEVENT
BEGIN:VEVENT
DTSTART;TZID=Europe/Paris:20260703T160000
DTEND;TZID=Europe/Paris:20260703T200000
DTSTAMP:20260425T192537
CREATED:20260424T173659Z
LAST-MODIFIED:20260424T173659Z
UID:23970-1783094400-1783108800@biograndest.org
SUMMARY:Marché de producteurs bio et locaux
DESCRIPTION:Le marché du vendredi soir\, également appelé « marché bio »\, accueille une dominante de produits de culture biologique : fruits\, légumes\, produits laitiers\, pains\, brioche et biscuits\, viandes\, pâtes… De quoi préparer de bons plats bio\, locaux et de saison ! \nAnimé par une douzaine de producteurs\, sa notoriété dépasse les limites de l’agglomération nancéienne. \nRetrouvez tous les rendez-vous du Printemps Bio  ICI
URL:https://biograndest.org/evenement/marche-de-producteurs-bio-et-locaux-10/
LOCATION:avenue du charmois 54500 Vandœuvre-lès-Nancy
CATEGORIES:Bon Bien Bio,Consommateurs,Evènement,Meurthe-et-Moselle
ATTACH;FMTTYPE=image/png:https://biograndest.org/wp-content/uploads/2026/04/ptpsbiovand-scaled.png
END:VEVENT
END:VCALENDAR