BEGIN:VCALENDAR
VERSION:2.0
PRODID:-//Bio Grand Est - ECPv6.15.14//NONSGML v1.0//EN
CALSCALE:GREGORIAN
METHOD:PUBLISH
X-WR-CALNAME:Bio Grand Est
X-ORIGINAL-URL:https://biograndest.org
X-WR-CALDESC:Évènements pour Bio Grand Est
REFRESH-INTERVAL;VALUE=DURATION:PT1H
X-Robots-Tag:noindex
X-PUBLISHED-TTL:PT1H
BEGIN:VTIMEZONE
TZID:Europe/Paris
BEGIN:DAYLIGHT
TZOFFSETFROM:+0100
TZOFFSETTO:+0200
TZNAME:CEST
DTSTART:20210328T010000
END:DAYLIGHT
BEGIN:STANDARD
TZOFFSETFROM:+0200
TZOFFSETTO:+0100
TZNAME:CET
DTSTART:20211031T010000
END:STANDARD
BEGIN:DAYLIGHT
TZOFFSETFROM:+0100
TZOFFSETTO:+0200
TZNAME:CEST
DTSTART:20220327T010000
END:DAYLIGHT
BEGIN:STANDARD
TZOFFSETFROM:+0200
TZOFFSETTO:+0100
TZNAME:CET
DTSTART:20221030T010000
END:STANDARD
BEGIN:DAYLIGHT
TZOFFSETFROM:+0100
TZOFFSETTO:+0200
TZNAME:CEST
DTSTART:20230326T010000
END:DAYLIGHT
BEGIN:STANDARD
TZOFFSETFROM:+0200
TZOFFSETTO:+0100
TZNAME:CET
DTSTART:20231029T010000
END:STANDARD
END:VTIMEZONE
BEGIN:VEVENT
DTSTART;VALUE=DATE:20220310
DTEND;VALUE=DATE:20220311
DTSTAMP:20260424T024028
CREATED:20220224T092339Z
LAST-MODIFIED:20220224T092339Z
UID:13687-1646870400-1646956799@biograndest.org
SUMMARY:Assemblée générale du GAB de la Meuse
DESCRIPTION:Le Jeudi 10 Mars 2022 se tiendra l’Assemblée générale du GAB de la Meuse à Benoite-Vaux – Salle des Prémontrés. \nProgramme Matin (Réservé aux adhérents): \n9h30 – Accueil \n10h – Assemblée Générale Statutaire \n12h – Repas Bio (sur réservation à gab55@biograndest.org) \nProgramme Après-midi (Ouvert à tous): \n13h45 – Accueil des partenaires \n14h – Rapport moral du Président \n14h30 – Débat en présence de Dominique POTIER « Comment va-t-on se partager le gâteau des terres agricoles? »
URL:https://biograndest.org/evenement/assemblee-generale-du-gab-de-la-meuse/
LOCATION:BENOITE VAUX (55)
CATEGORIES:Meuse
ATTACH;FMTTYPE=image/jpeg:https://biograndest.org/wp-content/uploads/2022/02/invitation_AGgab55_22-1.jpg
END:VEVENT
END:VCALENDAR