BEGIN:VCALENDAR
VERSION:2.0
PRODID:-//Bio Grand Est - ECPv6.15.14//NONSGML v1.0//EN
CALSCALE:GREGORIAN
METHOD:PUBLISH
X-WR-CALNAME:Bio Grand Est
X-ORIGINAL-URL:https://biograndest.org
X-WR-CALDESC:Évènements pour Bio Grand Est
REFRESH-INTERVAL;VALUE=DURATION:PT1H
X-Robots-Tag:noindex
X-PUBLISHED-TTL:PT1H
BEGIN:VTIMEZONE
TZID:Europe/Paris
BEGIN:DAYLIGHT
TZOFFSETFROM:+0100
TZOFFSETTO:+0200
TZNAME:CEST
DTSTART:20210328T010000
END:DAYLIGHT
BEGIN:STANDARD
TZOFFSETFROM:+0200
TZOFFSETTO:+0100
TZNAME:CET
DTSTART:20211031T010000
END:STANDARD
BEGIN:DAYLIGHT
TZOFFSETFROM:+0100
TZOFFSETTO:+0200
TZNAME:CEST
DTSTART:20220327T010000
END:DAYLIGHT
BEGIN:STANDARD
TZOFFSETFROM:+0200
TZOFFSETTO:+0100
TZNAME:CET
DTSTART:20221030T010000
END:STANDARD
BEGIN:DAYLIGHT
TZOFFSETFROM:+0100
TZOFFSETTO:+0200
TZNAME:CEST
DTSTART:20230326T010000
END:DAYLIGHT
BEGIN:STANDARD
TZOFFSETFROM:+0200
TZOFFSETTO:+0100
TZNAME:CET
DTSTART:20231029T010000
END:STANDARD
END:VTIMEZONE
BEGIN:VEVENT
DTSTART;TZID=Europe/Paris:20220518T140000
DTEND;TZID=Europe/Paris:20220518T170000
DTSTAMP:20260423T234311
CREATED:20220428T073826Z
LAST-MODIFIED:20220428T075949Z
UID:14224-1652882400-1652893200@biograndest.org
SUMMARY:Cuisiniers à la ferme aux Vergers de Cousancelles
DESCRIPTION:Visite de ferme BIO pour les professionnels de la restauration collective\nL’association régionale des agriculteurs bio\, Bio en Grand Est œuvre sur le territoire au développement de la filière restauration collective bio locale. \nLe Syndicat mixte du Nord Haute-Marne\, regroupe la communauté d’Agglomération de Saint Dizier\, Der et Blaise et la Communauté de communes du Bassin de Joinville en Champagne. En 2021\, le territoire des 119 communes a été labellisé Projet Alimentaire Territorial par le ministère de l’Agriculture et de l’Alimentation et a pu mettre en place des actions pour permettre à tous une alimentation locale et de qualité\, notamment dans les écoles et cantines scolaires. \nL’idée de ces rendez-vous est de créer du lien entre les producteurs bio de la région et les professionnels de la restauration collective.\nSi vous souhaitez rencontrer les producteurs qui vous livrent les produits bio et locaux via Manger Bio Champagne-Ardenne (MBCA)\, vous êtes les bienvenus à cet après-midi d’échanges ! \nAu programme :\n– Accueil des participants à 14h\n– Présentation de la ferme et de ses caractéristiques\n– Visite de la ferme et des ateliers\n– Temps d’échanges et témoignages \nPublic :\nChef de cuisine\, diététicien(ne) en restauration collective\, gestionnaire d’établissement\, proviseur d’établissement\, élu de collectivité\, … \n  \nTélécharger l’invitation \nInscription obligatoire :\nLien d’inscription sur https://forms.gle/jPnCfsyi49cV8rdz6 \nContacts et informations\nMarie BRILLAND\nBio en Grand Est\nmarie.brilland@biograndest.org\n06 03 75 61 48 \nLaura GOFFO\nSyndicat Mixte du Nord Haute Marne\ncircuitsprox@syndicatnord52.fr\n06 75 27 31 18
URL:https://biograndest.org/evenement/cuisiniers-a-la-ferme-aux-vergers-de-cousancelles/
LOCATION:COUSANCES-LES-FORGES (55)\, 2 Allée des Pommiers\, COUSANCES-LES-FORGES\, 55170
CATEGORIES:Animation,Meuse
ATTACH;FMTTYPE=image/jpeg:https://biograndest.org/wp-content/uploads/2022/04/cuisiniers-a-la-ferme.jpg
END:VEVENT
BEGIN:VEVENT
DTSTART;TZID=Europe/Paris:20220521T090000
DTEND;TZID=Europe/Paris:20220521T190000
DTSTAMP:20260423T234311
CREATED:20220408T115600Z
LAST-MODIFIED:20220510T114227Z
UID:14070-1653123600-1653159600@biograndest.org
SUMMARY:Marché Bio et aux plantes 2022
DESCRIPTION:Rendez-vous pour la 17ème édition du Marché Bio et aux Plantes de Bar-le-Duc ! \nSquare du docteur Champion à Bar-le-Duc \nSamedi 21 mai de 9h à 19h \nRetrouvez de nombreux exposants pour ce rendez-vous avec la nature. Dans une ambiance musicale\, venez passer un bon moment. \nEntrée gratuite\nRestauration et buvette
URL:https://biograndest.org/evenement/marche-bio-et-aux-plantes-2022/
LOCATION:Bar-le-Duc (55)
CATEGORIES:Consommateurs,Evènement,Meuse
ATTACH;FMTTYPE=image/jpeg:https://biograndest.org/wp-content/uploads/2022/04/22_Affiche-Marché-BIO_55-scaled.jpg
END:VEVENT
BEGIN:VEVENT
DTSTART;TZID=Europe/Paris:20220529T090000
DTEND;TZID=Europe/Paris:20220529T170000
DTSTAMP:20260423T234311
CREATED:20220426T081133Z
LAST-MODIFIED:20220426T081133Z
UID:14200-1653814800-1653843600@biograndest.org
SUMMARY:Rallye Bio de Meuse : 19ème édition
DESCRIPTION:Venez vivre une journée champêtre et conviviale à la découverte de l’agriculture en AB et échanger avec les producteurs !\n\nL’équipe de Mirabio vous accueille chez eux.\n\nAu programme de la journée : circuit pédestre à la découverte des vergers Bio ponctué de nombreux ateliers. Repas bio champêtre\, buvette\, et mini marché bio.\n\n\n\nInscription : https://www.linscription.com/pro/gab55-rallye-bio-94037\nTarifs (circuit pédestre et repas bio compris) :\nadulte : 18€\nenfant de 5 à 13 ans : 9 €\nenfant de moins de 5 ans : gratuit \nParking :\nPlace du Champ de Foire\n55210 Vigneulles-lès-Hattonchâtel
URL:https://biograndest.org/evenement/rallye-bio-de-meuse-19eme-edition/
LOCATION:Vigneulles-les-Hattonchatel (5)
CATEGORIES:Consommateurs,Evènement,Meuse
ATTACH;FMTTYPE=image/jpeg:https://biograndest.org/wp-content/uploads/2022/04/affiche-rallyebio-22-vf.jpg
END:VEVENT
END:VCALENDAR