BEGIN:VCALENDAR
VERSION:2.0
PRODID:-//Bio Grand Est - ECPv6.15.14//NONSGML v1.0//EN
CALSCALE:GREGORIAN
METHOD:PUBLISH
X-ORIGINAL-URL:https://biograndest.org
X-WR-CALDESC:Évènements pour Bio Grand Est
REFRESH-INTERVAL;VALUE=DURATION:PT1H
X-Robots-Tag:noindex
X-PUBLISHED-TTL:PT1H
BEGIN:VTIMEZONE
TZID:Europe/Paris
BEGIN:DAYLIGHT
TZOFFSETFROM:+0100
TZOFFSETTO:+0200
TZNAME:CEST
DTSTART:20220327T010000
END:DAYLIGHT
BEGIN:STANDARD
TZOFFSETFROM:+0200
TZOFFSETTO:+0100
TZNAME:CET
DTSTART:20221030T010000
END:STANDARD
BEGIN:DAYLIGHT
TZOFFSETFROM:+0100
TZOFFSETTO:+0200
TZNAME:CEST
DTSTART:20230326T010000
END:DAYLIGHT
BEGIN:STANDARD
TZOFFSETFROM:+0200
TZOFFSETTO:+0100
TZNAME:CET
DTSTART:20231029T010000
END:STANDARD
BEGIN:DAYLIGHT
TZOFFSETFROM:+0100
TZOFFSETTO:+0200
TZNAME:CEST
DTSTART:20240331T010000
END:DAYLIGHT
BEGIN:STANDARD
TZOFFSETFROM:+0200
TZOFFSETTO:+0100
TZNAME:CET
DTSTART:20241027T010000
END:STANDARD
END:VTIMEZONE
BEGIN:VEVENT
DTSTART;TZID=Europe/Paris:20230301T093000
DTEND;TZID=Europe/Paris:20230301T173000
DTSTAMP:20260423T073528
CREATED:20230215T101851Z
LAST-MODIFIED:20230227T160315Z
UID:16016-1677663000-1677691800@biograndest.org
SUMMARY:Formation : pour en finir avec les multiples pathologies en élevage
DESCRIPTION:Améliorer la santé et le bien-être du troupeau par la maîtrise des écosystèmes microbiens  \nCette formation est dispensée par le vétérinaire\, Hubert Hiron\, membre du GIE Zone Verte. \nCelle-ci se déroulera le mercredi 1 mars. Le lieu reste à définir selon les inscriptions. \nLe programme porte sur les pathologies en élevage pour les prévenir et les soigner en diminuant l’utilisation d’antibiotique. Cette formation permettra de revenir sur les vecteurs de microbes pathogènes\, sur leurs localisation et sur les techniques pour les contrer. \nTélécharger le programme \nInscription avant le 22/02/2023 \nContacts inscription : adele.trentesaux@biograndest.org // 0768207174.
URL:https://biograndest.org/evenement/formation-pour-en-finir-avec-les-multiples-pathologies-en-elevage/
CATEGORIES:Formation,Meurthe-et-Moselle,Meuse,Moselle,Vosges
ATTACH;FMTTYPE=image/jpeg:https://biograndest.org/wp-content/uploads/2019/06/ELEVAGE_bovinLAIT.jpg
END:VEVENT
BEGIN:VEVENT
DTSTART;TZID=Europe/Paris:20230309T093000
DTEND;TZID=Europe/Paris:20230309T170000
DTSTAMP:20260423T073528
CREATED:20230221T142936Z
LAST-MODIFIED:20230221T142936Z
UID:16062-1678354200-1678381200@biograndest.org
SUMMARY:Assemblée Générale de Bio de Meuse
DESCRIPTION:Les membres Bio de Meuse vous invitent à leur Assemblée Générale qui aura lieu le jeudi 9 mars 2023 à Benoite-Vaux.\n \nMatinée réservée aux adhérents \n09h30 | Accueil\n– Émargement et café \n10h00 | Assemblée Générale Statutaire\n– Rapport d’activité 2022 et perspectives 2023\n– Présentation des comptes\n– Vote des membres actifs et des représentants au CA\n– Temps d’échanges entre adhérents \n11h00 | Point sur la nouvelle PAC et les MAE \n12h00 | Repas bio (inscription obligatoire avant le vendredi 24 février de préférence par mail) \n13h45 | Accueil des partenaires \n14h00 | Rapport moral du Président \n14h30 | Échanges\n– Actualité de la bio\n– Discussion autour de la bio en Restauration Collective\n– Retour sur les Rencontres de l’Agriculture Biologique de Conservation \n  \nPour plus d’information : Mickael COUCHOT : 06 95 63 71 54
URL:https://biograndest.org/evenement/assemblee-generale-de-bio-de-meuse/
LOCATION:Benoite-Vaux (55)
CATEGORIES:Meuse
ATTACH;FMTTYPE=image/jpeg:https://biograndest.org/wp-content/uploads/2023/02/invitation-aggab55-23-1.jpg
END:VEVENT
END:VCALENDAR