BEGIN:VCALENDAR
VERSION:2.0
PRODID:-//Bio Grand Est - ECPv6.15.14//NONSGML v1.0//EN
CALSCALE:GREGORIAN
METHOD:PUBLISH
X-ORIGINAL-URL:https://biograndest.org
X-WR-CALDESC:Évènements pour Bio Grand Est
REFRESH-INTERVAL;VALUE=DURATION:PT1H
X-Robots-Tag:noindex
X-PUBLISHED-TTL:PT1H
BEGIN:VTIMEZONE
TZID:Europe/Paris
BEGIN:DAYLIGHT
TZOFFSETFROM:+0100
TZOFFSETTO:+0200
TZNAME:CEST
DTSTART:20220327T010000
END:DAYLIGHT
BEGIN:STANDARD
TZOFFSETFROM:+0200
TZOFFSETTO:+0100
TZNAME:CET
DTSTART:20221030T010000
END:STANDARD
BEGIN:DAYLIGHT
TZOFFSETFROM:+0100
TZOFFSETTO:+0200
TZNAME:CEST
DTSTART:20230326T010000
END:DAYLIGHT
BEGIN:STANDARD
TZOFFSETFROM:+0200
TZOFFSETTO:+0100
TZNAME:CET
DTSTART:20231029T010000
END:STANDARD
BEGIN:DAYLIGHT
TZOFFSETFROM:+0100
TZOFFSETTO:+0200
TZNAME:CEST
DTSTART:20240331T010000
END:DAYLIGHT
BEGIN:STANDARD
TZOFFSETFROM:+0200
TZOFFSETTO:+0100
TZNAME:CET
DTSTART:20241027T010000
END:STANDARD
END:VTIMEZONE
BEGIN:VEVENT
DTSTART;TZID=Europe/Paris:20230506T090000
DTEND;TZID=Europe/Paris:20230506T190000
DTSTAMP:20260423T041340
CREATED:20230404T131144Z
LAST-MODIFIED:20230406T094012Z
UID:16322-1683363600-1683399600@biograndest.org
SUMMARY:Bar-le-Duc : le Marché bio et aux Plantes revient pour une 18e édition
DESCRIPTION:18ème édition de l’évènement du Marché bio et aux Plantes  SAMEDI 6 MAI 2023 de 9h à 19h à BAR-LE-DUC (Rue Exelmans) !\n\nCette année\, l’évènement annuel tant attendu s’associe aux concours d’élevage de l’Association des Éleveurs Meusiens\, pour créer une journée unique à Bar-le-Duc et de grande ampleur\, depuis le Marché couvert hebdomadaire jusqu’à la place Exelmans où seront exposés les animaux.\n\nDès le début de la journée\, déambulez depuis le Marché couvert jusqu’à la place\, rencontrez nos exposants du Marché BIO et aux Plantes\, profitez de l’ambiance musicale\, d’animations pour les enfants\, des animaux\,… Une journée chaleureuse et conviviale !\n\nUne journée coorganisée par la Chambre d’agriculture de la Meuse\, Bio de Meuse (GAB55)\, la Ville de Bar-le-Duc\, le Groupement des Ecologistes Meusiens et l’Association des Eleveurs Meusiens.\n\nAction soutenue par la DRAAF Grand Est\n\n\n 
URL:https://biograndest.org/evenement/bar-le-duc-le-marche-bio-et-aux-plantes-revient-pour-une-18e-edition/
LOCATION:Bar-le-Duc (55)\, Square Champion
CATEGORIES:Meuse
ATTACH;FMTTYPE=image/png:https://biograndest.org/wp-content/uploads/2023/04/le-marche-bio-et-aux-plantes.png
END:VEVENT
END:VCALENDAR