BEGIN:VCALENDAR
VERSION:2.0
PRODID:-//Bio Grand Est - ECPv6.15.14//NONSGML v1.0//EN
CALSCALE:GREGORIAN
METHOD:PUBLISH
X-WR-CALNAME:Bio Grand Est
X-ORIGINAL-URL:https://biograndest.org
X-WR-CALDESC:Évènements pour Bio Grand Est
REFRESH-INTERVAL;VALUE=DURATION:PT1H
X-Robots-Tag:noindex
X-PUBLISHED-TTL:PT1H
BEGIN:VTIMEZONE
TZID:Europe/Paris
BEGIN:DAYLIGHT
TZOFFSETFROM:+0100
TZOFFSETTO:+0200
TZNAME:CEST
DTSTART:20220327T010000
END:DAYLIGHT
BEGIN:STANDARD
TZOFFSETFROM:+0200
TZOFFSETTO:+0100
TZNAME:CET
DTSTART:20221030T010000
END:STANDARD
BEGIN:DAYLIGHT
TZOFFSETFROM:+0100
TZOFFSETTO:+0200
TZNAME:CEST
DTSTART:20230326T010000
END:DAYLIGHT
BEGIN:STANDARD
TZOFFSETFROM:+0200
TZOFFSETTO:+0100
TZNAME:CET
DTSTART:20231029T010000
END:STANDARD
BEGIN:DAYLIGHT
TZOFFSETFROM:+0100
TZOFFSETTO:+0200
TZNAME:CEST
DTSTART:20240331T010000
END:DAYLIGHT
BEGIN:STANDARD
TZOFFSETFROM:+0200
TZOFFSETTO:+0100
TZNAME:CET
DTSTART:20241027T010000
END:STANDARD
END:VTIMEZONE
BEGIN:VEVENT
DTSTART;TZID=Europe/Paris:20230702T090000
DTEND;TZID=Europe/Paris:20230702T170000
DTSTAMP:20260423T004720
CREATED:20230524T080643Z
LAST-MODIFIED:20230620T092134Z
UID:16638-1688288400-1688317200@biograndest.org
SUMMARY:20ème édition du Rallye bio de Meuse
DESCRIPTION:Rendez-vous pour la 20ème édition du Rallye Bio de Meuse.\nVenez découvrir la ferme de la famille Charle en participant à une marche ponctuée d’animations suivie par un repas Bio et un marché des producteurs Bio.\nPetits et grands passeront un bon moment.\n\nDeux tailles de circuits : 5 km ou 8 km.\nDépart de 9h à 10h30\nPour le repas\, inscription obligatoire ICI. Pensez à prendre vos couverts \n 
URL:https://biograndest.org/evenement/20eme-edition-du-rallye-bio-de-meuse/
LOCATION:Lacroix sur Meuse (55)
CATEGORIES:Animation,Consommateurs,Evènement,Meuse
ATTACH;FMTTYPE=image/jpeg:https://biograndest.org/wp-content/uploads/2023/05/vignette-rallye23.jpg
END:VEVENT
BEGIN:VEVENT
DTSTART;TZID=Europe/Paris:20230706T090000
DTEND;TZID=Europe/Paris:20230706T170000
DTSTAMP:20260423T004720
CREATED:20230524T081440Z
LAST-MODIFIED:20230524T081440Z
UID:16633-1688634000-1688662800@biograndest.org
SUMMARY:Formation : Les plantes bio-indicatrices pour connaitre son sol\,  adapter ses pratiques et gérer ses adventices
DESCRIPTION:Rendez-vous le JEUDI 6 Juillet 2023 avec Jean-Pierre Scherer\, agronome spécialiste des plante bio-indicatrices chez Jacques Fagot\, 15bis RUE DES EPERCHIES 55120 RARECOURT \nObjectifs de la formation :  \n– Comprendre le fonctionnement de son sol et le mettre en relation avec les cycles de vie des adventices\n– Apprendre à utiliser les plantes bio-indicatrices pour évaluer l’état de son sol par un diagnostic simple et mise en application\n– Savoir adapter sa conduite de cultures aux besoins de son sol et en fonction des adventices présentes \nContenu :  \nInitiation à la biologie des adventices et à la notion de plante bio-indicatrice;\nRappel sur le fonctionnement d’un sol et la notion de fertilité d’un sol;\nMéthode de diagnostic de la fertilité du sol à partir de la flore bio-indicatrice;\nLeviers d’action à mettre en oeuvre pour améliorer la fertilité de son sol et mieux gérer les adventices. \nVisite de 2 à 3 parcelles d’une exploitation en polyculture bio.\nA chaque parcelle\, mise en pratique de l’outil de diagnostic individuellement et en collectif.\nRéalisation d’un profil de sol pour confirmer le diagnostic de fertilité.\nBilan de la formation \nTélécharger le programme ICI \nRenseignements et inscriptions : yoan.michaud@biograndest.org ; 07 82 92 88 54
URL:https://biograndest.org/evenement/formation-les-plantes-bio-indicatrices-pour-connaitre-son-sol-adapter-ses-pratiques-et-gerer-ses-adventices/
LOCATION:Rarécourt (55)\, 15bis RUE DES EPERCHIES\, Rarecourt\, 55120
CATEGORIES:Formation,Meuse
ATTACH;FMTTYPE=image/jpeg:https://biograndest.org/wp-content/uploads/2020/09/ILL_plantesbioind.jpg
END:VEVENT
END:VCALENDAR