BEGIN:VCALENDAR
VERSION:2.0
PRODID:-//Bio Grand Est - ECPv6.15.14//NONSGML v1.0//EN
CALSCALE:GREGORIAN
METHOD:PUBLISH
X-ORIGINAL-URL:https://biograndest.org
X-WR-CALDESC:Évènements pour Bio Grand Est
REFRESH-INTERVAL;VALUE=DURATION:PT1H
X-Robots-Tag:noindex
X-PUBLISHED-TTL:PT1H
BEGIN:VTIMEZONE
TZID:Europe/Paris
BEGIN:DAYLIGHT
TZOFFSETFROM:+0100
TZOFFSETTO:+0200
TZNAME:CEST
DTSTART:20230326T010000
END:DAYLIGHT
BEGIN:STANDARD
TZOFFSETFROM:+0200
TZOFFSETTO:+0100
TZNAME:CET
DTSTART:20231029T010000
END:STANDARD
BEGIN:DAYLIGHT
TZOFFSETFROM:+0100
TZOFFSETTO:+0200
TZNAME:CEST
DTSTART:20240331T010000
END:DAYLIGHT
BEGIN:STANDARD
TZOFFSETFROM:+0200
TZOFFSETTO:+0100
TZNAME:CET
DTSTART:20241027T010000
END:STANDARD
BEGIN:DAYLIGHT
TZOFFSETFROM:+0100
TZOFFSETTO:+0200
TZNAME:CEST
DTSTART:20250330T010000
END:DAYLIGHT
BEGIN:STANDARD
TZOFFSETFROM:+0200
TZOFFSETTO:+0100
TZNAME:CET
DTSTART:20251026T010000
END:STANDARD
END:VTIMEZONE
BEGIN:VEVENT
DTSTART;TZID=Europe/Paris:20240219T093000
DTEND;TZID=Europe/Paris:20240219T170000
DTSTAMP:20260422T133457
CREATED:20240208T082924Z
LAST-MODIFIED:20240208T082924Z
UID:18430-1708335000-1708362000@biograndest.org
SUMMARY:Assemblée Générale de Bio de Meuse
DESCRIPTION:Les Agriculteurs Bio de Meuse vous invitent à leur Assemblée Générale le \nLundi 19 fév. 2024 à Benoite-Vaux (55). \nLa matinée réservée aux adhérents\, débutera à 9h30. \nL’après midi\, ouvert à tous\, sera dédié à un temps d’échange et de débat (accueil à partir de  13h45) : autour de la question « Et les bénéfices de la Bio\, qu’en fait-on ? » \nInscription auprès de: Mickael COUCHOT / 06 95 63 71 54
URL:https://biograndest.org/evenement/assemblee-generale-de-bio-de-meuse-2/
LOCATION:Benoite-Vaux (55)
CATEGORIES:Meuse
ATTACH;FMTTYPE=image/png:https://biograndest.org/wp-content/uploads/2024/02/ag5524.png
END:VEVENT
END:VCALENDAR