BEGIN:VCALENDAR
VERSION:2.0
PRODID:-//Bio Grand Est - ECPv6.15.14//NONSGML v1.0//EN
CALSCALE:GREGORIAN
METHOD:PUBLISH
X-ORIGINAL-URL:https://biograndest.org
X-WR-CALDESC:Évènements pour Bio Grand Est
REFRESH-INTERVAL;VALUE=DURATION:PT1H
X-Robots-Tag:noindex
X-PUBLISHED-TTL:PT1H
BEGIN:VTIMEZONE
TZID:Europe/Paris
BEGIN:DAYLIGHT
TZOFFSETFROM:+0100
TZOFFSETTO:+0200
TZNAME:CEST
DTSTART:20230326T010000
END:DAYLIGHT
BEGIN:STANDARD
TZOFFSETFROM:+0200
TZOFFSETTO:+0100
TZNAME:CET
DTSTART:20231029T010000
END:STANDARD
BEGIN:DAYLIGHT
TZOFFSETFROM:+0100
TZOFFSETTO:+0200
TZNAME:CEST
DTSTART:20240331T010000
END:DAYLIGHT
BEGIN:STANDARD
TZOFFSETFROM:+0200
TZOFFSETTO:+0100
TZNAME:CET
DTSTART:20241027T010000
END:STANDARD
BEGIN:DAYLIGHT
TZOFFSETFROM:+0100
TZOFFSETTO:+0200
TZNAME:CEST
DTSTART:20250330T010000
END:DAYLIGHT
BEGIN:STANDARD
TZOFFSETFROM:+0200
TZOFFSETTO:+0100
TZNAME:CET
DTSTART:20251026T010000
END:STANDARD
END:VTIMEZONE
BEGIN:VEVENT
DTSTART;VALUE=DATE:20240504
DTEND;VALUE=DATE:20240505
DTSTAMP:20260422T083200
CREATED:20240208T132543Z
LAST-MODIFIED:20240417T095506Z
UID:18436-1714780800-1714867199@biograndest.org
SUMMARY:19ème édition du Marché Bio et aux Plantes de Bar-le-Duc
DESCRIPTION:Bio de Meuse et la ville de Bar-le-Duc se réjouissent de vous convier à la 19ème édition du Marché Bio et aux Plantes\, le samedi 4 mai 2024 de 9h à 19h au square Champion. \nVenez profiter de l’ambiance musicale\, d’un moment convivial avec restauration et buvette sur place et de nombreux exposants bio présents ! \nUn événement unique à ne pas manquer sur Bar-le-Duc et une journée chaleureuse et festive au programme. \nTélécharger l’affiche de l’événement. \n  \nProgramme et liste des exposants à venir. \n 
URL:https://biograndest.org/evenement/19eme-marche-bio-et-aux-plantes-bar-le-duc/
LOCATION:Bar-le-Duc (55)\, Square Champion
CATEGORIES:Bon Bien Bio,Consommateurs,Evènement,Meuse
ATTACH;FMTTYPE=image/png:https://biograndest.org/wp-content/uploads/2024/02/affiche-marche-bio-bar-le-duc-2024.png
END:VEVENT
BEGIN:VEVENT
DTSTART;TZID=Europe/Paris:20240525T140000
DTEND;TZID=Europe/Paris:20240525T220000
DTSTAMP:20260422T083200
CREATED:20240517T123346Z
LAST-MODIFIED:20240517T124059Z
UID:19172-1716645600-1716674400@biograndest.org
SUMMARY:Mirabio fête ces 10 ans !
DESCRIPTION:La SCIC MIRABIO (fruits de saison et transformation)\, membre du colecosol\, fête ses 10 ans avec de nombreuses surprises le samedi 25 mai. \nDe 14h et 18h\, de nombreuses animations pour les petits et les grands\, \n14h30-15h30\, présentation de la monnaie locale Le Florain\, \n16h-18h; causerie : Paysannerie et collectif \nRestauration sur place le soir à prix libre\, buvette\, concerte et soirée festive ! \n  \nPour retrouver toutes les offres du Printemps Bio\, rendez vous sur https://openagenda.com/fr/printemps-bio-2024.
URL:https://biograndest.org/evenement/mirabio-fete-ces-10-ans/
LOCATION:Vigneulles les Hattonchatel (55)
CATEGORIES:Animation,Bon Bien Bio,Meuse
ATTACH;FMTTYPE=image/jpeg:https://biograndest.org/wp-content/uploads/2024/05/mirabio-fete-ses-10-ans.jpg
END:VEVENT
END:VCALENDAR