BEGIN:VCALENDAR
VERSION:2.0
PRODID:-//Bio Grand Est - ECPv6.15.14//NONSGML v1.0//EN
CALSCALE:GREGORIAN
METHOD:PUBLISH
X-WR-CALNAME:Bio Grand Est
X-ORIGINAL-URL:https://biograndest.org
X-WR-CALDESC:Évènements pour Bio Grand Est
REFRESH-INTERVAL;VALUE=DURATION:PT1H
X-Robots-Tag:noindex
X-PUBLISHED-TTL:PT1H
BEGIN:VTIMEZONE
TZID:Europe/Paris
BEGIN:DAYLIGHT
TZOFFSETFROM:+0100
TZOFFSETTO:+0200
TZNAME:CEST
DTSTART:20230326T010000
END:DAYLIGHT
BEGIN:STANDARD
TZOFFSETFROM:+0200
TZOFFSETTO:+0100
TZNAME:CET
DTSTART:20231029T010000
END:STANDARD
BEGIN:DAYLIGHT
TZOFFSETFROM:+0100
TZOFFSETTO:+0200
TZNAME:CEST
DTSTART:20240331T010000
END:DAYLIGHT
BEGIN:STANDARD
TZOFFSETFROM:+0200
TZOFFSETTO:+0100
TZNAME:CET
DTSTART:20241027T010000
END:STANDARD
BEGIN:DAYLIGHT
TZOFFSETFROM:+0100
TZOFFSETTO:+0200
TZNAME:CEST
DTSTART:20250330T010000
END:DAYLIGHT
BEGIN:STANDARD
TZOFFSETFROM:+0200
TZOFFSETTO:+0100
TZNAME:CET
DTSTART:20251026T010000
END:STANDARD
END:VTIMEZONE
BEGIN:VEVENT
DTSTART;TZID=Europe/Paris:20240602T100000
DTEND;TZID=Europe/Paris:20240602T180000
DTSTAMP:20260422T064608
CREATED:20240422T125550Z
LAST-MODIFIED:20240422T125550Z
UID:18897-1717322400-1717351200@biograndest.org
SUMMARY:Portes ouvertes Terres de bon sens\, votre journée à la ferme
DESCRIPTION:Dans le cadre du Printemps Bio\, Terres de bon sens ouvre les portes de sa ferme\, \nau programme de la journée du Dimanche 02 Juin ; \n-10h-18h : Marché fermier avec viande de bœuf\, de volaille\, de porc gascon\, de farine\, d’huile\, de miel et de légumes… \n-10h15-11h15 : Visite de l’exploitation limousines\, porc gascon\, bâtiment\, agriculture bas carbone… \n-11h30-12h15 : Dégustation de vins des 3 frontières. (5€ par personne\, sur réservation) \n-11h30-12h15 : Activité pédagogiques : éveil à la biodiversité pour les enfants\,  » les mains dans la terre ». (7 €\, sur réservation) \n-12h30-14h15 : Repas abrité : poulets Bio rôtisserie au feu de bois pommes de terres grenailles (20 € euros par adulte hors boisson et 10 € pour les enfants de moins de 12 ans avec une boisson comprise /sur réservation). \n-14h30-15h30 : Départ et visite de nos volailles Bio à Dombras\, rue de la Perchie. Parcours arboré de noyers et de haies. \n-16h-16h30 : Découverte de la relaxation\, harmonie corps et nature. (sur réservation) \n-16h-17h : Visite de l’exploitation\, limousines\, porcs gascons\, bâtiments agriculture bas carbone. \n-17h15-17h45 : Découverte de la relaxation harmonie corps et nature. (sur réservation) \nDate limite de réservation repas\, dégustation de vins et découverte de la relaxation\, samedi 18 mai : terres.de.bon.sens@orange.fr   ou 07 87 98 26 87 \nRendez-vous le 2 Juin à Merles sur Loison\, rue de la Maragole\, 55150 \nPour retrouver toutes les offres du Printemps Bio\, rendez vous sur https://openagenda.com/fr/printemps-bio-2024.
URL:https://biograndest.org/evenement/portes-ouvertes-terres-de-bon-sens-votre-journee-a-la-ferme/
LOCATION:Merles sur Loison 55\, rue de la Maragole\, Merles sur Loison\, meuse\, 55150\, France
CATEGORIES:Animation,Bon Bien Bio,Evènement,Meuse
ATTACH;FMTTYPE=image/jpeg:https://biograndest.org/wp-content/uploads/2024/04/imz8.jpg
END:VEVENT
BEGIN:VEVENT
DTSTART;TZID=Europe/Paris:20240602T133000
DTEND;TZID=Europe/Paris:20240602T173000
DTSTAMP:20260422T064608
CREATED:20240430T105754Z
LAST-MODIFIED:20240430T105754Z
UID:19072-1717335000-1717349400@biograndest.org
SUMMARY:Tour de plaine : à la découverte des cultures bio
DESCRIPTION:Venez découvrir les culture bio en partageant avec François MARCHAND de la ferme Haie Henry. \nUn parcours dans les champs de la ferme vous fera découvrir tout les aspects des productions \, les interactions entre les plantes\, la réalité de la biodiversité du milieu. \nLe retour à la ferme sera l’occasion de partager un moment de convivialité. \nRendez-vous  9 rue du Pont Margueritte 55160 Saulx-les-Champlon \nPour retrouver toutes les offres du Printemps Bio\, rendez vous sur https://openagenda.com/fr/printemps-bio-2024.
URL:https://biograndest.org/evenement/tour-de-plaine-a-la-decouverte-des-cultures-bio/
LOCATION:Saulx-les-Champlon
CATEGORIES:Biodiversité,Bon Bien Bio,Evènement,Meuse
ATTACH;FMTTYPE=image/jpeg:https://biograndest.org/wp-content/uploads/2024/04/marchand.jpg
END:VEVENT
BEGIN:VEVENT
DTSTART;TZID=Europe/Paris:20240602T140000
DTEND;TZID=Europe/Paris:20240602T170000
DTSTAMP:20260422T064608
CREATED:20240423T093104Z
LAST-MODIFIED:20240423T093104Z
UID:18947-1717336800-1717347600@biograndest.org
SUMMARY:Printemps à la ferme
DESCRIPTION:Dans le cadre du Printemps Bio\, \nla ferme des P’tisânes vous propose une après-midi découverte à la ferme en commençant par\, \nun atelier de fabrication de bonbons et de limonade avec les plantes bio de la ferme ! (à partir de 6 ans) \nMais aussi un tour de calèche avec l’âne Gaston ! \nSur réservation (ICI): enfant/25 euros et pour le duo enfant parents/40 euros. \nLa ferme des P’tisânes vous donne rendez-vous le 2 Juin de 14h à 17h au 6 Chemin du Pâquis\, \n55190 Ménil-la-Horgne \nPour retrouver toutes les offres du Printemps Bio\, rendez vous sur https://openagenda.com/fr/printemps-bio-2024.
URL:https://biograndest.org/evenement/printemps-a-la-ferme/
LOCATION:Ferme des P’tisânes\, 6 Chemin du Pâquis\, Ménil-la-Horgne\, Meuse\, 55190\, France
CATEGORIES:Animation,Bon Bien Bio,Evènement,Meuse
ATTACH;FMTTYPE=image/png:https://biograndest.org/wp-content/uploads/2024/04/capture-decran-2024-04-22-150910.png
ORGANIZER;CN="Ferme des P'tis%C3%A2nes":MAILTO:tomvauthier@hotmail.com
END:VEVENT
BEGIN:VEVENT
DTSTART;TZID=Europe/Paris:20240606T170000
DTEND;TZID=Europe/Paris:20240606T190000
DTSTAMP:20260422T064608
CREATED:20240515T101412Z
LAST-MODIFIED:20240523T115646Z
UID:19132-1717693200-1717700400@biograndest.org
SUMMARY:A la rencontre de producteurs bio locaux
DESCRIPTION:Dans le cadre du Printemps Bio\, La Vida Locale\, haut lieu du commerce local\, vous accueille avec des producteurs Bio. \nAu programme de ce rendez-vous : Présentation des Produits \, échanges avec les producteurs et partage de recettes pour consommer des produits bio locaux ! \n  \nPour retrouver toutes les offres du Printemps Bio\, rendez vous sur https://openagenda.com/fr/printemps-bio-2024.
URL:https://biograndest.org/evenement/rencontre-producteurs-bio/
LOCATION:Fresnes en Woevre (55)
CATEGORIES:Bon Bien Bio,Evènement,Meuse
ATTACH;FMTTYPE=image/jpeg:https://biograndest.org/wp-content/uploads/2024/05/vidalocale.jpg
END:VEVENT
BEGIN:VEVENT
DTSTART;TZID=Europe/Paris:20240623T090000
DTEND;TZID=Europe/Paris:20240623T170000
DTSTAMP:20260422T064608
CREATED:20240418T070752Z
LAST-MODIFIED:20240502T070643Z
UID:18887-1719133200-1719162000@biograndest.org
SUMMARY:21ème édition du Rallye bio de Meuse
DESCRIPTION:Cette année\, les producteurs bio de Meuse vous donnent rendez-vous à Euville pour leur Rallye Bio. \nLa ferme Biogéval\, Etienne MAILLARD\, Julien SERRURIER\, le GAEC de BRACHAMP et la SARL des Grains Bio vous proposent un circuit pour découvrir leurs productions bio\, leur métier et leur passion. De nombreux ateliers découvertes ponctueront le parcours (accessible en poussette). \nDans une ambiance conviviale une restauration et une buvette bio locales est organisée pour vous permettre de vous restaurer. Vous aurez également l’occasion de retrouver les produits que vous aurez dégusté sur un marché de producteurs bio locaux. \nUn spectacle clôturera la journée (vers 16h). \n  \nFormules et tarifs : \nJournée complète (parcours pédestre\, animations\, collation\, repas\, gouter et spectacle) : 20 €/personne – 12 €/enfant jusqu’à 12 ans\nJournée complète (idem\, mais sans repas) : 10 €/personne\nGouter + spectacle : 6€/personne\nLa journée est ouverte aux participants qui souhaitent apporter leur repas\, une aire de pique nique sera disponible. \nInscription obligatoire :
URL:https://biograndest.org/evenement/21eme-edition-du-rallye-bio-de-meuse/
LOCATION:Euville (55)\, France
CATEGORIES:Bon Bien Bio,Consommateurs,Evènement,Meuse
ATTACH;FMTTYPE=image/jpeg:https://biograndest.org/wp-content/uploads/2024/04/afficherallyebio24-vf-scaled.jpg
END:VEVENT
BEGIN:VEVENT
DTSTART;TZID=Europe/Paris:20240625T093000
DTEND;TZID=Europe/Paris:20240625T173000
DTSTAMP:20260422T064608
CREATED:20240613T144509Z
LAST-MODIFIED:20240613T144509Z
UID:19314-1719307800-1719336600@biograndest.org
SUMMARY:Formation : A quel prix dois-je vendre mon lait ?
DESCRIPTION:Cette formation vise à savoir calculer son prix de revient sur sa ferme en élevage laitier bio. \nObjectif de la formation : \nComprendre les enjeux économiques et stratégiques de son exploitation associés aux risques de production : ajustement du niveau de production\, répercussions sur le prix\, aléas climatiques\, investissements imprévus\, changements de pratiques\, diversification… \nDate : le mardi 25 juin 2024 \nIntervenantes : Maëlle Drouaillet et Adèle Trentesaux \nLocalisation : Neufchâteau\, Vosges.   \nHoraires : 9h30-17h30 \nProgramme : « Prix de revient » est un outil qui permet de calculer le prix auquel vous souhaitez vendre votre lait. Comment ça marche ? Vous déterminez votre rémunération souhaitée\, vous calculez le temps de travail global ferme\, vous donner une valeur à votre matériel – même à ce qui est déjà amorti –\, vous prenez en compte les aléas. C’est donc : un outil Excel que vous remplissez à partir de votre grand livre et de votre document de gestion sur une année référence.  \nLe but de cette formation proposée par Bio en Grand Est est de regrouper un suffisamment grand nombre de résultats sur les fermes bio pour s’en saisir auprès des laiteries et des politiques.  \nMatériel : Grand livre\, document de gestion comptable\, éventuellement un ordinateur portable.  \nTélécharger le programme de formation ICI \nInscription nécessaire : adele.trentesaux@biograndest.org / 07 68 20 71 74
URL:https://biograndest.org/evenement/formation-a-quel-prix-dois-je-vendre-mon-lait/
LOCATION:Neufchateau (88)\, France
CATEGORIES:Filières,Formation,Haute-Marne,Meurthe-et-Moselle,Meuse,Moselle,Vosges
ATTACH;FMTTYPE=image/jpeg:https://biograndest.org/wp-content/uploads/2019/08/formation.jpg
END:VEVENT
END:VCALENDAR