BEGIN:VCALENDAR
VERSION:2.0
PRODID:-//Bio Grand Est - ECPv6.15.14//NONSGML v1.0//EN
CALSCALE:GREGORIAN
METHOD:PUBLISH
X-ORIGINAL-URL:https://biograndest.org
X-WR-CALDESC:Évènements pour Bio Grand Est
REFRESH-INTERVAL;VALUE=DURATION:PT1H
X-Robots-Tag:noindex
X-PUBLISHED-TTL:PT1H
BEGIN:VTIMEZONE
TZID:Europe/Paris
BEGIN:DAYLIGHT
TZOFFSETFROM:+0100
TZOFFSETTO:+0200
TZNAME:CEST
DTSTART:20230326T010000
END:DAYLIGHT
BEGIN:STANDARD
TZOFFSETFROM:+0200
TZOFFSETTO:+0100
TZNAME:CET
DTSTART:20231029T010000
END:STANDARD
BEGIN:DAYLIGHT
TZOFFSETFROM:+0100
TZOFFSETTO:+0200
TZNAME:CEST
DTSTART:20240331T010000
END:DAYLIGHT
BEGIN:STANDARD
TZOFFSETFROM:+0200
TZOFFSETTO:+0100
TZNAME:CET
DTSTART:20241027T010000
END:STANDARD
BEGIN:DAYLIGHT
TZOFFSETFROM:+0100
TZOFFSETTO:+0200
TZNAME:CEST
DTSTART:20250330T010000
END:DAYLIGHT
BEGIN:STANDARD
TZOFFSETFROM:+0200
TZOFFSETTO:+0100
TZNAME:CET
DTSTART:20251026T010000
END:STANDARD
END:VTIMEZONE
BEGIN:VEVENT
DTSTART;TZID=Europe/Paris:20241105T093000
DTEND;TZID=Europe/Paris:20241105T173000
DTSTAMP:20260421T215844
CREATED:20241021T095547Z
LAST-MODIFIED:20241021T095547Z
UID:20006-1730799000-1730827800@biograndest.org
SUMMARY:Formation : Des bassines à lécher en phytothérapie et bar à minéraux en libre service pour ses ruminants
DESCRIPTION:Si vous vous intéressez à la minéralisation de votre élevage : pourquoi ? comment ? Et souhaitez fabriquer vous même vos bassines à lécher pour votre élevage et pourquoi pas un bar à minéraux => venez travailler cette thématique sur 1 jour en novembre\, avec le partage d’expérience d’une vétérinaire du GIE Zone Verte\, Coralie Amar\, homéopathe et phytothérapeute. \nAu programme de la formation : \n\nConnaître les rôles et les interactions des minéraux et oligos chez les animaux.\nAcquérir de l’autonomie dans la gestion des apports minéraux.\nAdapter les apports en fonction des stades physiologiques\, des saisons\, des aliments.\nComprendre l’impact des pratiques agricoles sur la qualité d’apport minéral et en oligo des prairies\nFabriquer une bassine à lécher le jour de la formation.\n\nLieux : Nançois le Grand (55500) \nPublic visé : Éleveurs de ruminant du Grand Est et porteurs de projet \nPour plus d’informations sur ce rendez vous et inscription obligatoire : Julia SICARD \, 06 52 69 13 89 \nPlaquette de formation détaillé : ICI \n  \nCe rendez-vous est inscrit dans le programme du Mois de la Bio. \nRetrouvez tous les rendez-vous ICI
URL:https://biograndest.org/evenement/formation-des-bassines-a-lecher-en-phytotherapie-et-bar-a-mineraux-en-libre-service-pour-ses-ruminants/
LOCATION:Nançois le Grand
CATEGORIES:Formation,Meuse,Techniques
ATTACH;FMTTYPE=image/jpeg:https://biograndest.org/wp-content/uploads/2024/10/forbassine.jpg
END:VEVENT
BEGIN:VEVENT
DTSTART;TZID=Europe/Paris:20241105T140000
DTEND;TZID=Europe/Paris:20241105T160000
DTSTAMP:20260421T215844
CREATED:20241007T073440Z
LAST-MODIFIED:20241007T073520Z
UID:19961-1730815200-1730822400@biograndest.org
SUMMARY:Mois de la Bio :  Système d’élevage en production de veaux à destination de la vente directe et de la RHD
DESCRIPTION:Porte ouverte à l’EARL de toutes les Couleurs pour échanger sur la production de veaux valorisés en vente directe et pour l’atelier des éleveurs en restauration hors domicile.\n\nManuel Rousselot vous accueille sur sa ferme à Gercourt pour discuter de la production de veaux en circuit court et circuit long. Dans l’objectif de réfléchir aux débouchés en restauration hors domicile via l’atelier des éleveurs UNEBIO à Chauvoncourt. \n\nPour plus d’informations\, contactez\, Adèle TRENTESAUX  \nCe rendez-vous est inscrit dans le programme du Mois de la Bio. \nRetrouvez tous les rendez-vous ICI
URL:https://biograndest.org/evenement/mois-de-la-bio-systeme-delevage-en-production-de-veaux-a-destination-de-la-vente-directe-et-de-la-rhd/
LOCATION:EARL Toutes les couleurs\, Chemin du Pré\, Gercourt\, 55110\, France
CATEGORIES:Filières,Meuse
ATTACH;FMTTYPE=image/jpeg:https://biograndest.org/wp-content/uploads/2024/10/porte-ouverte-mois-de-la-bio-veau.jpg
END:VEVENT
BEGIN:VEVENT
DTSTART;TZID=Europe/Paris:20241112T140000
DTEND;TZID=Europe/Paris:20241112T160000
DTSTAMP:20260421T215844
CREATED:20241014T200908Z
LAST-MODIFIED:20241014T201008Z
UID:20070-1731420000-1731427200@biograndest.org
SUMMARY:Webinaire : Se fournir pour cuisiner plus bio : faites votre choix
DESCRIPTION:Se fournir en produits bio locaux en restauration collective\, c’est parfois la croix et la bannière. C’est surtout la croix qu’il faut porter\, au moins au début pour se convaincre soit même puis convaincre autour de soi : ses équipes en cuisine qui s‘interrogent sur les raisons de le faire\, son responsable des achats qui serre le cordon de la bourse\, son élu pour qui la priorité du mandat est ailleurs\, les parents pour qui le prix est souvent trop élevé ou parfois un frein\, les convives qui se contenteraient bien volontiers d’un steak frites quotidien et enfin certains fournisseurs pour qui le marché public c’est trop compliqué.  \nEt pourtant\, depuis des années\, des personnels en cuisine\, des gestionnaires\, des élus\, des parents\, des enfants agitent leurs étendards dans les cuisines\, dans les bureaux\, dans les salons\, à la maison et dans les champs pour rendre notre alimentation toujours plus vertueuse et plus durable en introduisant plus de produits bio. Alors donnons leurs la parole et faite votre choix !  \nA noter dans les intervenants\, Julie Scherrer\, Responsable Projets au Pôle Ville Éducative et Sportive sur la Ville d’Épinal pour présenter le projet engagé par la ville autour de l’alimentation bio locale.  \nPlus d’information ICI  \nPour vous inscrire ICI
URL:https://biograndest.org/evenement/webinaire-se-fournir-pour-cuisiner-plus-bio-faites-votre-choix/
CATEGORIES:Alsace,Ardennes,Aube,Collectivités,Filières,Haute-Marne,Marne,Meurthe-et-Moselle,Meuse,Moselle,Vosges
ATTACH;FMTTYPE=image/png:https://biograndest.org/wp-content/uploads/2024/10/webinaire-rhd.png
END:VEVENT
BEGIN:VEVENT
DTSTART;TZID=Europe/Paris:20241118T093000
DTEND;TZID=Europe/Paris:20241119T173000
DTSTAMP:20260421T215844
CREATED:20241001T075745Z
LAST-MODIFIED:20241001T075745Z
UID:19768-1731922200-1732037400@biograndest.org
SUMMARY:Formation : Découvrir la géobiologie
DESCRIPTION:Venez travailler cette thématique sur 2 jours\, avec le partage d’expérience de Jean-Marie Devimeux\, géobiologue spécialisé en élevage. Des visites de ferme sont prévues pour mettre en pratique ses connaissances ! \nAu programme de la formation : \n\nSavoir identifier les perturbations naturelles d’un lieu (eau\, failles..)\nFaire connaître aux paysans les différents aspects de la pollution électromagnétique\nConnaître les différents outils de détection\nÊtre capable d’apporter des mesures correctives\n\nQuand ? Lundi 18 et mardi 19 novembre \nLieux : Lorraine\, à définir \nPublic visé : Éleveurs de ruminants du Grand Est \nHoraires : 9h30/17h30 sur 2 jours \nProgramme disponible sur demande \nPour plus d’informations sur ce rendez vous et inscription obligatoire : Adèle TRENTESAUX\, 07 68 20 71 74
URL:https://biograndest.org/evenement/formation-decouvrir-la-geobiologie/
LOCATION:Lorraine
CATEGORIES:Formation,Meurthe-et-Moselle,Meuse,Moselle,Vosges
ATTACH;FMTTYPE=image/jpeg:https://biograndest.org/wp-content/uploads/2019/08/formation.jpg
END:VEVENT
BEGIN:VEVENT
DTSTART;TZID=Europe/Paris:20241119T080000
DTEND;TZID=Europe/Paris:20241119T170000
DTSTAMP:20260421T215844
CREATED:20241004T133454Z
LAST-MODIFIED:20241004T133541Z
UID:19936-1732003200-1732035600@biograndest.org
SUMMARY:FORMATION Fertilité des sols calcaires
DESCRIPTION:FORMATION Bio en Grand Est FERTILITÉ DES SOLS CALCAIRES à Ménil-la-Horgne dans la Meuse. \nIntervenant : Yves Hardy\, agronome\, spécialiste de la méthode SolyveS (ancienne méthode Hérody). \nObjectifs : \n– Maîtriser les fondamentaux de l’agronomie en sols calcaire ; \n– Mettre en œuvre les leviers techniques innovants adaptés aux différents types de sols calcaires ; \n– Être capable de décider de l’utilité ou non d’un travail du sol et d’un apport organique. \nPour plus d’informations\, voir le programme de la formation complète en cliquant ICI.  \nRenseignements et inscriptions : yoan.michaud@biograndest.org ; 07 82 92 88 54 \nCe rendez-vous est inscrit dans le programme du Mois de la Bio. \nRetrouvez tous les rendez-vous ICI
URL:https://biograndest.org/evenement/formation-fertilite-des-sols-calcaires/
LOCATION:Ménil-la-Horgne (55)
CATEGORIES:Formation,Meuse,Techniques
ATTACH;FMTTYPE=image/jpeg:https://biograndest.org/wp-content/uploads/2024/10/solscalcaires.jpg
END:VEVENT
BEGIN:VEVENT
DTSTART;TZID=Europe/Paris:20241125T090000
DTEND;TZID=Europe/Paris:20241125T170000
DTSTAMP:20260421T215844
CREATED:20241022T072540Z
LAST-MODIFIED:20241022T100053Z
UID:20145-1732525200-1732554000@biograndest.org
SUMMARY:Formation : Reconnaissance et gestion des maladies et ravageurs en maraichage Bio\, en Meuse
DESCRIPTION:Objectifs de la formation :\n– Être capable de distinguer les carences\, les différentes maladies cryptogamique\, les ravageurs des auxiliaires.\n– Être capable d’identifier les facteurs d’apparitions et les conditions favorables au développement.\n– Comprendre le mode d’action des produits autorisé par le cahier des charges en agriculture biologique. \nUne seconde journée sera organisée en 2025\, pour reconnaitre visuellement en condition de travail\, les différentes maladies et ravageurs. \nLe programme détaillé de la formation est disponible ICI. \nResponsable de la formation : Nicolas HERBETH\, 06.95.90.83.50.
URL:https://biograndest.org/evenement/formation-reconnaissance-et-gestion-des-maladies-et-ravageurs-en-maraichage-bio-en-meuse/
LOCATION:void-vacon\, 13 rue Notre Dame\, VOID-VACON\, 55190
CATEGORIES:Formation,Meuse
ATTACH;FMTTYPE=image/jpeg:https://biograndest.org/wp-content/uploads/2019/08/formation.jpg
END:VEVENT
BEGIN:VEVENT
DTSTART;TZID=Europe/Paris:20241125T093000
DTEND;TZID=Europe/Paris:20241126T173000
DTSTAMP:20260421T215844
CREATED:20241022T072729Z
LAST-MODIFIED:20241022T072729Z
UID:20248-1732527000-1732642200@biograndest.org
SUMMARY:Formation - Santé des veaux - de la mère au veau
DESCRIPTION:  \nIntervenant : Hubert Hiron\, vétérinaire\, membre du GIE Zone Verte \nAu programme : les bases de la santé du pré-troupeau\, comprendre et maîtriser la physiologie de la gestation\, l’arrivée et l’ensemencement du nouveau né. Savoir gérer le passage du monogastrique au ruminant. savoir élever des génisses éduquées\, capables et solides. \nLocalisation : à préciser. \nLe programme détaillé de la formation est disponible sur demande auprès du responsable de la formation. \nResponsable de la formation : Adèle TRENTESAUX /  07 68 20 71 74
URL:https://biograndest.org/evenement/formation-sante-des-veaux-de-la-mere-au-veau/
LOCATION:Vosges
CATEGORIES:Formation,Meurthe-et-Moselle,Meuse,Moselle,Vosges
ATTACH;FMTTYPE=image/jpeg:https://biograndest.org/wp-content/uploads/2019/08/formation.jpg
END:VEVENT
BEGIN:VEVENT
DTSTART;TZID=Europe/Paris:20241126T120000
DTEND;TZID=Europe/Paris:20241126T133000
DTSTAMP:20260421T215844
CREATED:20241001T061917Z
LAST-MODIFIED:20241122T084801Z
UID:19869-1732622400-1732627800@biograndest.org
SUMMARY:Webinaire : Eau et changement climatique
DESCRIPTION:Face aux sécheresses de plus en plus fréquentes et intenses et aux pluies diluviennes\, les agriculteurs reviennent à des mesures de bon sens pour ralentir l’écoulement de l’eau et en améliorer son stockage dans le sol.\nParmi ces approches\, nous entendons de plus en plus souvent parler de l’hydrologie régénérative. \nL’hydrologie régénérative repose sur un travail paysager à l’échelle de la ferme ou des bassins versants visant à restaurer le cycle de l’eau. Par des techniques d’aménagements axés sur le triptyque eau-sol-arbre\, cette approche permet de ralentir l’eau\, la répartir\, l’infiltrer et la stocker\, plutôt que de drainer et l’évacuer. \nPour mieux comprendre cette approche\, La FNAB et Terre de Liens reçoivent Simon Ricard\, du bureau d’études Permalab\, le 26 novembre prochain de 12h à 13h30. \nPendant ce webinaire\, vous aborderez les bases du cycle de l’eau et vous attacherez à comprendre ce qu’est l’hydrologie régénérative\, ses bénéfices et facteurs de réussite sur la base d’éléments théoriques et de retours d’expérience de terrain.\nCar\, si nous n’avons pas encore de retours chiffrés à valoriser\, nombreux sont les paysans et les territoires qui s’y mettent et observent des évolutions dans leur ferme. \nSi ce sujet vous intéresse\, Bio en Grand Est y travaille. Nous vous invitons à prendre contact avec Patricia HEUZE qui suit ce sujet. \nJe m’inscris au webinaire \nUn lien pour vous connecter vous sera envoyé par la suite.
URL:https://biograndest.org/evenement/webinaire-eau-et-changement-climatique/
LOCATION:en visioconférence
CATEGORIES:Alsace,Ardennes,Aube,Climat,Haute-Marne,Marne,Meurthe-et-Moselle,Meuse,Moselle,Vosges
ATTACH;FMTTYPE=image/jpeg:https://biograndest.org/wp-content/uploads/2024/10/couv-yt-live-webinaire-hydrologie-regenerative-intro.jpg
END:VEVENT
BEGIN:VEVENT
DTSTART;TZID=Europe/Paris:20241126T140000
DTEND;TZID=Europe/Paris:20241126T160000
DTSTAMP:20260421T215844
CREATED:20240925T085137Z
LAST-MODIFIED:20241007T073511Z
UID:19802-1732629600-1732636800@biograndest.org
SUMMARY:Webinaire : "L'Agriculture Biologique : un levier d'atténuation du changement climatique ?"
DESCRIPTION:Plébiscitée par les scientifiques\, l’Agriculture Biologique est une option solide pour répondre aux enjeux climatiques\, environnementaux et sanitaires.\nPourtant\, elle est parfois remise en cause quant à son bilan carbone\, avec certaines pratiques qui aggraveraient le changement climatique contrairement à leur pendant conventionnel.\nCe webinaire explore la contribution réelle de l’Agriculture Biologique à l’atténuation du changement climatique et donc à l’atteinte de l’objectif français de neutralité carbone à l’horizon 2050. \nNous vous invitons à noter dès aujourd’hui la date du 26 novembre dans vos agendas et à vous pré-inscrire ICI pour recevoir le lien de connexion. \nInformations auprès de : Patricia HEUZE\, 07 81 39 48 58 \nCe rendez-vous est inscrit dans le programme du Mois de la Bio. \nRetrouvez tous les rendez-vous ICI
URL:https://biograndest.org/evenement/webinaire-lagriculture-biologique-un-levier-dattenuation-du-changement-climatique/
LOCATION:Webinaire
CATEGORIES:Alsace,Ardennes,Aube,Climat,Haute-Marne,Marne,Meurthe-et-Moselle,Meuse,Moselle,Vosges
ATTACH;FMTTYPE=image/png:https://biograndest.org/wp-content/uploads/2024/09/visuelwebinaireclimat2024-v3.png
END:VEVENT
BEGIN:VEVENT
DTSTART;TZID=Europe/Paris:20241127T130000
DTEND;TZID=Europe/Paris:20241127T150000
DTSTAMP:20260421T215844
CREATED:20241022T101300Z
LAST-MODIFIED:20241022T101300Z
UID:20188-1732712400-1732719600@biograndest.org
SUMMARY:Mois de la Bio - Webinaire : Construire et optimiser sa stratégie commerciale en circuits courts en légumes bio
DESCRIPTION:Comprendre les enjeux et l’importance de définir sa stratégie commerciale\nS’approprier la méthodologie à mettre en place pour requestionner sa stratégie commerciale\nComprendre les mécanismes de la vente et les leviers à activer pour optimiser ses ventes\nTravailler sa communication pour se différencier\n\n  \nLien vers le webinaire : ICI \n  \nContact et inscription :\nMaryna FRENE-BOGDANOK\, 06 43 10 02 84 \n  \nCe rendez-vous est inscrit dans le programme du Mois de la Bio. \nRetrouvez tous les rendez-vous ICI
URL:https://biograndest.org/evenement/mois-de-la-bio-webinaire-construire-et-optimiser-sa-strategie-commerciale-en-circuits-courts-en-legumes-bio/
LOCATION:Webinaire
CATEGORIES:Alsace,Haute-Marne,Marne,Meurthe-et-Moselle,Meuse,Moselle,Vosges
ATTACH;FMTTYPE=image/jpeg:https://biograndest.org/wp-content/uploads/2024/10/commercmaraich.jpg
END:VEVENT
BEGIN:VEVENT
DTSTART;TZID=Europe/Paris:20241128T090000
DTEND;TZID=Europe/Paris:20241128T123000
DTSTAMP:20260421T215844
CREATED:20241008T074252Z
LAST-MODIFIED:20241008T074326Z
UID:19993-1732784400-1732797000@biograndest.org
SUMMARY:FORMATION : Taille des arbres fruitiers en bio\, choix des espèces et variétés
DESCRIPTION:Formation complète ! \nRendez-vous jeudi 28 novembre 2024 à Vatimont (57) et lundi 9 décembre 2024 à Bonzée en Woevre (55) \nIntervenant : Pascal Benoît\, arboriculteur bio et tailleur professionnel \nObjectifs :  \n– Maîtriser les différents types d’arbres fruitiers : espèces\, formes\, porte-greffes ;\n– Comprendre les conséquences de la taille sur les repousses l’année suivante ;\n– Maîtriser les connaissances et les facteurs nécessaires à une taille conforme à ses objectifs.\n– Maîtriser la taille des arbres en bio pour son propre système \nAu programme : \n– Rappel caractéristiques arbres fruitiers : quelques formes standard (gobelet\, quenouille\, axe…)\, choix des espèces et porte-greffe en fonction des objectifs.\n– Rappel des lois de circulation de la sève et croissance de l’arbre ;\nSur le terrain\n– Démonstration de taille : principes généraux de la taille : entretien\, formation\, période de taille…\n– Atelier en binômes : chaque binôme choisi un arbre et simule la taille à l’aide de ficelles et de pinces. L’intervenant passe entre les participants pour les aider dans leur tâche. \nRenseignements : Yoan MICHAUD \nTélécharger le programme ICI \nCe rendez-vous est inscrit dans le programme du Mois de la Bio. \nRetrouvez tous les rendez-vous ICI
URL:https://biograndest.org/evenement/formation-taille-des-arbres-fruitiers-en-bio-choix-des-especes-et-varietes/
LOCATION:Lorraine
CATEGORIES:Formation,Meuse,Moselle
ATTACH;FMTTYPE=image/jpeg:https://biograndest.org/wp-content/uploads/2024/10/taille-arbo-mdb24.jpg
END:VEVENT
BEGIN:VEVENT
DTSTART;VALUE=DATE:20241129
DTEND;VALUE=DATE:20241201
DTSTAMP:20260421T215844
CREATED:20241022T120651Z
LAST-MODIFIED:20241118T120828Z
UID:20312-1732838400-1733011199@biograndest.org
SUMMARY:Green Friday en Meuse
DESCRIPTION:Des producteurs bios vous accueillent sur leur lieu de vente pour découvrir leurs produits et échanger sur leur métier du vendredi 29 et/ou samedi 30 novembre.\nProfitez-en pour tenter de gagner un panier de produits bios locaux festifs en participant à une tombola ! \n  \n\n\n\n\nPARTICIPANTS\nACTIVITE\nADRESSE\nJOURS ET HORAIRES\n\n\n1\nTHOMAS ET JEAN MICHEL BURTEAUX\nCéréales – lentilles – safran – gîtes\nMOULIN ST HUBERT\nsamedi toute la journée\n\n\n2\nDELPHINE GUICHARD\nMaraîchage\n4 la ruellette 55700 POUILLY\nsamedi toute la journée\n\n\n3\nLES PAINS GALOPINS associé à l’association les ptits paniers\nAssociation producteurs bios Nord Meuse / Ardennes\nroute de Wiseppe\nLANEUVILLE SUR MEUSE\nvendredi de 16h30 à 18h30\n\n\n4\nGAEC BIO TILLEULS\nPâtes farines\nFerme de la ville aux bois\nBRIEULLES SUR MEUSE\nvendredi 10h – 12h / 14h -18h\n\n\n5\nFERME DE TOUTES LES COULEURS\nBoucherie viande bovine\n22 rue Maurice Genevoix\nGERCOURT\nsamedi 8h30 – 12h30 / 15h30-18h\n\n\n6\nFERME DE LA VALLEE\nBrasserie\nRARECOURT\nsamedi toute la journée\n\n\n7\nFERME DES TERRES FROIDES\nFromagerie\n4 rue de domremy\nNANCOIS LE GRAND\nsamedi toute la journée\n\n\n8\nFERME DE LA FÊTE\nFarine – lentilles – pâtes – pain – huile\n3 grande rue\nMENIL LA HORGNE\nvendredi 8h-12h30 / 15h-19h\n\n\n9\nLES JARDINS VIDUSIENS\nMaraîchage\nVOID\njeudi toute la journée\n\n\n10\nGAEC BIOGEVAL\nMaraîchage – pommes de terre\nEUVILLE\nvendredi et samedi toute la journée\n\n\n10\nLA RESERVE A LEGUMES\nMaraîchage – pommes de terre\nEUVILLE\nvendredi et samedi toute la journée\n\n\n11\nMIRABIO au marché de Noël de la Brouette Coopérative\nPommes poires fruits transformés jus…\nsalle polyvalente\nCHAILLON\nsamedi de 11 heures à 19 heures\n\n\n12\nDOMAINE DE MONTGRIGNON\nVins\nBILLY SOUS LES CÔTES\nvendredi 10h -12h / 14h – 17h  et samedi 10h – 12h\n\n\n13\nECOMUSEE D’HANNONVILLE\nvannerie – céramique\, commerce equitable livres jeux idées cadeaux\n87 rue chaude\nHANNONCILLE SOUS LES COTESS\nvendredi 9h- 12h / 14h-17h30\n\n\n14\nJULIEN MARCHAND\nCéréales – lentilles – pois chiches\nSAULX LES CHAMPLONS\nsamedi toute la journée\n\n\n15\nDOMAINE DE MUZY\nVins\nCOMBRES SOUS LES COTES\nvendredi et samedi de 9h à 12h et de 14h à 18h\n\n\n16\nLES MEIX DU BAUGERON\nMaraîchage\nPILLON\nsamedi toute la journée\n\n\n17\nFERME DE MARTIGNY\nVolailles\nCOLMEY (54)\nvendredi 9h -18h et  samedi 9h -18h\n\n\n18\nFERME REVILLE BIO\nLentilles\, farine\, viande bovine\, huile\, pain\n14 rue des vignes\nREVILLE AUX BOIS\nvendredi  14h – 18h et  samedi 14h -18h\n\n\n19\nFLORENCE GOFFINET\nMaraîchage\nREMOIVILLE\nvendredi 16h -18h30\n\n\n20\nLes chambres de la ville haute\nChambres d’hôtes et gîte\n2\, rue du pape Etienne IX\nDUNE SUR MEUSE\nvendredi et samedi toute la journée\n\n\n21\nLes Racines d’Or\nMaraichage\n3 rue de la Petite Ville\nFLASSIGNY\nvendredi  de 17h à 19h\n\n\n\n 
URL:https://biograndest.org/evenement/green-friday-en-meuse/
LOCATION:Meuse (55)
CATEGORIES:Bon Bien Bio,Meuse
ATTACH;FMTTYPE=image/jpeg:https://biograndest.org/wp-content/uploads/2024/10/visuels-fb3-scaled.jpg
END:VEVENT
END:VCALENDAR