BEGIN:VCALENDAR
VERSION:2.0
PRODID:-//Bio Grand Est - ECPv6.15.14//NONSGML v1.0//EN
CALSCALE:GREGORIAN
METHOD:PUBLISH
X-WR-CALNAME:Bio Grand Est
X-ORIGINAL-URL:https://biograndest.org
X-WR-CALDESC:Évènements pour Bio Grand Est
REFRESH-INTERVAL;VALUE=DURATION:PT1H
X-Robots-Tag:noindex
X-PUBLISHED-TTL:PT1H
BEGIN:VTIMEZONE
TZID:Europe/Paris
BEGIN:DAYLIGHT
TZOFFSETFROM:+0100
TZOFFSETTO:+0200
TZNAME:CEST
DTSTART:20240331T010000
END:DAYLIGHT
BEGIN:STANDARD
TZOFFSETFROM:+0200
TZOFFSETTO:+0100
TZNAME:CET
DTSTART:20241027T010000
END:STANDARD
BEGIN:DAYLIGHT
TZOFFSETFROM:+0100
TZOFFSETTO:+0200
TZNAME:CEST
DTSTART:20250330T010000
END:DAYLIGHT
BEGIN:STANDARD
TZOFFSETFROM:+0200
TZOFFSETTO:+0100
TZNAME:CET
DTSTART:20251026T010000
END:STANDARD
BEGIN:DAYLIGHT
TZOFFSETFROM:+0100
TZOFFSETTO:+0200
TZNAME:CEST
DTSTART:20260329T010000
END:DAYLIGHT
BEGIN:STANDARD
TZOFFSETFROM:+0200
TZOFFSETTO:+0100
TZNAME:CET
DTSTART:20261025T010000
END:STANDARD
END:VTIMEZONE
BEGIN:VEVENT
DTSTART;TZID=Europe/Paris:20250429T140000
DTEND;TZID=Europe/Paris:20250429T180000
DTSTAMP:20260421T134820
CREATED:20250404T140018Z
LAST-MODIFIED:20250404T140018Z
UID:21294-1745935200-1745949600@biograndest.org
SUMMARY:Salon professionnel Alimentation Transformation
DESCRIPTION:Agriculteurs\, professionnels\, élus du territoire\, ne manquez pas cet évènement sur les ateliers de transformation à Sampigny le 29 avril prochain.\nFrançois MARCHAND sera présent pour représenter notre réseau.\nAu programme : \n13h30-14h : Accueil \n14h-15h : Table ronde « Transformation de la viande  » (bovins\, ovins\, porcins) : intervention d’ateliers de transformation et de producteurs \n15h15-16h15 : Table ronde « Transformation des fruits » : intervenants de représentants de pressoirs\, de producteurs\, de conserverie \n16h30-17h : Présentation de projets de légumeries en Meuse : interventions des deux structures portant les projets \n17h15-18h :  Table ronde « Transformation des autres produits végétaux » (céréales\, oléoprotéagineux et légumineuses) : interventions de producteurs\, d’ateliers de transformation \n18h : Fin \n+ des stands de partenaires
URL:https://biograndest.org/evenement/salon-professionnel-alimentation-transformation/
LOCATION:Sampigny (55)
CATEGORIES:Filières,Meuse
ATTACH;FMTTYPE=image/jpeg:https://biograndest.org/wp-content/uploads/2025/04/486485937-122217615542228208-415615293502891452-n.jpg
END:VEVENT
END:VCALENDAR