BEGIN:VCALENDAR
VERSION:2.0
PRODID:-//Bio Grand Est - ECPv6.15.14//NONSGML v1.0//EN
CALSCALE:GREGORIAN
METHOD:PUBLISH
X-WR-CALNAME:Bio Grand Est
X-ORIGINAL-URL:https://biograndest.org
X-WR-CALDESC:Évènements pour Bio Grand Est
REFRESH-INTERVAL;VALUE=DURATION:PT1H
X-Robots-Tag:noindex
X-PUBLISHED-TTL:PT1H
BEGIN:VTIMEZONE
TZID:Europe/Paris
BEGIN:DAYLIGHT
TZOFFSETFROM:+0100
TZOFFSETTO:+0200
TZNAME:CEST
DTSTART:20240331T010000
END:DAYLIGHT
BEGIN:STANDARD
TZOFFSETFROM:+0200
TZOFFSETTO:+0100
TZNAME:CET
DTSTART:20241027T010000
END:STANDARD
BEGIN:DAYLIGHT
TZOFFSETFROM:+0100
TZOFFSETTO:+0200
TZNAME:CEST
DTSTART:20250330T010000
END:DAYLIGHT
BEGIN:STANDARD
TZOFFSETFROM:+0200
TZOFFSETTO:+0100
TZNAME:CET
DTSTART:20251026T010000
END:STANDARD
BEGIN:DAYLIGHT
TZOFFSETFROM:+0100
TZOFFSETTO:+0200
TZNAME:CEST
DTSTART:20260329T010000
END:DAYLIGHT
BEGIN:STANDARD
TZOFFSETFROM:+0200
TZOFFSETTO:+0100
TZNAME:CET
DTSTART:20261025T010000
END:STANDARD
END:VTIMEZONE
BEGIN:VEVENT
DTSTART;TZID=Europe/Paris:20250503T090000
DTEND;TZID=Europe/Paris:20250503T190000
DTSTAMP:20260421T121934
CREATED:20250414T085816Z
LAST-MODIFIED:20250414T090713Z
UID:21318-1746262800-1746298800@biograndest.org
SUMMARY:20 ans du Marché Bio et aux Plantes de Bar-le-Duc
DESCRIPTION:Bio de Meuse et la ville de Bar-le-Duc se réjouissent de vous convier à la 20ᵉ édition du Marché Bio et aux Plantes\, le samedi 4 mai 2024 de 9h à 19h au square Champion. \nVenez profiter de l’ambiance musicale\, d’un moment convivial avec restauration et buvette sur place et de nombreux exposants bio présents ! \nUn événement unique à ne pas manquer sur Bar-le-Duc et une journée chaleureuse et festive au programme. \nTélécharger l’affiche de l’événement. \nProgramme des animations : \n \n10h : Orgue de Barbarie – Musique à Manivelle\n11h : Inauguration\n13h : Orgue de Barbarie – Musique à Manivelle\n14h : Marionnettes – Compagnie Changer d’Air\n15h : Fanfare rétro – «Ça gaze»\n16h : Marionnettes – Compagnie Changer d’Air\nToute la journée : Animation nature pour la famille : Sylvain Thomassin \n 
URL:https://biograndest.org/evenement/20eme-edition-du-marche-bio-et-aux-plantes-de-bar-le-duc/
LOCATION:Bar-le-Duc (55)\, Square Champion
CATEGORIES:Bon Bien Bio,Consommateurs,Evènement,Meuse
ATTACH;FMTTYPE=image/jpeg:https://biograndest.org/wp-content/uploads/2025/04/20ans-marche-bio-bar-le-duc.jpg
END:VEVENT
BEGIN:VEVENT
DTSTART;TZID=Europe/Paris:20250521T100000
DTEND;TZID=Europe/Paris:20250521T113000
DTSTAMP:20260421T121934
CREATED:20250417T101347Z
LAST-MODIFIED:20250514T161602Z
UID:21488-1747821600-1747827000@biograndest.org
SUMMARY:[Printemps Bio] Marche à la découverte des cultures bio
DESCRIPTION:Petit parcours de marche (tout à fait réalisable en famille) pour venir découvrir comment l’agriculture biologique façonne les paysages (plantations de haies\, biodiversité\, agroforesterie\, prairies diversifiées en abondance\, etc..) \nUn seul départ de la marche à 10h00 devant la ferme.\nMercredi 21 mai et samedi 24 mai (2 dates) \nInscription par SMS au 06.87.14.04.24 (groupe de 20 personnes maximum) \n  \nPour retrouver toutes les offres du Printemps Bio\, rendez vous ICI.
URL:https://biograndest.org/evenement/printemps-bio-marche-a-la-decouverte-des-cultures-bio/
LOCATION:Ferme des Terres Froides\, 4 rue de Domremy\, Nançois le Grand\, 55500
CATEGORIES:Bon Bien Bio,Evènement,Meuse
ATTACH;FMTTYPE=image/png:https://biograndest.org/wp-content/uploads/2025/04/httpsdrivegooglecomopenid1m-a4arldj5yjphmjy6tfnvp3oryy4bap-16.png
END:VEVENT
BEGIN:VEVENT
DTSTART;TZID=Europe/Paris:20250524T100000
DTEND;TZID=Europe/Paris:20250524T113000
DTSTAMP:20260421T121934
CREATED:20250424T072933Z
LAST-MODIFIED:20250514T161415Z
UID:21516-1748080800-1748086200@biograndest.org
SUMMARY:[Printemps Bio] Marche à la découverte des cultures bio
DESCRIPTION:Petit parcours de marche (tout à fait réalisable en famille) pour venir découvrir comment l’agriculture biologique façonne les paysages (plantations de haies\, biodiversité\, agroforesterie\, prairies diversifiées en abondance\, etc..) \nUn seul départ de la marche à 10h00 devant la ferme.\nMercredi 21 mai et samedi 24 mai (2 dates) \nInscription par SMS au 06.87.14.04.24 (groupe de 20 personnes maximum) \n  \nPour retrouver toutes les offres du Printemps Bio\, rendez vous ICI.
URL:https://biograndest.org/evenement/printemps-bio-marche-a-la-decouverte-des-cultures-bio-2/
LOCATION:Ferme des Terres Froides\, 4 rue de Domremy\, Nançois le Grand\, 55500
CATEGORIES:Bon Bien Bio,Evènement,Meuse
ATTACH;FMTTYPE=image/png:https://biograndest.org/wp-content/uploads/2025/04/httpsdrivegooglecomopenid1m-a4arldj5yjphmjy6tfnvp3oryy4bap-16.png
END:VEVENT
END:VCALENDAR