BEGIN:VCALENDAR
VERSION:2.0
PRODID:-//Bio Grand Est - ECPv6.15.14//NONSGML v1.0//EN
CALSCALE:GREGORIAN
METHOD:PUBLISH
X-ORIGINAL-URL:https://biograndest.org
X-WR-CALDESC:Évènements pour Bio Grand Est
REFRESH-INTERVAL;VALUE=DURATION:PT1H
X-Robots-Tag:noindex
X-PUBLISHED-TTL:PT1H
BEGIN:VTIMEZONE
TZID:Europe/Paris
BEGIN:DAYLIGHT
TZOFFSETFROM:+0100
TZOFFSETTO:+0200
TZNAME:CEST
DTSTART:20220327T010000
END:DAYLIGHT
BEGIN:STANDARD
TZOFFSETFROM:+0200
TZOFFSETTO:+0100
TZNAME:CET
DTSTART:20221030T010000
END:STANDARD
BEGIN:DAYLIGHT
TZOFFSETFROM:+0100
TZOFFSETTO:+0200
TZNAME:CEST
DTSTART:20230326T010000
END:DAYLIGHT
BEGIN:STANDARD
TZOFFSETFROM:+0200
TZOFFSETTO:+0100
TZNAME:CET
DTSTART:20231029T010000
END:STANDARD
BEGIN:DAYLIGHT
TZOFFSETFROM:+0100
TZOFFSETTO:+0200
TZNAME:CEST
DTSTART:20240331T010000
END:DAYLIGHT
BEGIN:STANDARD
TZOFFSETFROM:+0200
TZOFFSETTO:+0100
TZNAME:CET
DTSTART:20241027T010000
END:STANDARD
END:VTIMEZONE
BEGIN:VEVENT
DTSTART;TZID=Europe/Paris:20231106T134500
DTEND;TZID=Europe/Paris:20231106T170000
DTSTAMP:20260426T040747
CREATED:20230922T082910Z
LAST-MODIFIED:20231027T102058Z
UID:17219-1699278300-1699290000@biograndest.org
SUMMARY:Mois de la Bio : L’autonomie des fermes maraîchères Bio de Lorraine
DESCRIPTION:Cette année le fil rouge qui accompagnera les visites de fermes sera l’autonomie sur les fermes maraichères. Ce n’est pas la première fois que le sujet est abordé mais celui-ci doit perdurer et s’enrichir. Ce n’est que par l’échange et l’expérimentation que ce sujet prendra forme concrètement sur les fermes. L’autonomie technique\, décisionnelle et commerciale sera abordée. \nRendez-vous le 6 novembre à 13h45 chez Johan COLLIN\, La Ferme de Deux mains\,  21 rue Colonel Bertin  88460 DOCELLES \nInscription auprès de : \nNicolas HERBETH \n06 95 90 83 50
URL:https://biograndest.org/evenement/lautonomie-des-fermes-maraicheres-bio-de-lorraine/
LOCATION:Docelles (88)
CATEGORIES:Techniques,Vosges
ATTACH;FMTTYPE=image/jpeg:https://biograndest.org/wp-content/uploads/2023/09/maraichmdb23.jpg
END:VEVENT
BEGIN:VEVENT
DTSTART;TZID=Europe/Paris:20231109T090000
DTEND;TZID=Europe/Paris:20231109T170000
DTSTAMP:20260426T040747
CREATED:20231026T160013Z
LAST-MODIFIED:20231026T160115Z
UID:17111-1699520400-1699549200@biograndest.org
SUMMARY:FORMATION : Revitaliser les sols en grandes cultures
DESCRIPTION:JEUDI 9 novembre 2023\, à LAY SAINT REMY (54)\n \nIntervenant : Francis BUCAILLE\, agronome expert de la qualité de sols\, fondateur de l’entreprise Gïago\, auteur de l’ouvrage « Revitaliser les sols » \nObjectifs : Restaurer la fertilité des sols et assurer une nutrition équilibrée des cultures. \nProgramme :\n– Description rapide des analyses de sol pour comprendre leur intérêt dans la fertilisation\n– Équilibre minéral\, Les grands ratios à respecter : Mg/Ca\, P/K\n– Les oligo-éléments : leur importance. Les moyens de les apporter à moindre coût.\n– Quelles formes d’engrais/amendement utiliser ? Quelles sont les formes préjudiciables à l’activité biologique des sols et celles qui sont neutres et/ou favorables ?\n– Équilibre microbiologique : Clés de l’évolution des résidus végétaux et de leur humification\n– Les apports organiques : C/N. Faim d’azote ou facteurs allélopathiques ?\n– Études de cas à partir d’analyses de sols des stagiaires\, et d’un profil de sol. \nProgramme détaillé et bulletin d’inscription ICI \nRenseignements et inscription : \nYoan MICHAUD  \n07 82 92 88 54
URL:https://biograndest.org/evenement/formation-revitaliser-les-sols-en-grandes-cultures/
LOCATION:lay saint remy\, GAEC du sillon\, 14 rue de france\, lay saint remy\, 54570\, France
CATEGORIES:Formation,Meurthe-et-Moselle,Meuse,Moselle,Vosges
ATTACH;FMTTYPE=image/jpeg:https://biograndest.org/wp-content/uploads/2023/10/revitalsol-mdb23.jpg
END:VEVENT
BEGIN:VEVENT
DTSTART;TZID=Europe/Paris:20231115T100000
DTEND;TZID=Europe/Paris:20231115T123000
DTSTAMP:20260426T040747
CREATED:20231025T100145Z
LAST-MODIFIED:20231025T100953Z
UID:17396-1700042400-1700051400@biograndest.org
SUMMARY:Mois de de la Bio : Les vaches nourrices en élevage laitier bio
DESCRIPTION:En élevage bovin laitier\, la pratique courante qui consiste à séparer les veaux de leurs mères rapidement après la naissance soulève des critiques car elle est jugée néfaste au bien-­être des animaux. Des réflexions sont en cours pour concevoir des conduites d’élevage favorisant le lien jeune­ adulte. Parmi elles\, l’élevage des veaux par des vaches nourrices constitue une innovation de rupture\, issue du terrain\, mise au point et diffusée au sein des réseaux sociotechniques d’éleveurs herbagers. Il s’agit de confier à une vache en lactation entre 2 et 4 veaux (en général\, les génisses de renouvellement) qu’elle nourrit et élève pendant plusieurs mois (~6). \nL’allaitement artificiel des veaux en élevage laitier est de plus en plus remis en cause\, d’où un intérêt croissant pour des systèmes alternatives\, dans lesquels les jeunes sont élevés par leur mère ou une vache nourrice. Mais quels changements cela implique-t-il pour l’éleveur\, dans son travail quotidien ? Comment éviter d’avoir des animaux trop « sauvages » ? Et quels bénéfices pour les veaux ? Le lien avec leurs nourrices est-il le même qu’avec une mère ?\nC’est autour de ces questions\, et bien d’autres\, que nous vous proposons d’échanger avec des chercheurs en éthologie et en sciences sociales de l’INRAE. Les discussions se poursuivront au cours de la visite de l’installation expérimentale de l’unité INRAE-ASTER et de son troupeau de veaux et de vaches nourrices. \nDeux séances sont programmées : une le matin à 10h\, et une seconde l’après-midi à 14h. \nRendez-vous sur la ferme de l’INRAE de Mirecourt pour bénéficier de leur retours d’expériences. \n\nEntrée libre sur inscription : \n\n\n adele.trentesaux@biograndest.org  – 0768207174
URL:https://biograndest.org/evenement/mois-de-de-la-bio-les-vaches-nourrices-en-elevage-laitier-bio/
LOCATION:INRAE ASTER\, Mirecourt\, 662 avenue Louis Buffet\, Mirecourt\, 88500\, France
CATEGORIES:Animation,Techniques,Vosges
ATTACH;FMTTYPE=image/jpeg:https://biograndest.org/wp-content/uploads/2023/10/bovin-mdb23.jpg
END:VEVENT
BEGIN:VEVENT
DTSTART;TZID=Europe/Paris:20231115T140000
DTEND;TZID=Europe/Paris:20231115T163000
DTSTAMP:20260426T040747
CREATED:20231025T100634Z
LAST-MODIFIED:20231025T100828Z
UID:17624-1700056800-1700065800@biograndest.org
SUMMARY:Mois de de la Bio : Les vaches nourrices en élevage laitier bio
DESCRIPTION:En élevage bovin laitier\, la pratique courante qui consiste à séparer les veaux de leurs mères rapidement après la naissance soulève des critiques car elle est jugée néfaste au bien-­être des animaux. Des réflexions sont en cours pour concevoir des conduites d’élevage favorisant le lien jeune­ adulte. Parmi elles\, l’élevage des veaux par des vaches nourrices constitue une innovation de rupture\, issue du terrain\, mise au point et diffusée au sein des réseaux sociotechniques d’éleveurs herbagers. Il s’agit de confier à une vache en lactation entre 2 et 4 veaux (en général\, les génisses de renouvellement) qu’elle nourrit et élève pendant plusieurs mois (~6). \nL’allaitement artificiel des veaux en élevage laitier est de plus en plus remis en cause\, d’où un intérêt croissant pour des systèmes alternatives\, dans lesquels les jeunes sont élevés par leur mère ou une vache nourrice. Mais quels changements cela implique-t-il pour l’éleveur\, dans son travail quotidien ? Comment éviter d’avoir des animaux trop « sauvages » ? Et quels bénéfices pour les veaux ? Le lien avec leurs nourrices est-il le même qu’avec une mère ?\nC’est autour de ces questions\, et bien d’autres\, que nous vous proposons d’échanger avec des chercheurs en éthologie et en sciences sociales de l’INRAE. Les discussions se poursuivront au cours de la visite de l’installation expérimentale de l’unité INRAE-ASTER et de son troupeau de veaux et de vaches nourrices. \nDeux séances sont programmées : une le matin à 10h\, et une seconde l’après-midi à 14h. \nRendez-vous sur la ferme de l’INRAE de Mirecourt pour bénéficier de leur retours d’expériences. \n\nEntrée libre sur inscription : \n\n\n adele.trentesaux@biograndest.org  – 0768207174
URL:https://biograndest.org/evenement/mois-de-de-la-bio-les-vaches-nourrices-en-elevage-laitier-bio-2/
LOCATION:INRAE ASTER\, Mirecourt\, 662 avenue Louis Buffet\, Mirecourt\, 88500\, France
CATEGORIES:Animation,Techniques,Vosges
ATTACH;FMTTYPE=image/jpeg:https://biograndest.org/wp-content/uploads/2023/10/bovin-mdb23.jpg
END:VEVENT
BEGIN:VEVENT
DTSTART;TZID=Europe/Paris:20231118T090000
DTEND;TZID=Europe/Paris:20231118T143000
DTSTAMP:20260426T040747
CREATED:20231023T125420Z
LAST-MODIFIED:20231023T125541Z
UID:17493-1700298000-1700317800@biograndest.org
SUMMARY:FORUM de la Bio dans les Vosges
DESCRIPTION:Actrice\, acteur de la bio dans les Vosges\, citoyen.ne\, artisan.e\, association\, et autres personnes souhaitant participer\,  \n Vous êtes invités à vous retrouver et faire connaissance pour répondre collectivement à cette proposition : \n\nEnsemble construisons une bio qui nous ressemble dans les Vosges ! \nRendez-vous à Epinal  \nle Samedi 18 novembre 2023  \nde 9h30 à 12h00 \nAccueil à partir de 9h00 \nAu Centre de Loisir la 40 semaine\, rue de la 40 semaine\, Epinal \n🙂 merci de prévenir de votre présence : gab88@biograndest.org / 07 69 27 03 91 \nAffiche ci-dessous– n’hésitez pas à faire circuler dans vos réseaux ! \n \n  \nProgramme : \n\nAccueil à partir de 9h00\n9h-12h: quelles actions et comment travailler tous ensemble pour une bio qui nous ressemble dans les Vosges ? travail de co-construction\, selon un outil de démocratie participative.\nA partir de 12h repas « auberge espagnole salée sucrée bio » / chacun.e apporte ses couverts et son verre / le GAB apporte les boissons\n\nLes administrateurs de l’association des agriculteurs bio des Vosges GAB88 vous proposent d’élargir l’horizon de la bio au-delà du cercle des agriculteurs ! \nLes agriculteurs bio des Vosges réunis en association loi 1901 GAB88 travaillent pour développer et promouvoir le mode de production en agriculture biologique d’aliments et de denrées alimentaires. Mais selon eux l’agriculture bio\, c’est plus qu’un cahier des charges. Et vous\, qu’en pensez-vous ? Selon vous\, comment travailler ensemble pour s’unir autour du développement de la bio dans les Vosges ? \nContact et information : gab88@biograndest.org / 07 69 27 03 91
URL:https://biograndest.org/evenement/forum-de-la-bio-dans-les-vosges/
LOCATION:Centre de Loisir la 40 semaine  Rue de la 40 semaine 88000 EPINAL
CATEGORIES:Vosges
ATTACH;FMTTYPE=image/jpeg:https://biograndest.org/wp-content/uploads/2023/10/affiche-forum-bio.jpg
END:VEVENT
END:VCALENDAR