BEGIN:VCALENDAR
VERSION:2.0
PRODID:-//Bio Grand Est - ECPv6.15.14//NONSGML v1.0//EN
CALSCALE:GREGORIAN
METHOD:PUBLISH
X-ORIGINAL-URL:https://biograndest.org
X-WR-CALDESC:Évènements pour Bio Grand Est
REFRESH-INTERVAL;VALUE=DURATION:PT1H
X-Robots-Tag:noindex
X-PUBLISHED-TTL:PT1H
BEGIN:VTIMEZONE
TZID:Europe/Paris
BEGIN:DAYLIGHT
TZOFFSETFROM:+0100
TZOFFSETTO:+0200
TZNAME:CEST
DTSTART:20220327T010000
END:DAYLIGHT
BEGIN:STANDARD
TZOFFSETFROM:+0200
TZOFFSETTO:+0100
TZNAME:CET
DTSTART:20221030T010000
END:STANDARD
BEGIN:DAYLIGHT
TZOFFSETFROM:+0100
TZOFFSETTO:+0200
TZNAME:CEST
DTSTART:20230326T010000
END:DAYLIGHT
BEGIN:STANDARD
TZOFFSETFROM:+0200
TZOFFSETTO:+0100
TZNAME:CET
DTSTART:20231029T010000
END:STANDARD
BEGIN:DAYLIGHT
TZOFFSETFROM:+0100
TZOFFSETTO:+0200
TZNAME:CEST
DTSTART:20240331T010000
END:DAYLIGHT
BEGIN:STANDARD
TZOFFSETFROM:+0200
TZOFFSETTO:+0100
TZNAME:CET
DTSTART:20241027T010000
END:STANDARD
END:VTIMEZONE
BEGIN:VEVENT
DTSTART;TZID=Europe/Paris:20231205T091500
DTEND;TZID=Europe/Paris:20231205T143000
DTSTAMP:20260426T025000
CREATED:20231116T152037Z
LAST-MODIFIED:20231204T133137Z
UID:17735-1701767700-1701786600@biograndest.org
SUMMARY:Café installation transmission - Rendez-vous reporté
DESCRIPTION:Rendez-vous reporté. \nEt si on parlait de l’avenir de ma ferme? \nCette rencontre\, sous la forme d’une rencontre conviviale\, vise à partager les\nexpériences et pratiques autour de la transmission des fermes. \nPublics : futur·es cédant·es mais aussi porteur·euses de projet et partenaires \nAu programme :\n– Témoignage d’un cédant et de son repreneur et visite d’une ferme bio\nAlain Gérard et Vivien Berbe\, de l’EARL de Beaulieu à Pont-lès-Bonfays \nDes organismes et des outils pour transmettre : \nDes exemples concrets par le Point Info\nTransmission\, le Point Accueil Installation\, Terre de\nLiens Lorraine\, la SAFER\, l’ARDEAR\, le GAB 88\, Bio\nen Grand Est\, le CEGAR\, la MSA et CER France. \n– Échanges entre pairs \nInscriptions auprès de :\nRomane ROOSZ – ARDEAR\nardeargrandest.rr@gmail.com\n07 87 74 77 10\nOU\nCarole TONIN – GAB 88\ngab88@biograndest.org
URL:https://biograndest.org/evenement/cafe-installation-transmission/
LOCATION:Salle culturelle de Dompaire\, 3 rue Charles Gérome\, DOMPAIRE\, 88270\, France
CATEGORIES:Vosges
ATTACH;FMTTYPE=image/jpeg:https://biograndest.org/wp-content/uploads/2022/12/cafeinstaltransmission.jpg
ORGANIZER;CN="BIO des VOSGES":MAILTO:contact-gab@orange.fr
END:VEVENT
BEGIN:VEVENT
DTSTART;TZID=Europe/Paris:20231212T090000
DTEND;TZID=Europe/Paris:20231212T170000
DTSTAMP:20260426T025000
CREATED:20231116T151158Z
LAST-MODIFIED:20231116T151247Z
UID:17747-1702371600-1702400400@biograndest.org
SUMMARY:Formation - Comment prendre en compte les réglementations liées aux circuits courts ?
DESCRIPTION:Objectif de la formation : \nConnaitre l’ensemble de la réglementation liée au circuits courts\, l’implication sur les statuts juridique\, sociaux et fiscaux. \nÊtre en capacité de respecter la réglementation liée aux activité de vente. \nTéléchargez la plaquette ici. \nInscription auprès de : \nNicolas HERBETH \n06 95 90 83 50 \n 
URL:https://biograndest.org/evenement/formation-comment-prendre-en-compte-les-reglementations-liees-aux-circuits-courts/
LOCATION:Madecourt
CATEGORIES:Formation,Vosges
ATTACH;FMTTYPE=image/jpeg:https://biograndest.org/wp-content/uploads/2020/09/panier_legumes.jpg
END:VEVENT
BEGIN:VEVENT
DTSTART;TZID=Europe/Paris:20231213T080000
DTEND;TZID=Europe/Paris:20231213T170000
DTSTAMP:20260426T025000
CREATED:20231116T150743Z
LAST-MODIFIED:20231116T163244Z
UID:17425-1702454400-1702486800@biograndest.org
SUMMARY:Formation - Réglementation : transformation à la ferme des fruits et légumes
DESCRIPTION:Objectifs de la formation : \nConnaitre la réglementation liée à la transformation des fruits et légumes. Comprendre les risques pour ne pas subir la réglementation et l’appréhender comme une obligation administrative mais comme la manière d’aboutir à un produit transformé de qualité sans risques sanitaires pour les consommateurs.\nÊtre capable e mettre en œuvre les bonnes pratiques d’hygiène\, de se donner les moyens pour une obligation de résultat. \nAu programme : \nrèglements européens 178/2002 et la traçabilité\, guide de gestion des alertes\, \nrèglement 852/2004 conception de locaux et bonnes pratiques d’hygiène\, notion de produits composites\, \nprincipe de la méthode HACCP et analyse des dangers\, maitrise des process de transformation. \nTéléchargez le programme de formation ici. \nContact et inscription : \nNicolas HERBETH : \nnicolas.herbeth@biograndest.org \n06 95 90 83 50
URL:https://biograndest.org/evenement/formation-reglementation-transformation-a-la-ferme-des-fruits-et-legumes/
LOCATION:Madecourt
CATEGORIES:Formation,Vosges
ATTACH;FMTTYPE=image/jpeg:https://biograndest.org/wp-content/uploads/2023/11/transformation-reglementation.jpg
END:VEVENT
END:VCALENDAR