BEGIN:VCALENDAR
VERSION:2.0
PRODID:-//Bio Grand Est - ECPv6.15.14//NONSGML v1.0//EN
CALSCALE:GREGORIAN
METHOD:PUBLISH
X-ORIGINAL-URL:https://biograndest.org
X-WR-CALDESC:Évènements pour Bio Grand Est
REFRESH-INTERVAL;VALUE=DURATION:PT1H
X-Robots-Tag:noindex
X-PUBLISHED-TTL:PT1H
BEGIN:VTIMEZONE
TZID:Europe/Paris
BEGIN:DAYLIGHT
TZOFFSETFROM:+0100
TZOFFSETTO:+0200
TZNAME:CEST
DTSTART:20230326T010000
END:DAYLIGHT
BEGIN:STANDARD
TZOFFSETFROM:+0200
TZOFFSETTO:+0100
TZNAME:CET
DTSTART:20231029T010000
END:STANDARD
BEGIN:DAYLIGHT
TZOFFSETFROM:+0100
TZOFFSETTO:+0200
TZNAME:CEST
DTSTART:20240331T010000
END:DAYLIGHT
BEGIN:STANDARD
TZOFFSETFROM:+0200
TZOFFSETTO:+0100
TZNAME:CET
DTSTART:20241027T010000
END:STANDARD
BEGIN:DAYLIGHT
TZOFFSETFROM:+0100
TZOFFSETTO:+0200
TZNAME:CEST
DTSTART:20250330T010000
END:DAYLIGHT
BEGIN:STANDARD
TZOFFSETFROM:+0200
TZOFFSETTO:+0100
TZNAME:CET
DTSTART:20251026T010000
END:STANDARD
END:VTIMEZONE
BEGIN:VEVENT
DTSTART;VALUE=DATE:20240104
DTEND;VALUE=DATE:20240105
DTSTAMP:20260426T012424
CREATED:20231211T081245Z
LAST-MODIFIED:20240117T081643Z
UID:18097-1704326400-1704412799@biograndest.org
SUMMARY:Formation : Initiation à la méthode Obsalim
DESCRIPTION:Retour sur la méthode Obsalim. Mise en pratique de l’outil sur des fermes. \nDate : jeudi 4 janvier 2024 et jeudi 18 janvier. \nHoraires : \n\n9h30 à 17h30\n\nLieu :  Relanges. \nTélécharger le programme complet ICI \nInscription : adele.trentesaux@biograndest.org
URL:https://biograndest.org/evenement/formation-initiation-a-la-methode-obsalim/
CATEGORIES:Formation,Vosges
ATTACH;FMTTYPE=image/jpeg:https://biograndest.org/wp-content/uploads/2019/12/Bovin_lait_2.jpg
END:VEVENT
BEGIN:VEVENT
DTSTART;TZID=Europe/Paris:20240122T080000
DTEND;TZID=Europe/Paris:20240122T170000
DTSTAMP:20260426T012424
CREATED:20240120T080536Z
LAST-MODIFIED:20240129T081317Z
UID:18273-1705910400-1705942800@biograndest.org
SUMMARY:Forum de la Bio dans les Vosges
DESCRIPTION:Rendez-vous pour la suite du Forum de la bio dans les Vosges \nSamedi 27 janvier 2024 \nde 9h00 à 12h00 – suivi d’un temps convivial type repas auberge espagnole. \nAu café associatif 3ème Rive – 15 rue Maréchal Liautey\, 88000 Epinal \nInscription : gab88@biograndest.org / 07 69 27 03 91 \nJe vous invite à en parler autour de vous et à partager l’invitation / affiche ci-jointe.  \nSamedi 27 janvier\, il sera question de travailler ensemble pour mettre en action les thématiques que vous avez identifiée en 2023 \nPour passer du bio à la bio ensemble dans les Vosges.\n(1) communication / information\n(2) foncier\n(3) environnement /santé\n(4) mobilisation des élus\n(5) éducation\n(6) qui sommes-nous ? ou que voulons-nous être ? on parle en quel nom. \nLe Forum de la bio dans les Vosges est un projet à vocation collective\, le GAB est initiateur et participe.
URL:https://biograndest.org/evenement/forum-de-la-bio-dans-les-vosges-2/
CATEGORIES:Vosges
ATTACH;FMTTYPE=image/jpeg:https://biograndest.org/wp-content/uploads/2024/01/forumgab88-2.jpg
END:VEVENT
BEGIN:VEVENT
DTSTART;VALUE=DATE:20240125
DTEND;VALUE=DATE:20240126
DTSTAMP:20260426T012424
CREATED:20231212T081659Z
LAST-MODIFIED:20240117T082243Z
UID:18100-1706140800-1706227199@biograndest.org
SUMMARY:Formation : prendre soin des pieds de mes vaches au quotidien
DESCRIPTION:Date : jeudi 25 janvier\, jeudi 1 février et mardi 20 février. \nIntervenante : Dr Catherine Lutz \nLocalisation : 1er jour à Rambervillers. 2e jour en Meurthe-et-Moselle. \nRetour sur l’anatomie du pied\, sur les types de boiteries et sur la prévention. Mise en pratique sur pied mort\, pose de talonnette et pansement et parage de prévention. \nPratique à l’abattoir de Rambervillers. Visite de ferme et mise en pratique en ferme les deuxième et troisième jours de formation. \nTélécharger le programme ICI \nINSCRIPTION NECESSAIRE : adele.trentesaux@biograndest.org /07 68 20 71 74
URL:https://biograndest.org/evenement/formation-prendre-soin-des-pieds-de-mes-vaches-au-quotidien/
CATEGORIES:Formation,Meurthe-et-Moselle,Vosges
ATTACH;FMTTYPE=image/jpeg:https://biograndest.org/wp-content/uploads/2019/06/ELEVAGE_bovinLAIT.jpg
END:VEVENT
END:VCALENDAR