BEGIN:VCALENDAR
VERSION:2.0
PRODID:-//Bio Grand Est - ECPv6.15.14//NONSGML v1.0//EN
CALSCALE:GREGORIAN
METHOD:PUBLISH
X-ORIGINAL-URL:https://biograndest.org
X-WR-CALDESC:Évènements pour Bio Grand Est
REFRESH-INTERVAL;VALUE=DURATION:PT1H
X-Robots-Tag:noindex
X-PUBLISHED-TTL:PT1H
BEGIN:VTIMEZONE
TZID:Europe/Paris
BEGIN:DAYLIGHT
TZOFFSETFROM:+0100
TZOFFSETTO:+0200
TZNAME:CEST
DTSTART:20230326T010000
END:DAYLIGHT
BEGIN:STANDARD
TZOFFSETFROM:+0200
TZOFFSETTO:+0100
TZNAME:CET
DTSTART:20231029T010000
END:STANDARD
BEGIN:DAYLIGHT
TZOFFSETFROM:+0100
TZOFFSETTO:+0200
TZNAME:CEST
DTSTART:20240331T010000
END:DAYLIGHT
BEGIN:STANDARD
TZOFFSETFROM:+0200
TZOFFSETTO:+0100
TZNAME:CET
DTSTART:20241027T010000
END:STANDARD
BEGIN:DAYLIGHT
TZOFFSETFROM:+0100
TZOFFSETTO:+0200
TZNAME:CEST
DTSTART:20250330T010000
END:DAYLIGHT
BEGIN:STANDARD
TZOFFSETFROM:+0200
TZOFFSETTO:+0100
TZNAME:CET
DTSTART:20251026T010000
END:STANDARD
END:VTIMEZONE
BEGIN:VEVENT
DTSTART;TZID=Europe/Paris:20240311T091500
DTEND;TZID=Europe/Paris:20240311T133000
DTSTAMP:20260425T221459
CREATED:20240304T142750Z
LAST-MODIFIED:20240304T142750Z
UID:18544-1710148500-1710163800@biograndest.org
SUMMARY:Café Installation Transmission
DESCRIPTION:Et si on parlait de l’avenir de ma ferme ? \nLundi 11 mars à DOMPAIRE (88) \nCette rencontre conviviale vise à partager les expériences et pratiques autour de l’installation et de la transmission des fermes. \nPublics : futur·es cédant·es mais aussi porteur·euses de projet et partenaires. \nAu programme :\n– récit croisé du cédant et du repreneur Alain Gérard et Vivien Berbé\, \net visite de la ferme en agriculture biologique l’EARL de Beaulieu à Pont-lès-Bonfays. \n– Des outils pour transmettre\nDes exemples concrets par l’ARDEAR\, le GAB 88\, Bio en Grand-Est\, Terre de Liens Lorraine\, le Point Info Transmission\, le Point Accueil Installation\, la SAFER\, le CEGAR\, la MSA et CER France. \n– Échanges entre pairs \nInfos pratiques : Rdv à la Salle Culturelle de Dompaire / 3 rue Charles Gérome / 88270 DOMPAIRE \nInscriptions auprès de :\nRomane ROOSZ – ARDEAR / ardeargrandest.rr@gmail.com / 07 87 74 77 10\nou\nCarole TONIN – GAB 88 / Bio en Grand-Est / gab88@biograndest.org / 07 69 27 03 91
URL:https://biograndest.org/evenement/cafe-installation-transmission-2/
LOCATION:DOMPAIRE\, Salle Culturelle de Dompaire / 3 rue Charles Gérome\, DOMPAIRE\, 88270\, France
CATEGORIES:Vosges
ATTACH;FMTTYPE=image/jpeg:https://biograndest.org/wp-content/uploads/2024/03/invitation-cafe-transmission-11-mars-2024-vosges-1.jpg
END:VEVENT
BEGIN:VEVENT
DTSTART;TZID=Europe/Paris:20240314T093000
DTEND;TZID=Europe/Paris:20240314T173000
DTSTAMP:20260425T221459
CREATED:20240212T130221Z
LAST-MODIFIED:20240212T130259Z
UID:18454-1710408600-1710437400@biograndest.org
SUMMARY:Assemblée Générale Ordinaire du GAB88
DESCRIPTION:Le Conseil d’Administration du GAB 88 organise son Assemblée Générale Ordinaire le jeudi 14 mars 2024 à Épinal \nAu programme : \nDe 9h30 à 13h : temps entre adhérents \n\nAssemblée Générale Statutaire : présentation et adoption des rapports financier et d’activité\nLa vision des filières : Quelle est selon vous la perspective et comment analysez-vous la période actuelle pour la bio ?\nRenouvellement des membres du Conseil d’Administration\n\nVous souhaitez rejoindre le CA ? Vous pouvez envoyer un mail à gab88@biograndest.org et contacter l’un des membres du CA\, ou vous présenter directement lors de l’AG. \nDe 13h à 14h\, repas bio sur place sur inscription avant le 23/02/2024– signalez-vous si vous avez des demandes particulières liées aux allergies par exemple \nA 14h\, \n\nLe mot du Président\nLes actions du GAB88 sur le terrain\n\nLes partenaires du GAB sur le terrain\nL’association BIOZIQ : la bio à quel prix ?\nLe collectif des Coquelicots : l’obligation réelle environnementale (ORE)\nTable ronde autour du thème « Les Projets Alimentaires Territoriaux (PAT)\, la démarche est vertueuse. Comment s’en saisir\, consommateurs et agriculteurs\, pour développer les installations et se nourrir de manière saine et durable – eau et alimentation ? »\n\n\n\nen présence de représentants des PAT des Vosges \nsont invités largement à contribuer les consommatrices et consommateurs et agricultrices et agriculteurs\, notamment les nouvelles installées et nouveaux installés\, les associations\, etc. \nA 17h\, le verre de l’amitié clôturera l’Assemblée Générale. \nNous vous attendons nombreux pour vivre ensemble ce moment fort de la vie associative.
URL:https://biograndest.org/evenement/assemblee-generale-ordinaire-du-gab88/
LOCATION:EPINAL (88)\, 88000\, France
CATEGORIES:Evènement,Vosges
ATTACH;FMTTYPE=image/png:https://biograndest.org/wp-content/uploads/2019/05/bio_88.png
END:VEVENT
END:VCALENDAR