BEGIN:VCALENDAR
VERSION:2.0
PRODID:-//Bio Grand Est - ECPv6.15.14//NONSGML v1.0//EN
CALSCALE:GREGORIAN
METHOD:PUBLISH
X-WR-CALNAME:Bio Grand Est
X-ORIGINAL-URL:https://biograndest.org
X-WR-CALDESC:Évènements pour Bio Grand Est
REFRESH-INTERVAL;VALUE=DURATION:PT1H
X-Robots-Tag:noindex
X-PUBLISHED-TTL:PT1H
BEGIN:VTIMEZONE
TZID:Europe/Paris
BEGIN:DAYLIGHT
TZOFFSETFROM:+0100
TZOFFSETTO:+0200
TZNAME:CEST
DTSTART:20230326T010000
END:DAYLIGHT
BEGIN:STANDARD
TZOFFSETFROM:+0200
TZOFFSETTO:+0100
TZNAME:CET
DTSTART:20231029T010000
END:STANDARD
BEGIN:DAYLIGHT
TZOFFSETFROM:+0100
TZOFFSETTO:+0200
TZNAME:CEST
DTSTART:20240331T010000
END:DAYLIGHT
BEGIN:STANDARD
TZOFFSETFROM:+0200
TZOFFSETTO:+0100
TZNAME:CET
DTSTART:20241027T010000
END:STANDARD
BEGIN:DAYLIGHT
TZOFFSETFROM:+0100
TZOFFSETTO:+0200
TZNAME:CEST
DTSTART:20250330T010000
END:DAYLIGHT
BEGIN:STANDARD
TZOFFSETFROM:+0200
TZOFFSETTO:+0100
TZNAME:CET
DTSTART:20251026T010000
END:STANDARD
END:VTIMEZONE
BEGIN:VEVENT
DTSTART;TZID=Europe/Paris:20240524T160000
DTEND;TZID=Europe/Paris:20240524T200000
DTSTAMP:20260425T190558
CREATED:20240522T080211Z
LAST-MODIFIED:20240522T080211Z
UID:19204-1716566400-1716580800@biograndest.org
SUMMARY:Le Marché Bio d’Épinal
DESCRIPTION:Découvrez un marché 100% Local 100% Bio 100% Paysan ! \nLe Marché des Paysans Bio se tient au port d’Épinal les vendredis des semaines impaires à partir de 16h. Il ferme à 20h en période estivale et à 19h en période hivernale.\nProfitez du Printemps Bio pour le découvrir. Vous y rencontrez des producteurs bio passionnés et passionnants. Ils vous proposent une belle diversité de produits bio locaux et de saisons ! \n  \nPour retrouver toutes les offres du Printemps Bio\, rendez vous sur https://openagenda.com/fr/printemps-bio-2024. \n 
URL:https://biograndest.org/evenement/le-marche-bio-depinal/
LOCATION:Prot d’Epinal (88)
CATEGORIES:Animation,Bon Bien Bio,Consommateurs,Vosges
ATTACH;FMTTYPE=image/jpeg:https://biograndest.org/wp-content/uploads/2024/05/marcheepinal.jpg
END:VEVENT
BEGIN:VEVENT
DTSTART;TZID=Europe/Paris:20240525T133000
DTEND;TZID=Europe/Paris:20240525T170000
DTSTAMP:20260425T190558
CREATED:20240424T064417Z
LAST-MODIFIED:20240424T064417Z
UID:18966-1716643800-1716656400@biograndest.org
SUMMARY:Une Escale au jardin
DESCRIPTION:Dans le cadre du Printemps\, \nL’Association Escale vous propose une après-midi pour comprendre le label Bio\, visitez les productions et profitez d’un marché de producteurs Bio et locaux\, au programme : \n\nLe Bio Kézako ?\nQu’est ce qui se cache derrière le logo AB et tour du jardin\nA la découverte de no productions\, marché de producteurs Bio et locaux\, gourmandise assurée !\n\nVous n’êtes pas mobile ? Contactez nous pour organiser votre déplacement jusqu’au jardin ! (jardin-assoescale@outlook.com) \nRendez-vous le 25 mai de 13h30 à 17h à l’Association Escale \nRue de la Voivre 88800 VITTEL \nPour retrouver toutes les offres du Printemps Bio\, rendez vous sur https://openagenda.com/fr/printemps-bio-2024.
URL:https://biograndest.org/evenement/une-escale-au-jardin/
LOCATION:Vittel (88)
CATEGORIES:Animation,Bon Bien Bio,Evènement,Vosges
ATTACH;FMTTYPE=image/png:https://biograndest.org/wp-content/uploads/2024/04/capture-decran-2024-04-23-114113.png
ORGANIZER;CN="Association Escale":MAILTO:jardin-assoescale@outlook.com
END:VEVENT
END:VCALENDAR