BEGIN:VCALENDAR
VERSION:2.0
PRODID:-//Bio Grand Est - ECPv6.15.14//NONSGML v1.0//EN
CALSCALE:GREGORIAN
METHOD:PUBLISH
X-ORIGINAL-URL:https://biograndest.org
X-WR-CALDESC:Évènements pour Bio Grand Est
REFRESH-INTERVAL;VALUE=DURATION:PT1H
X-Robots-Tag:noindex
X-PUBLISHED-TTL:PT1H
BEGIN:VTIMEZONE
TZID:Europe/Paris
BEGIN:DAYLIGHT
TZOFFSETFROM:+0100
TZOFFSETTO:+0200
TZNAME:CEST
DTSTART:20230326T010000
END:DAYLIGHT
BEGIN:STANDARD
TZOFFSETFROM:+0200
TZOFFSETTO:+0100
TZNAME:CET
DTSTART:20231029T010000
END:STANDARD
BEGIN:DAYLIGHT
TZOFFSETFROM:+0100
TZOFFSETTO:+0200
TZNAME:CEST
DTSTART:20240331T010000
END:DAYLIGHT
BEGIN:STANDARD
TZOFFSETFROM:+0200
TZOFFSETTO:+0100
TZNAME:CET
DTSTART:20241027T010000
END:STANDARD
BEGIN:DAYLIGHT
TZOFFSETFROM:+0100
TZOFFSETTO:+0200
TZNAME:CEST
DTSTART:20250330T010000
END:DAYLIGHT
BEGIN:STANDARD
TZOFFSETFROM:+0200
TZOFFSETTO:+0100
TZNAME:CET
DTSTART:20251026T010000
END:STANDARD
END:VTIMEZONE
BEGIN:VEVENT
DTSTART;TZID=Europe/Paris:20240615T100000
DTEND;TZID=Europe/Paris:20240615T120000
DTSTAMP:20260425T173539
CREATED:20240424T064011Z
LAST-MODIFIED:20240429T073857Z
UID:18990-1718445600-1718452800@biograndest.org
SUMMARY:Marché de producteurs Bio à Tendon
DESCRIPTION:Dans le cadre du Printemps Bio\, \nle marché de Tendon vous propose de vous faire découvrir tous ses producteurs Bio à travers un marché Bio et local. \nHalle Terre Native\, qui porte ce marché\, propose aussi des artisans locaux en tout genre afin que vous découvriez les acteurs de l’artisanat local. \nRendez-vous le 15 Juin de 10h à 12h à Tendon – 88460 \nPour retrouver toutes les offres du Printemps Bio\, rendez vous sur https://openagenda.com/fr/printemps-bio-2024.
URL:https://biograndest.org/evenement/marche-de-producteurs-bio/
LOCATION:TENDON (88)
CATEGORIES:Bon Bien Bio,Consommateurs,Evènement,Vosges
ATTACH;FMTTYPE=image/png:https://biograndest.org/wp-content/uploads/2024/04/capture-decran-2024-04-23-121643.png
END:VEVENT
BEGIN:VEVENT
DTSTART;TZID=Europe/Paris:20240622T140000
DTEND;TZID=Europe/Paris:20240622T163000
DTSTAMP:20260425T173539
CREATED:20240515T100310Z
LAST-MODIFIED:20240515T100310Z
UID:18935-1719064800-1719073800@biograndest.org
SUMMARY:Balade découverte sur les plantes sauvages comestibles ainsi qu'un goûter sauvage !
DESCRIPTION:Dans le cadre du Printemps Bio\, venez faire une balade découverte sur les pantes sauvages comestibles\, \nanimée par Aurore Lab\, productrice&cueilleuse chez Symbi’Ose Nature. \nAprès la balade en prairie et en forêt où nous redécouvrirons les plantes présentes ainsi que leurs vertus et utilisations culinaire\, vous aurez l’occasion de déguster un goûter sauvage avec les plantes du moment. \nTarif : 15 euros par personnes. \nRendez-vous le 22 Juin à Moussey de 14h à 16h30. \nInscriptions obligatoires sur https://www.symbiosenature.com/ateliers \nPour retrouver toutes les offres du Printemps Bio\, rendez vous sur https://openagenda.com/fr/printemps-bio-2024.
URL:https://biograndest.org/evenement/balade-decouverte-sur-les-plantes-sauvages-comestibles-ainsi-quun-gouter-sauvage/
LOCATION:Moussey 88\, Moussey\, Vosges\, 88150\, France
CATEGORIES:Bon Bien Bio,Evènement,Vosges
ATTACH;FMTTYPE=image/png:https://biograndest.org/wp-content/uploads/2024/04/capture-decran-2024-04-22-133219.png
ORGANIZER;CN="Symbi'Ose Nature":MAILTO:symbiosenature88@yahoo.com
END:VEVENT
BEGIN:VEVENT
DTSTART;TZID=Europe/Paris:20240623T100000
DTEND;TZID=Europe/Paris:20240623T150000
DTSTAMP:20260425T173539
CREATED:20240424T071605Z
LAST-MODIFIED:20240424T071605Z
UID:18940-1719136800-1719154800@biograndest.org
SUMMARY:Atelier de cuisine sauvage
DESCRIPTION:Dans le cadre du Printemps Bio\, \nVenez (re)découvrir les plantes sauvages comestibles lors d’un atelier convivial et nature\, animé par Aurore LAB\, productrice bio et cueilleuse dans les Vosges. \nAu programme : \n\nBalade.\nIdentifications & cueillettes  des plantes sauvages comestibles.\nPréparation d’un repas sauvage (Apéro\, entrée\, plat et dessert) et prise du repas tous ensemble en extérieur.\n\nTarif : 40 euros par personnes \nConvient aux enfants de + de 7 ans. \nRendez-vous le 23 Juin à Moussey \nRESERVATION OBLIGATOIRE 4 jours minimum avant l’atelier sur le site symbiosenature.com \nPour retrouver toutes les offres du Printemps Bio\, rendez vous sur https://openagenda.com/fr/printemps-bio-2024.
URL:https://biograndest.org/evenement/atelier-de-cuisine-sauvage/
LOCATION:Moussey 88\, Moussey\, Vosges\, 88150\, France
CATEGORIES:Bon Bien Bio,Evènement,Vosges
ATTACH;FMTTYPE=image/png:https://biograndest.org/wp-content/uploads/2024/04/capture-decran-2024-04-22-100723.png
ORGANIZER;CN="Symbi'Ose Nature":MAILTO:symbiosenature88@yahoo.com
END:VEVENT
BEGIN:VEVENT
DTSTART;TZID=Europe/Paris:20240625T093000
DTEND;TZID=Europe/Paris:20240625T173000
DTSTAMP:20260425T173539
CREATED:20240613T144509Z
LAST-MODIFIED:20240613T144509Z
UID:19314-1719307800-1719336600@biograndest.org
SUMMARY:Formation : A quel prix dois-je vendre mon lait ?
DESCRIPTION:Cette formation vise à savoir calculer son prix de revient sur sa ferme en élevage laitier bio. \nObjectif de la formation : \nComprendre les enjeux économiques et stratégiques de son exploitation associés aux risques de production : ajustement du niveau de production\, répercussions sur le prix\, aléas climatiques\, investissements imprévus\, changements de pratiques\, diversification… \nDate : le mardi 25 juin 2024 \nIntervenantes : Maëlle Drouaillet et Adèle Trentesaux \nLocalisation : Neufchâteau\, Vosges.   \nHoraires : 9h30-17h30 \nProgramme : « Prix de revient » est un outil qui permet de calculer le prix auquel vous souhaitez vendre votre lait. Comment ça marche ? Vous déterminez votre rémunération souhaitée\, vous calculez le temps de travail global ferme\, vous donner une valeur à votre matériel – même à ce qui est déjà amorti –\, vous prenez en compte les aléas. C’est donc : un outil Excel que vous remplissez à partir de votre grand livre et de votre document de gestion sur une année référence.  \nLe but de cette formation proposée par Bio en Grand Est est de regrouper un suffisamment grand nombre de résultats sur les fermes bio pour s’en saisir auprès des laiteries et des politiques.  \nMatériel : Grand livre\, document de gestion comptable\, éventuellement un ordinateur portable.  \nTélécharger le programme de formation ICI \nInscription nécessaire : adele.trentesaux@biograndest.org / 07 68 20 71 74
URL:https://biograndest.org/evenement/formation-a-quel-prix-dois-je-vendre-mon-lait/
LOCATION:Neufchateau (88)\, France
CATEGORIES:Filières,Formation,Haute-Marne,Meurthe-et-Moselle,Meuse,Moselle,Vosges
ATTACH;FMTTYPE=image/jpeg:https://biograndest.org/wp-content/uploads/2019/08/formation.jpg
END:VEVENT
BEGIN:VEVENT
DTSTART;TZID=Europe/Paris:20240627T160000
DTEND;TZID=Europe/Paris:20240627T200000
DTSTAMP:20260425T173539
CREATED:20240522T080228Z
LAST-MODIFIED:20240522T080238Z
UID:19211-1719504000-1719518400@biograndest.org
SUMMARY:Le Marché Bio d’Épinal
DESCRIPTION:Découvrez un marché 100% Local 100% Bio 100% Paysan ! \nLe Marché des Paysans Bio se tient au port d’Épinal les vendredis des semaines impaires à partir de 16h. Il ferme à 20h en période estivale et à 19h en période hivernale.\nProfitez du Printemps Bio pour le découvrir. Vous y rencontrez des producteurs bio passionnés et passionnants. Ils vous proposent une belle diversité de produits bio locaux et de saisons ! \n  \nPour retrouver toutes les offres du Printemps Bio\, rendez vous sur https://openagenda.com/fr/printemps-bio-2024. \n 
URL:https://biograndest.org/evenement/le-marche-bio-depinal-2/
LOCATION:Prot d’Epinal (88)
CATEGORIES:Animation,Bon Bien Bio,Consommateurs,Vosges
ATTACH;FMTTYPE=image/jpeg:https://biograndest.org/wp-content/uploads/2024/05/marcheepinal.jpg
END:VEVENT
END:VCALENDAR