BEGIN:VCALENDAR
VERSION:2.0
PRODID:-//Bio Grand Est - ECPv6.15.14//NONSGML v1.0//EN
CALSCALE:GREGORIAN
METHOD:PUBLISH
X-WR-CALNAME:Bio Grand Est
X-ORIGINAL-URL:https://biograndest.org
X-WR-CALDESC:Évènements pour Bio Grand Est
REFRESH-INTERVAL;VALUE=DURATION:PT1H
X-Robots-Tag:noindex
X-PUBLISHED-TTL:PT1H
BEGIN:VTIMEZONE
TZID:Europe/Paris
BEGIN:DAYLIGHT
TZOFFSETFROM:+0100
TZOFFSETTO:+0200
TZNAME:CEST
DTSTART:20240331T010000
END:DAYLIGHT
BEGIN:STANDARD
TZOFFSETFROM:+0200
TZOFFSETTO:+0100
TZNAME:CET
DTSTART:20241027T010000
END:STANDARD
BEGIN:DAYLIGHT
TZOFFSETFROM:+0100
TZOFFSETTO:+0200
TZNAME:CEST
DTSTART:20250330T010000
END:DAYLIGHT
BEGIN:STANDARD
TZOFFSETFROM:+0200
TZOFFSETTO:+0100
TZNAME:CET
DTSTART:20251026T010000
END:STANDARD
BEGIN:DAYLIGHT
TZOFFSETFROM:+0100
TZOFFSETTO:+0200
TZNAME:CEST
DTSTART:20260329T010000
END:DAYLIGHT
BEGIN:STANDARD
TZOFFSETFROM:+0200
TZOFFSETTO:+0100
TZNAME:CET
DTSTART:20261025T010000
END:STANDARD
END:VTIMEZONE
BEGIN:VEVENT
DTSTART;TZID=Europe/Paris:20250109T093000
DTEND;TZID=Europe/Paris:20250109T173000
DTSTAMP:20260423T083544
CREATED:20241218T144607Z
LAST-MODIFIED:20241218T144607Z
UID:20763-1736415000-1736443800@biograndest.org
SUMMARY:Formation : A quel prix dois-je vendre mon lait
DESCRIPTION:Initiation à l’outil « Prix de Revient FNAB » \nJeudi 09 Janvier à proximité d’Epinal (88) \n Objectifs de la formation\n \n\nComprendre l’intérêt du calcul du prix de revient et son fonctionnement\nComprendre la nécessité d’intégrer son travail et ses investissements dans son prix de revient.\n\nContenu détaillé \n\nComment valoriser son travail sur son exploitation ?\nIntégrer la valorisation du travail dans le calcul du prix de revient\nIntégrer les investissements dans le calcul du prix de revient\nL’affectation des charges aux différents produits ou ateliers\nLe calcul de la clé de répartition en fonction des particularités de la production\nApproche ciblée par une série d’exercices portant sur des cas réels\nAnalyse des résultats et pistes d’actions en fonction des chiffres obtenus\nLa mise en place des prix de revient dans sa propre structure\n\nInscription auprès de Maëlle DROUAILLET –  06 18 18 94 93 / maelle.drouaillet@biograndest.org \n Programme à télécharger ICI 
URL:https://biograndest.org/evenement/formation-a-quel-prix-dois-je-vendre-mon-lait-2024/
LOCATION:Vosges
CATEGORIES:Formation,Vosges
ATTACH;FMTTYPE=image/jpeg:https://biograndest.org/wp-content/uploads/2019/12/Bovin_lait_2.jpg
END:VEVENT
BEGIN:VEVENT
DTSTART;TZID=Europe/Paris:20250113T093000
DTEND;TZID=Europe/Paris:20250114T173000
DTSTAMP:20260423T083544
CREATED:20241129T100534Z
LAST-MODIFIED:20241129T101449Z
UID:20516-1736760600-1736875800@biograndest.org
SUMMARY:Formation : Phytothérapie et aromathérapie en élevage - initiation - et liens avec le séchage et les récoltes des plantes
DESCRIPTION:Si vous :  \n\nvous intéressez à la phyto et aroma en élevage mais qu’il vous manque des bases certaines\nque vous voulez appréhender le travail de récolte et séchage des plantes pour votre élevage\n\nCette formation est faites pour vous.  Elle a lieu sur 2 jours\, avec le partage d’expériences d’une vétérinaire phyto et aromathérapeute reconnue : Lucile Brochot et du producteurs de PPAM bio de la ferme du Bien-être des Vosges Nicolas Thomas.\n \nAu programme de la formation : \n\nMieux connaitre les plantes\, leurs préparations et leurs utilisations possibles en élevage\nSavoir comment respecter la réglementation et bénéficier des bienfaits des plantes\nDécouvrir le métier de récolte et séchage des plantes bio\n\nLieux : Le Tholy 88530 \nPublic visé : Éleveurs de ruminant du Grand Est et porteurs de projet \nPour plus d’informations sur ce rendez vous et inscription obligatoire : Julia SICARD \, 06 52 69 13 89 \nPlaquette de formation détaillé : ICI
URL:https://biograndest.org/evenement/formation-phytotherapie-et-aromatherapie-en-elevage-initiation-et-liens-avec-le-sechage-et-les-recoltes-des-plantes/
LOCATION:LE THOLY\, Place de l'Eglise\, LE THOLY\, 88530\, France
CATEGORIES:Formation,Vosges
ATTACH;FMTTYPE=image/jpeg:https://biograndest.org/wp-content/uploads/2019/08/formation.jpg
END:VEVENT
END:VCALENDAR