BEGIN:VCALENDAR
VERSION:2.0
PRODID:-//Bio Grand Est - ECPv6.15.14//NONSGML v1.0//EN
CALSCALE:GREGORIAN
METHOD:PUBLISH
X-WR-CALNAME:Bio Grand Est
X-ORIGINAL-URL:https://biograndest.org
X-WR-CALDESC:Évènements pour Bio Grand Est
REFRESH-INTERVAL;VALUE=DURATION:PT1H
X-Robots-Tag:noindex
X-PUBLISHED-TTL:PT1H
BEGIN:VTIMEZONE
TZID:Europe/Paris
BEGIN:DAYLIGHT
TZOFFSETFROM:+0100
TZOFFSETTO:+0200
TZNAME:CEST
DTSTART:20240331T010000
END:DAYLIGHT
BEGIN:STANDARD
TZOFFSETFROM:+0200
TZOFFSETTO:+0100
TZNAME:CET
DTSTART:20241027T010000
END:STANDARD
BEGIN:DAYLIGHT
TZOFFSETFROM:+0100
TZOFFSETTO:+0200
TZNAME:CEST
DTSTART:20250330T010000
END:DAYLIGHT
BEGIN:STANDARD
TZOFFSETFROM:+0200
TZOFFSETTO:+0100
TZNAME:CET
DTSTART:20251026T010000
END:STANDARD
BEGIN:DAYLIGHT
TZOFFSETFROM:+0100
TZOFFSETTO:+0200
TZNAME:CEST
DTSTART:20260329T010000
END:DAYLIGHT
BEGIN:STANDARD
TZOFFSETFROM:+0200
TZOFFSETTO:+0100
TZNAME:CET
DTSTART:20261025T010000
END:STANDARD
END:VTIMEZONE
BEGIN:VEVENT
DTSTART;TZID=Europe/Paris:20250303T090000
DTEND;TZID=Europe/Paris:20250303T170000
DTSTAMP:20260423T050745
CREATED:20241129T102643Z
LAST-MODIFIED:20241129T102643Z
UID:20159-1740992400-1741021200@biograndest.org
SUMMARY:Formation : Le Greffage des Solanacées en Bio
DESCRIPTION:Objectifs de la formation : \nMieux connaître les matériels nécessaires à la fabrication des plants greffés.\nÊtre capable de mettre en œuvre un protocole de greffage sur tomate et aubergine.\nSavoir dimensionner un atelier plants greffés en fonction de ses besoins.\nLes stagiaires seront capables mettre en place un atelier plants greffés sur leur exploitation conforme à leurs besoins et à leurs budgets. Ils seront capables d’analyser la rentabilité d’un tel atelier. Ils auront acquis les bases des gestes techniques nécessaires. Cette formation nécessitera une préparation en amont afin de préparer les semis et plants pour l’atelier pratique. \nProgramme ICI \nInscription et renseignements : Nicolas HERBETH / 06.95.90.83.50.
URL:https://biograndest.org/evenement/formation-le-greffage-des-solanacees-en-bio/
LOCATION:sapois\, GAEC Champs des Coteaux - 1 grande rue\, SAPOIS\, 88120
CATEGORIES:Formation,Vosges
ATTACH;FMTTYPE=image/jpeg:https://biograndest.org/wp-content/uploads/2019/06/MARAICH_champs.jpg
END:VEVENT
BEGIN:VEVENT
DTSTART;TZID=Europe/Paris:20250307T093000
DTEND;TZID=Europe/Paris:20250307T173000
DTSTAMP:20260423T050745
CREATED:20250131T142841Z
LAST-MODIFIED:20251123T181149Z
UID:21002-1741339800-1741368600@biograndest.org
SUMMARY:Formation : Quelles plantes bénéfiques aux animaux dans mes prairies et dans mes haies ?
DESCRIPTION:Si vous vous intéressez à la gestion de vos prairies pour vos ruminants et aux arbres à implanter/favoriser/valoriser pour votre élevage ou pour votre ferme → venez travailler cette thématique sur 1 jour en mars\, avec le partage d’expérience d’une vétérinaire du GIE Zone Verte\, Coralie Amar\, formée à la phyto-aromathérapie\, à l’approche globale de la santé en élevage de ruminants\, à l’agroécologie et agroforesterie en élevage.\n \nAu programme de la formation : \n\nComprendre la dynamique de l’écosystème d’une prairie et les aléas des symbioses entre les végétaux\, les herbivores et la vie du sol\nDécouvrir les plantes d’intérêt pour les animaux et bio-indicatrices de la prairie\nSavoir prendre soin de ses prairies pour les animaux. (pâturage/épandage/qualité du fumier…)\nIdentifier les intérêts des apports des ligneux (haies diversifiées) pour les animaux\, la prairie\, la gestion de l’eau\nSavoir introduire et entretenir les ligneux pour les animaux\nConnaitre la valorisation possible en élevage pour le bois fourrager et l’entretien des haies\n\nLieux : Mirecourt (88500) \nPublic visé : Éleveurs de ruminant du Grand Est et porteurs de projet \nPour plus d’informations sur ce rendez-vous et inscription obligatoire : Julia SICARD \, 06 52 69 13 89 \nPlaquette de formation détaillé : ici
URL:https://biograndest.org/evenement/formation-quelles-plantes-benefiques-aux-animaux-dans-mes-prairies-et-dans-mes-haies/
LOCATION:Mirecourt
CATEGORIES:Formation,Techniques,Vosges
ATTACH;FMTTYPE=image/jpeg:https://biograndest.org/wp-content/uploads/2019/03/LOR_moutons-dans-verger-3WEB.jpg
END:VEVENT
BEGIN:VEVENT
DTSTART;TZID=Europe/Paris:20250319T100000
DTEND;TZID=Europe/Paris:20250319T173000
DTSTAMP:20260423T050745
CREATED:20250310T135000Z
LAST-MODIFIED:20250310T135000Z
UID:21168-1742378400-1742405400@biograndest.org
SUMMARY:Journée consacrée à l’Hydrologie Régénérative :  « Et si nous pouvions cultiver l’eau ? »
DESCRIPTION:Les étudiants en formation TEA de la MFR de Ramonchamp\, avec le soutien de Bio en Grand Est et Bio des Vosges notamment\, vous donnent rendez-vous \n  \nLe mercredi 19 mars 2025 \nA la Vigotte Lab – 81 La Vigotte\, Girmont-Val-d’Ajol \nJournée consacrée à l’Hydrologie Régénérative :  « Et si nous pouvions cultiver l’eau ? » \nAvec la présence de Samuel Bonvoisin\, conférencier\, consultant et formateurs en conception de systèmes régénératifs \n  \nSécheresses\, inondations : le mot d’ordre qu’on entend partout\, c’est « il faut s’adapter ». D’accord ! Mais est-ce la seule voie\, le seul levier que nous ayons en notre possession pour développer notre résilience à l’échelle territoriale ? Et si on pouvait faire beaucoup mieux… comme par exemple cultiver l’eau ? \nAu programme : \n\nde10h à 12h30 :\n\nConférence « Et si nous pouvions cultiver l’Eau » de Samuel Bonvoisin\nParcs des Ballons : Présentation du projet « Eau et Agriculture de montagne » \nSyndicat Mixte Moselle Amont : Présentation du rôle et des actions du syndicat de rivière \nChambre d’Agriculture : Présentation du dispositif MAESTR’EAU \n\n\n\n               Réservation au 06 79 59 45 11 / audej_55@hotmail.com \n\n12h30 à 14h00 : Repas : Buffet debout préparé par la MFR de Saulxures sur Moselotte\, buvette gérée par le comité de la petite Région Montagne Sud\n\n\n14h-16h \n– Atelier avec Samuel Bonvoisin\, à la ferme Lopin au Levain\, – paysan boulanger et éleveurs ovins viande en bio.\nParticipez à la ‘lecture’ de la circulation de l’eau dans le paysage agricole et comment pourraient être mis en œuvre les principes de l’Hydrologie Régénérative vus le matin en conférence.\nAdresse : 101 route de la Chaume – 88340 Le Val-d’Ajol\n!! Pour cet atelier\, réservation obligatoire au 0769270391 / gab88@biograndest.org\n– Atelier Lecture de paysage + visite des aménagements de la Vigotte orientés gestion du cycle de l’eau : renaturation des étangs et du ruisseau\, régénération des sols\, etc. (1H\, 25 personnes max.). A La Vigotte Lab – ! Réservation au 0679594511 / audej_55@hotmail.com\n– Atelier de sciences participatives sur l’eau (1H\, 10 personnes max.). A La Vigotte Lab- ! Réservation au 0679594511 / audej_55@hotmail.com\n– Visite de la serre en aquaponie (30 min\, 10 personnes max.). A La Vigotte Lab- ! Réservation au 0679594511 / audej_55@hotmail.com\n– Visite de ferme – Les Cabrioles de Grandrupt\, visite animée par François BULTINGAIRE (apprenant en formation TEA)\nAdresse : 18 colline de Grand-Rupt\, 88360 Rupt-sur-Moselle- ! Réservation au 0679594511 / audej_55@hotmail.com\n\n  \nConcernant les ateliers à La Vigotte Lan\, selon le nombre d’inscrits\, les étudiants vous proposent d’organiser plusieurs parcours permettant aux participants de combiner ces activités (donc chaque animation pourra être proposée plusieurs fois). \n 
URL:https://biograndest.org/evenement/journee-consacree-a-lhydrologie-regenerative-et-si-nous-pouvions-cultiver-leau/
LOCATION:Lieu-dit La Vigotte 88340 GIRMONT VAL D’AJOL\, Lieu-dit La Vigotte\, 88340 GIRMONT VAL D’AJOL\, 88340\, France
CATEGORIES:Bon Bien Bio,Climat,Evènement,Vosges
ATTACH;FMTTYPE=image/jpeg:https://biograndest.org/wp-content/uploads/2025/03/affiche-power-point-ph.jpg
ORGANIZER;CN="BIO des VOSGES":MAILTO:contact-gab@orange.fr
END:VEVENT
END:VCALENDAR