BEGIN:VCALENDAR
VERSION:2.0
PRODID:-//Bio Grand Est - ECPv6.15.14//NONSGML v1.0//EN
CALSCALE:GREGORIAN
METHOD:PUBLISH
X-ORIGINAL-URL:https://biograndest.org
X-WR-CALDESC:Évènements pour Bio Grand Est
REFRESH-INTERVAL;VALUE=DURATION:PT1H
X-Robots-Tag:noindex
X-PUBLISHED-TTL:PT1H
BEGIN:VTIMEZONE
TZID:Europe/Paris
BEGIN:DAYLIGHT
TZOFFSETFROM:+0100
TZOFFSETTO:+0200
TZNAME:CEST
DTSTART:20240331T010000
END:DAYLIGHT
BEGIN:STANDARD
TZOFFSETFROM:+0200
TZOFFSETTO:+0100
TZNAME:CET
DTSTART:20241027T010000
END:STANDARD
BEGIN:DAYLIGHT
TZOFFSETFROM:+0100
TZOFFSETTO:+0200
TZNAME:CEST
DTSTART:20250330T010000
END:DAYLIGHT
BEGIN:STANDARD
TZOFFSETFROM:+0200
TZOFFSETTO:+0100
TZNAME:CET
DTSTART:20251026T010000
END:STANDARD
BEGIN:DAYLIGHT
TZOFFSETFROM:+0100
TZOFFSETTO:+0200
TZNAME:CEST
DTSTART:20260329T010000
END:DAYLIGHT
BEGIN:STANDARD
TZOFFSETFROM:+0200
TZOFFSETTO:+0100
TZNAME:CET
DTSTART:20261025T010000
END:STANDARD
END:VTIMEZONE
BEGIN:VEVENT
DTSTART;TZID=Europe/Paris:20250518T100000
DTEND;TZID=Europe/Paris:20250518T180000
DTSTAMP:20260423T014604
CREATED:20250417T070259Z
LAST-MODIFIED:20250514T162347Z
UID:21356-1747562400-1747591200@biograndest.org
SUMMARY:[Printemps Bio] Portes ouvertes à la Ferme du Barlin
DESCRIPTION:Portes ouvertes à la ferme du Barlin :\nVenez découvrir une ferme maraîchère unique en son genre : Créé de toutes pièces au cœur du massif des Vosges\, cette ferme de montagne organise ses cultures en terrasse et produit des légumes et petits fruits bio de saison\, malgré l’altitude ! Le tout dans un cadre idyllique : Au beau milieu des massifs forestiers et de la faune sauvage. \nVisite libre et commentée des jardins et du maraîchage en montagne\, vente de plants potagers\, de conserves de légumes\, restauration et rafraichissements sur place… et ambiance musicale 🙂 \nLieu : La ferme du Barlin – 1 Lieu-dit « Le Barlin » – 68240 FRELAND \n  \nPour retrouver toutes les offres du Printemps Bio\, rendez vous ICI.
URL:https://biograndest.org/evenement/printemps-bio-portes-ouvertes-a-la-ferme-du-barlin/
LOCATION:La ferme du Barlin\, FRELAND\, 68240\, France
CATEGORIES:Bon Bien Bio,Vosges
ATTACH;FMTTYPE=image/png:https://biograndest.org/wp-content/uploads/2025/04/httpsdrivegooglecomopenid1m-a4arldj5yjphmjy6tfnvp3oryy4bap-1.png
END:VEVENT
BEGIN:VEVENT
DTSTART;TZID=Europe/Paris:20250523T160000
DTEND;TZID=Europe/Paris:20250523T200000
DTSTAMP:20260423T014604
CREATED:20250417T095929Z
LAST-MODIFIED:20250514T161655Z
UID:21476-1748016000-1748030400@biograndest.org
SUMMARY:[Printemps Bio] Le Marché Bio d’Épinal
DESCRIPTION:Découvrez un marché 100% Local 100% Bio 100% Paysan ! \nLe Marché des Paysans Bio se tient au port d’Épinal les vendredis des semaines impaires à partir de 16h.\nIl ferme à 20h en période estivale et à 19h en période hivernale. \nProfitez du Printemps Bio pour le découvrir. Vous y rencontrez des producteurs bio passionnés et passionnants.\nIls vous proposent une belle diversité de produits bio locaux et de saisons ! \n  \nPour retrouver toutes les offres du Printemps Bio\, rendez vous ICI.
URL:https://biograndest.org/evenement/printemps-bio-le-marche-bio-depinal/
LOCATION:Port d’Epinal\, D12\,\, Épinal\, 88000\, France
CATEGORIES:Bon Bien Bio,Evènement,Vosges
ATTACH;FMTTYPE=image/png:https://biograndest.org/wp-content/uploads/2025/04/httpsdrivegooglecomopenid1m-a4arldj5yjphmjy6tfnvp3oryy4bap-13.png
END:VEVENT
BEGIN:VEVENT
DTSTART;TZID=Europe/Paris:20250524T100000
DTEND;TZID=Europe/Paris:20250524T235500
DTSTAMP:20260423T014604
CREATED:20250417T102704Z
LAST-MODIFIED:20250514T161442Z
UID:21508-1748080800-1748130900@biograndest.org
SUMMARY:[Printemps Bio] Marché bio et local de Tendon
DESCRIPTION:L’association vous accueille tous les samedis matin sous la halle de Tendon\, de 10h à midi pour un marché de producteurs et artisans locaux labellisés AB\, Nature & Progrès pour tous les produits alimentaires\, et des artisans ou acteurs de la vie locale ayant une démarche et une éthique correspondante aux valeurs portées par l’association.\nLes producteurs : \n\n• La ferme de Deux’mains : à Docelles\, légumes\, fruits\, jus de pommes\, produits transformés de légumes : https://lafermededeuxmains.fr/\n• A la Logetat : à Tendon\, fromages frais \, affinés\, tomes\, yaourts\, fromages blancs\, crèmes caramel\, le tout au lait de brebis\, mais aussi caissettes d’agneau\, saucisson et merguez 100% brebis\n• Le Faing Janel : à Tendon\, fromages frais\, affinés\, tomes et fromages blancs\, le tout à base de lait de chèvre de lorraine\, caissette de porc\, charcuterie de porc. https://www.facebook.com/people/Ferme-du-Faing-Janel/100057469329304/\n• Un brin de cueillette : à Faucompierre\, plantes aromatiques et médicinales en tisanes\, sirops\, vinaigres\, confitures\, cosmétiques\, le tout avec majoritairement de la cueillette sauvage. https://unbrindecueillette.fr/\n• Un brin de Tomate : à Faucompierre\, tomates et produits transformés à base de Tomates (tomates séchée\, condiments\, coulis\, crackers…)\n• GAEC de la moulure : à Tendon\, munster et tomes de lait de vaches vosgiennes\, steaks hachés de vaches vosgiennes. https://www.gaecdelamoulure.fr/\n• GAEC du grand Liezey : à Liezey\, poulets entiers et découpés ainsi que viande de dinde. https://www.facebook.com/fermedugrandliezey/\n• Pépinière Mairôvosgiens : à Xamontarupt\, arbres fruitiers de variétés anciennes\, herbacées et petit fruits. https://arbre-fruitier.fr/\nLes artisans\n• L’épi sur terre : à Docelles\, pains 100% levain naturel\, brioche\, fougasses et pain de mie\, le tout avec des farines paysannes locales et sur meule de pierre. Mathieu 06.19.19.25.50\n• Brasserie Quat’sous : à Vecoux\, bières (tireuse sur place) et kombucha : https://www.facebook.com/people/Brasserie-de-QuatSous/100057207379112/\n• L’atelier du faing Janel : à Tendon\, jeux en bois\, bijoux\, peintures… https://fr-fr.facebook.com/latelierdufaingjanel/\n• Fan de Colimont : à La Chapelle Devant Bruyeres\, pâtes artisanales\, aux œufs et avec des farines locales (blé\, petit épeautre\, sans gluten). https://www.facebook.com/RoyFanny88/\n• Le Book truck : à Fays\, livres d’occasion\n• La meule de la cave : à Tendon\, affûteur rémouleur itinérant professionnels & particuliers. Denis : 07.88.39.43.44\n\nPour retrouver toutes les offres du Printemps Bio\, rendez vous ICI.
URL:https://biograndest.org/evenement/printemps-bio-marche-bio-et-local-de-tendon-6/
LOCATION:sous la Halle\, Tendon\, 88 460\, France
CATEGORIES:Bon Bien Bio,Evènement,Vosges
ATTACH;FMTTYPE=image/png:https://biograndest.org/wp-content/uploads/2025/04/httpsdrivegooglecomopenid1m-a4arldj5yjphmjy6tfnvp3oryy4bap-13.png
END:VEVENT
BEGIN:VEVENT
DTSTART;TZID=Europe/Paris:20250526T090000
DTEND;TZID=Europe/Paris:20250526T163000
DTSTAMP:20260423T014604
CREATED:20250417T094757Z
LAST-MODIFIED:20250514T161816Z
UID:21459-1748250000-1748277000@biograndest.org
SUMMARY:[Printemps Bio] Ateliers de sensibilisation à la biodiversité et à l'agriculture biologique
DESCRIPTION:4 ateliers différents adaptés aux âges\, cuisine\, reconnaissance de légumes\, insectes\, plantation d’aromatiques. Pour les plus grands\, visionnage d’une partie d’un C’est toujours pas sorcier sur l’agriculture suivie d’une discussion. \n  \nPour retrouver toutes les offres du Printemps Bio\, rendez vous ICI.
URL:https://biograndest.org/evenement/printemps-bio-ateliers-de-sensibilisation-a-la-biodiversite-et-a-lagriculture-biologique/
LOCATION:Ecole maternelle\, 8 rue Notre-Dame\, Mattaincourt\, 88 500\, France
CATEGORIES:Bon Bien Bio,Evènement,Vosges
ATTACH;FMTTYPE=image/png:https://biograndest.org/wp-content/uploads/2025/04/httpsdrivegooglecomopenid1m-a4arldj5yjphmjy6tfnvp3oryy4bap-15.png
END:VEVENT
BEGIN:VEVENT
DTSTART;TZID=Europe/Paris:20250531T100000
DTEND;TZID=Europe/Paris:20250531T235500
DTSTAMP:20260423T014604
CREATED:20250417T100804Z
LAST-MODIFIED:20250514T161611Z
UID:21484-1748685600-1748735700@biograndest.org
SUMMARY:[Printemps Bio] Marché bio et local de Tendon
DESCRIPTION:L’association vous accueille tous les samedis matin sous la halle de Tendon\, de 10h à midi pour un marché de producteurs et artisans locaux labellisés AB\, Nature & Progrès pour tous les produits alimentaires\, et des artisans ou acteurs de la vie locale ayant une démarche et une éthique correspondante aux valeurs portées par l’association.\nLes producteurs : \n\n• La ferme de Deux’mains : à Docelles\, légumes\, fruits\, jus de pommes\, produits transformés de légumes : https://lafermededeuxmains.fr/\n• A la Logetat : à Tendon\, fromages frais \, affinés\, tomes\, yaourts\, fromages blancs\, crèmes caramel\, le tout au lait de brebis\, mais aussi caissettes d’agneau\, saucisson et merguez 100% brebis\n• Le Faing Janel : à Tendon\, fromages frais\, affinés\, tomes et fromages blancs\, le tout à base de lait de chèvre de lorraine\, caissette de porc\, charcuterie de porc. https://www.facebook.com/people/Ferme-du-Faing-Janel/100057469329304/\n• Un brin de cueillette : à Faucompierre\, plantes aromatiques et médicinales en tisanes\, sirops\, vinaigres\, confitures\, cosmétiques\, le tout avec majoritairement de la cueillette sauvage. https://unbrindecueillette.fr/\n• Un brin de Tomate : à Faucompierre\, tomates et produits transformés à base de Tomates (tomates séchée\, condiments\, coulis\, crackers…)\n• GAEC de la moulure : à Tendon\, munster et tomes de lait de vaches vosgiennes\, steaks hachés de vaches vosgiennes. https://www.gaecdelamoulure.fr/\n• GAEC du grand Liezey : à Liezey\, poulets entiers et découpés ainsi que viande de dinde. https://www.facebook.com/fermedugrandliezey/\n• Pépinière Mairôvosgiens : à Xamontarupt\, arbres fruitiers de variétés anciennes\, herbacées et petit fruits. https://arbre-fruitier.fr/\nLes artisans\n• L’épi sur terre : à Docelles\, pains 100% levain naturel\, brioche\, fougasses et pain de mie\, le tout avec des farines paysannes locales et sur meule de pierre. Mathieu 06.19.19.25.50\n• Brasserie Quat’sous : à Vecoux\, bières (tireuse sur place) et kombucha : https://www.facebook.com/people/Brasserie-de-QuatSous/100057207379112/\n• L’atelier du faing Janel : à Tendon\, jeux en bois\, bijoux\, peintures… https://fr-fr.facebook.com/latelierdufaingjanel/\n• Fan de Colimont : à La Chapelle Devant Bruyeres\, pâtes artisanales\, aux œufs et avec des farines locales (blé\, petit épeautre\, sans gluten). https://www.facebook.com/RoyFanny88/\n• Le Book truck : à Fays\, livres d’occasion\n• La meule de la cave : à Tendon\, affûteur rémouleur itinérant professionnels & particuliers. Denis : 07.88.39.43.44\n\nPour retrouver toutes les offres du Printemps Bio\, rendez vous ICI.
URL:https://biograndest.org/evenement/printemps-bio-marche-bio-et-local-de-tendon/
LOCATION:sous la Halle\, Tendon\, 88 460\, France
CATEGORIES:Bon Bien Bio,Evènement,Vosges
ATTACH;FMTTYPE=image/png:https://biograndest.org/wp-content/uploads/2025/04/httpsdrivegooglecomopenid1m-a4arldj5yjphmjy6tfnvp3oryy4bap-13.png
END:VEVENT
BEGIN:VEVENT
DTSTART;TZID=Europe/Paris:20250531T140000
DTEND;TZID=Europe/Paris:20250531T163000
DTSTAMP:20260423T014604
CREATED:20250415T123526Z
LAST-MODIFIED:20250514T162430Z
UID:21329-1748700000-1748709000@biograndest.org
SUMMARY:[Printemps Bio] Balade découvertes sur les plantes sauvages comestibles
DESCRIPTION:Des balades découvertes des plantes sauvages comestibles d’une durée de 2h30\, de 14h à 16h30. Après une balade (dans une prairie\, en forêt et dans un ancien potager) où nous (re)découvrirons les plantes présentes ainsi que leurs vertus et utilisations culinaires\, vous pourrez déguster un goûter sauvage avec les plantes du moment. Atelier animé par Aurore Lab\, productrice & cueilleuse. \nTarif: 15 € par personne.\nLieu: Moussey 88210\nConvient aux enfants. Les chiens sont acceptés si tenue en laisse et aimant les humains 😉 \nSymbi’Ose Nature \nInscription obligatoire par ici: https://www.symbiosenature.com/event-details/balade-re-decouverte-plantes-sauvages-comestibles-2025-05-31-14-00 \n  \nPour retrouver toutes les offres du Printemps Bio\, rendez vous ICI.
URL:https://biograndest.org/evenement/printemps-bio-balade-decouvertes-sur-les-plantes-sauvages-comestibles/
LOCATION:88210 Moussey
CATEGORIES:Bon Bien Bio,Vosges
ATTACH;FMTTYPE=image/png:https://biograndest.org/wp-content/uploads/2025/04/httpsdrivegooglecomopenid1m-a4arldj5yjphmjy6tfnvp3oryy4bap.png
END:VEVENT
END:VCALENDAR