BEGIN:VCALENDAR
VERSION:2.0
PRODID:-//Bio Grand Est - ECPv6.15.14//NONSGML v1.0//EN
CALSCALE:GREGORIAN
METHOD:PUBLISH
X-ORIGINAL-URL:https://biograndest.org
X-WR-CALDESC:Évènements pour Bio Grand Est
REFRESH-INTERVAL;VALUE=DURATION:PT1H
X-Robots-Tag:noindex
X-PUBLISHED-TTL:PT1H
BEGIN:VTIMEZONE
TZID:Europe/Paris
BEGIN:DAYLIGHT
TZOFFSETFROM:+0100
TZOFFSETTO:+0200
TZNAME:CEST
DTSTART:20240331T010000
END:DAYLIGHT
BEGIN:STANDARD
TZOFFSETFROM:+0200
TZOFFSETTO:+0100
TZNAME:CET
DTSTART:20241027T010000
END:STANDARD
BEGIN:DAYLIGHT
TZOFFSETFROM:+0100
TZOFFSETTO:+0200
TZNAME:CEST
DTSTART:20250330T010000
END:DAYLIGHT
BEGIN:STANDARD
TZOFFSETFROM:+0200
TZOFFSETTO:+0100
TZNAME:CET
DTSTART:20251026T010000
END:STANDARD
BEGIN:DAYLIGHT
TZOFFSETFROM:+0100
TZOFFSETTO:+0200
TZNAME:CEST
DTSTART:20260329T010000
END:DAYLIGHT
BEGIN:STANDARD
TZOFFSETFROM:+0200
TZOFFSETTO:+0100
TZNAME:CET
DTSTART:20261025T010000
END:STANDARD
END:VTIMEZONE
BEGIN:VEVENT
DTSTART;TZID=Europe/Paris:20251006T080000
DTEND;TZID=Europe/Paris:20251006T170000
DTSTAMP:20260422T173029
CREATED:20250710T115250Z
LAST-MODIFIED:20250710T115255Z
UID:22019-1759737600-1759770000@biograndest.org
SUMMARY:Paysan.ne\, pourquoi pas moi ?
DESCRIPTION:Bio en Grand Est avec ses partenaires; l’ARDEAR et Terre de liens\, propose une formation pour accompagner les futurs paysan.nes à définir leur projet agricole en accord  avec leurs valeurs d‘agroécologie et leurs envies personnelles  pour qu’ils s’engagent sans crainte vers l’installation. \n\n\n\nLes objectifs \n\nPrendre le temps de passer du rêve au concret\, sans se précipiter ou stagner dans son projet d’installation agricole\nComprendre les étapes pour passer du rêve au projet sans vous précipiter\nClarifier votre projet et le structurer en accord avec vos valeurs\nAcquérir des repères et s’intégrer dans le monde agricole sans se sentir isolé\, en échangeant avec d’autres porteurs de projets et des paysans\nApprofondir vos connaissances agricoles (statuts\, productions\, foncier\, …)\n\nLa prochaine cession est programmée à Neuves-Maisons (54) en Lorraine :\n6 et 7 octobre\,\n20 et 21 octobre\,\n3 et 4 novembre \,\n17 et 18 novembre\,\n1 et 2 décembre 2025 \nPlus d’informations et modalités d’inscription ICI
URL:https://biograndest.org/evenement/paysan-ne-pourquoi-pas-moi/
LOCATION:Neuves-Maisons (54)
CATEGORIES:Formation,Meurthe-et-Moselle,Meuse,Moselle,Vosges
ATTACH;FMTTYPE=image/jpeg:https://biograndest.org/wp-content/uploads/2019/08/formation.jpg
END:VEVENT
BEGIN:VEVENT
DTSTART;TZID=Europe/Paris:20251012T113000
DTEND;TZID=Europe/Paris:20251012T150000
DTSTAMP:20260422T173029
CREATED:20251001T141553Z
LAST-MODIFIED:20251001T141607Z
UID:22376-1760268600-1760281200@biograndest.org
SUMMARY:Pique-nique annuel des adhérents de Bio des Vosges
DESCRIPTION:Le Groupement des Agricultrices et des Agriculteurs Bio des Vosges invite ses adhérents et adhérentes au pique-nique annuel de l’association \nDimanche 12 octobre 2025 \nA partir de 11h30 \nA Madecourt – La Jardin de la Manne \nVisite du jardin \nPique-nique en toute simplicité \n  \nA noter ! 😊 \n\nformat auberge espagnole\, chacun\, chacune apporte un plat à partager\nle GAB offre la boisson\nmerci d’apportez vos assiettes\, verres et couverts\nmerci de vous faire connaitre – pour prévoir les bancs et les tables\npossibilité de manger à l’abri dans du dur si la météo\n\nAdresse de la ferme : 272 Grand Rue – 88270 Madecourt \nRenseignements et inscriptions : gab88@biograndest.org / 07 69 27 03 91
URL:https://biograndest.org/evenement/pique-nique-annuel-des-adherents/
LOCATION:Le Jardin de la Manne\, 272 Grand Rue\, MADECOURT\, 88270
CATEGORIES:Evènement,Vosges
ATTACH;FMTTYPE=image/jpeg:https://biograndest.org/wp-content/uploads/2025/10/pique-nique-gab88-recto.jpg
ORGANIZER;CN="BIO des VOSGES":MAILTO:contact-gab@orange.fr
END:VEVENT
BEGIN:VEVENT
DTSTART;TZID=Europe/Paris:20251027T203000
DTEND;TZID=Europe/Paris:20251027T220000
DTSTAMP:20260422T173029
CREATED:20251009T151039Z
LAST-MODIFIED:20251013T140516Z
UID:22450-1761597000-1761602400@biograndest.org
SUMMARY:Ordonnances Vertes dans les Vosges - conférence débat
DESCRIPTION:🍼🌿 Conférence débat – Ordonnances Vertes dans les Vosges\nVous attendez un enfant ? Vous êtes parents de jeunes enfants\, assistantes maternelles ou professionnels en lien avec la petite enfance ? \nParticipez à une conférence-débat essentielle dans les Vosges autour des Ordonnances Vertes. \n👩‍⚕️ Intervenants : \n\nDr Jean Tisserant\nDr Étienne Gehin\nMarie-Claire Mougel\, sage-femme\n\nCes experts aborderont les effets des perturbateurs endocriniens sur la santé des fœtus et des jeunes enfants. Leurs recherches mettent en lumière les liens entre l’exposition à ces substances et l’augmentation de pathologies telles que l’autisme\, les troubles du neuro-développement et certains cancers. \nDans le cadre des Ordonnances Vertes\, les femmes enceintes bénéficient de paniers bio pour limiter leur exposition aux substances nocives et protéger leur santé ainsi que celle de leur bébé. \n📩 Infos et réservations : vosges@forumbio.fr
URL:https://biograndest.org/evenement/ordonnances-vertes-dans-les-vosges-conference-debat-271025/
LOCATION:Saulcy-en-vert\, 2 rue Anozel\, Saulcy-en-Vert\, 88580\, France
CATEGORIES:Evènement,Vosges
ATTACH;FMTTYPE=image/jpeg:https://biograndest.org/wp-content/uploads/2025/10/visuel-ordonnances-vertes.jpg
ORGANIZER;CN="BIO des VOSGES":MAILTO:contact-gab@orange.fr
END:VEVENT
BEGIN:VEVENT
DTSTART;TZID=Europe/Paris:20251030T203000
DTEND;TZID=Europe/Paris:20251030T220000
DTSTAMP:20260422T173029
CREATED:20251009T151105Z
LAST-MODIFIED:20251009T190029Z
UID:22495-1761856200-1761861600@biograndest.org
SUMMARY:Ordonnances Vertes dans les Vosges - conférence débat
DESCRIPTION:🍼🌿 Conférence débat – Ordonnances Vertes dans les Vosges\nVous attendez un enfant ? Vous êtes parents de jeunes enfants\, assistantes maternelles ou professionnels en lien avec la petite enfance ? \nParticipez à une conférence-débat essentielle dans les Vosges autour des Ordonnances Vertes. \n👩‍⚕️ Intervenants : \n\nDr Jean Tisserant\nDr Étienne Gehin\nMarie-Claire Mougel\, sage-femme\n\nCes experts aborderont les effets des perturbateurs endocriniens sur la santé des fœtus et des jeunes enfants. Leurs recherches mettent en lumière les liens entre l’exposition à ces substances et l’augmentation de pathologies telles que l’autisme\, les troubles du neuro-développement et certains cancers. \nDans le cadre des Ordonnances Vertes\, les femmes enceintes bénéficient de paniers bio pour limiter leur exposition aux substances nocives et protéger leur santé ainsi que celle de leur bébé. \n📩 Infos et réservations : vosges@forumbio.fr
URL:https://biograndest.org/evenement/ordonnances-vertes-dans-les-vosges-conference-debat-301025/
LOCATION:Remiremont (88)\, 2 place Henri Utard\, REMIREMONT\, 88200\, France
CATEGORIES:Evènement,Vosges
ATTACH;FMTTYPE=image/jpeg:https://biograndest.org/wp-content/uploads/2025/10/visuel-ordonnances-vertes.jpg
ORGANIZER;CN="BIO des VOSGES":MAILTO:contact-gab@orange.fr
END:VEVENT
END:VCALENDAR