BEGIN:VCALENDAR
VERSION:2.0
PRODID:-//Bio Grand Est - ECPv6.15.14//NONSGML v1.0//EN
CALSCALE:GREGORIAN
METHOD:PUBLISH
X-ORIGINAL-URL:https://biograndest.org
X-WR-CALDESC:Évènements pour Bio Grand Est
REFRESH-INTERVAL;VALUE=DURATION:PT1H
X-Robots-Tag:noindex
X-PUBLISHED-TTL:PT1H
BEGIN:VTIMEZONE
TZID:Europe/Paris
BEGIN:DAYLIGHT
TZOFFSETFROM:+0100
TZOFFSETTO:+0200
TZNAME:CEST
DTSTART:20250330T010000
END:DAYLIGHT
BEGIN:STANDARD
TZOFFSETFROM:+0200
TZOFFSETTO:+0100
TZNAME:CET
DTSTART:20251026T010000
END:STANDARD
BEGIN:DAYLIGHT
TZOFFSETFROM:+0100
TZOFFSETTO:+0200
TZNAME:CEST
DTSTART:20260329T010000
END:DAYLIGHT
BEGIN:STANDARD
TZOFFSETFROM:+0200
TZOFFSETTO:+0100
TZNAME:CET
DTSTART:20261025T010000
END:STANDARD
BEGIN:DAYLIGHT
TZOFFSETFROM:+0100
TZOFFSETTO:+0200
TZNAME:CEST
DTSTART:20270328T010000
END:DAYLIGHT
BEGIN:STANDARD
TZOFFSETFROM:+0200
TZOFFSETTO:+0100
TZNAME:CET
DTSTART:20271031T010000
END:STANDARD
END:VTIMEZONE
BEGIN:VEVENT
DTSTART;TZID=Europe/Paris:20260508T143000
DTEND;TZID=Europe/Paris:20260508T163000
DTSTAMP:20260420T100001
CREATED:20260326T121906Z
LAST-MODIFIED:20260326T121906Z
UID:23632-1778250600-1778257800@biograndest.org
SUMMARY:Balade dans la nature à la découverte des plantes sauvages comestibles
DESCRIPTION:Balade dans la nature à la découverte des plantes sauvages comestibles :\n \n\nReconnaissance les plantes du printemps\nUtilisations culinaires\nDégustation de boisson aux plantes offerte à la ferme\n\nPrévoir :\n– Une tenue adaptée à la promenade en milieu naturel et à la météo\n– Un panier ou des sachets kraft\, couteau ou ciseaux\n– Papier & crayon pour la prise de notes \nAnimation : Colette du Cheyron\, paysanne-herboriste bio \nDurée : 2h \nTarif : 20€ la séance – 50€ les 3 séances (gratuit pour les enfants) \nInscription : 06 73 50 47 91 / lherbierdecolette@protonmail.com
URL:https://biograndest.org/evenement/balade-dans-la-nature-a-la-decouverte-des-plantes-sauvages-comestibles-3/
LOCATION:91 Rue Machoit\, 88800 Mandres-sur-Vair\, 91 Rue Machoit\, Mandres-sur-Vair\, 88800\, France
CATEGORIES:Animation,Bon Bien Bio,Vosges
ATTACH;FMTTYPE=image/png:https://biograndest.org/wp-content/uploads/2026/03/visuels-event-site-bge.png
END:VEVENT
BEGIN:VEVENT
DTSTART;TZID=Europe/Paris:20260512T093000
DTEND;TZID=Europe/Paris:20260512T113000
DTSTAMP:20260420T100001
CREATED:20260326T121854Z
LAST-MODIFIED:20260330T075925Z
UID:23638-1778578200-1778585400@biograndest.org
SUMMARY:Balade dans la nature à la découverte des plantes sauvages comestibles
DESCRIPTION:Balade dans la nature à la découverte des plantes sauvages comestibles :\n \n\nReconnaissance les plantes du printemps\nUtilisations culinaires\nDégustation de boisson aux plantes offerte à la ferme\n\nPrévoir :\n– Une tenue adaptée à la promenade en milieu naturel et à la météo\n– Un panier ou des sachets kraft\, couteau ou ciseaux\n– Papier & crayon pour la prise de notes \nAnimation : Colette du Cheyron\, paysanne-herboriste bio \nDurée : 2h \nTarif : 20€ la séance – 50€ les 3 séances (gratuit pour les enfants) \nInscription : 06 73 50 47 91 / lherbierdecolette@protonmail.com
URL:https://biograndest.org/evenement/balade-dans-la-nature-a-la-decouverte-des-plantes-sauvages-comestibles-2/
LOCATION:91 Rue Machoit\, 88800 Mandres-sur-Vair\, 91 Rue Machoit\, Mandres-sur-Vair\, 88800\, France
CATEGORIES:Animation,Bon Bien Bio,Vosges
ATTACH;FMTTYPE=image/png:https://biograndest.org/wp-content/uploads/2026/03/visuels-event-site-bge.png
END:VEVENT
BEGIN:VEVENT
DTSTART;TZID=Europe/Paris:20260528T093000
DTEND;TZID=Europe/Paris:20260528T113000
DTSTAMP:20260420T100001
CREATED:20260326T121632Z
LAST-MODIFIED:20260326T121825Z
UID:23640-1779960600-1779967800@biograndest.org
SUMMARY:Balade dans la nature à la découverte des plantes sauvages comestibles
DESCRIPTION:Balade dans la nature à la découverte des plantes sauvages comestibles :\n \n\nReconnaissance les plantes du printemps\nUtilisations culinaires\nDégustation de boisson aux plantes offerte à la ferme\n\nPrévoir :\n– Une tenue adaptée à la promenade en milieu naturel et à la météo\n– Un panier ou des sachets kraft\, couteau ou ciseaux\n– Papier & crayon pour la prise de notes \nAnimation : Colette du Cheyron\, paysanne-herboriste bio \nDurée : 2h \nTarif : 20€ la séance – 50€ les 3 séances (gratuit pour les enfants) \nInscription : 06 73 50 47 91 / lherbierdecolette@protonmail.com
URL:https://biograndest.org/evenement/balade-dans-la-nature-a-la-decouverte-des-plantes-sauvages-comestibles/
LOCATION:91 Rue Machoit\, 88800 Mandres-sur-Vair\, 91 Rue Machoit\, Mandres-sur-Vair\, 88800\, France
CATEGORIES:Animation,Bon Bien Bio,Vosges
ATTACH;FMTTYPE=image/png:https://biograndest.org/wp-content/uploads/2026/03/visuels-event-site-bge.png
END:VEVENT
END:VCALENDAR