BEGIN:VCALENDAR
VERSION:2.0
PRODID:-//Bio Grand Est - ECPv6.15.14//NONSGML v1.0//EN
CALSCALE:GREGORIAN
METHOD:PUBLISH
X-ORIGINAL-URL:https://biograndest.org
X-WR-CALDESC:Évènements pour Bio Grand Est
REFRESH-INTERVAL;VALUE=DURATION:PT1H
X-Robots-Tag:noindex
X-PUBLISHED-TTL:PT1H
BEGIN:VTIMEZONE
TZID:Europe/Paris
BEGIN:DAYLIGHT
TZOFFSETFROM:+0100
TZOFFSETTO:+0200
TZNAME:CEST
DTSTART:20250330T010000
END:DAYLIGHT
BEGIN:STANDARD
TZOFFSETFROM:+0200
TZOFFSETTO:+0100
TZNAME:CET
DTSTART:20251026T010000
END:STANDARD
BEGIN:DAYLIGHT
TZOFFSETFROM:+0100
TZOFFSETTO:+0200
TZNAME:CEST
DTSTART:20260329T010000
END:DAYLIGHT
BEGIN:STANDARD
TZOFFSETFROM:+0200
TZOFFSETTO:+0100
TZNAME:CET
DTSTART:20261025T010000
END:STANDARD
BEGIN:DAYLIGHT
TZOFFSETFROM:+0100
TZOFFSETTO:+0200
TZNAME:CEST
DTSTART:20270328T010000
END:DAYLIGHT
BEGIN:STANDARD
TZOFFSETFROM:+0200
TZOFFSETTO:+0100
TZNAME:CET
DTSTART:20271031T010000
END:STANDARD
END:VTIMEZONE
BEGIN:VEVENT
DTSTART;TZID=Europe/Paris:20260427T090000
DTEND;TZID=Europe/Paris:20260428T170000
DTSTAMP:20260420T081259
CREATED:20260412T160939Z
LAST-MODIFIED:20260412T161711Z
UID:23738-1777280400-1777395600@biograndest.org
SUMMARY:Trouver une terre pour m’installer
DESCRIPTION:Vous êtes à la recherche d’une ferme pour mener à bien votre projet d’installation ? \nBio en Grand Est\, l’ARDEAR Grand Est et Terre de Liens Grand Est accompagnent les futurs paysan·nes à définir leur projet agricole en accord avec leurs valeurs d‘agroécologie et leurs envies personnelles pour qu’ils s’engagent sans crainte vers l’installation. \nLa formation « Trouver une terre pour m’installer » aura lieu à Saint-Dié-des-Vosges les 27 et 28 avril prochain\, 2 jours de formation pour faire avancer votre projet agricole au prisme de vos besoins en foncier et des outils pour trouver et accéder à des terres en Grand Est. \nPour connaître le programme cliquez ici.  \nDates : 27 et 28 avril\nHoraires : 9h à 17h\nLieu : Tour de la Liberté\, 5 Pl. Jules Ferry\, 88100 Saint-Dié-des-Vosges \nCoût de la formation : prix libre et conscient – chacun·e contribue à la hauteur de ses possibilités (coût réel à titre indicatif par stagiaire : 200 €). \nInscription obligatoire : https://forms.gle/pwwZEiqLgRUWXz4h8
URL:https://biograndest.org/evenement/sinstaller-paysan-ne-je-me-lance/
LOCATION:Saint-Dié-des-Vosges (88)
CATEGORIES:Formation,Vosges
ATTACH;FMTTYPE=image/png:https://biograndest.org/wp-content/uploads/2026/04/e085888f-b76b-478e-933c-f35487833c4c.png
END:VEVENT
END:VCALENDAR