BEGIN:VCALENDAR
VERSION:2.0
PRODID:-//Bio Grand Est - ECPv6.15.14//NONSGML v1.0//EN
CALSCALE:GREGORIAN
METHOD:PUBLISH
X-WR-CALNAME:Bio Grand Est
X-ORIGINAL-URL:https://biograndest.org
X-WR-CALDESC:Évènements pour Bio Grand Est
REFRESH-INTERVAL;VALUE=DURATION:PT1H
X-Robots-Tag:noindex
X-PUBLISHED-TTL:PT1H
BEGIN:VTIMEZONE
TZID:Europe/Paris
BEGIN:DAYLIGHT
TZOFFSETFROM:+0100
TZOFFSETTO:+0200
TZNAME:CEST
DTSTART:20230326T010000
END:DAYLIGHT
BEGIN:STANDARD
TZOFFSETFROM:+0200
TZOFFSETTO:+0100
TZNAME:CET
DTSTART:20231029T010000
END:STANDARD
BEGIN:DAYLIGHT
TZOFFSETFROM:+0100
TZOFFSETTO:+0200
TZNAME:CEST
DTSTART:20240331T010000
END:DAYLIGHT
BEGIN:STANDARD
TZOFFSETFROM:+0200
TZOFFSETTO:+0100
TZNAME:CET
DTSTART:20241027T010000
END:STANDARD
BEGIN:DAYLIGHT
TZOFFSETFROM:+0100
TZOFFSETTO:+0200
TZNAME:CEST
DTSTART:20250330T010000
END:DAYLIGHT
BEGIN:STANDARD
TZOFFSETFROM:+0200
TZOFFSETTO:+0100
TZNAME:CET
DTSTART:20251026T010000
END:STANDARD
END:VTIMEZONE
BEGIN:VEVENT
DTSTART;TZID=Europe/Paris:20240906T170000
DTEND;TZID=Europe/Paris:20240906T180000
DTSTAMP:20260421T191112
CREATED:20240808T120600Z
LAST-MODIFIED:20240830T071231Z
UID:19579-1725642000-1725645600@biograndest.org
SUMMARY:Conférence de presse lancement de la campagne #bioreflexe en région Grand Est et à Strasbourg
DESCRIPTION:À l’occasion de l’étape du BioTour de l’Agence Bio à la Foire européenne de Strasbourg\, les 6\,7 et 8 septembre 2024\, Bio en Grand Est\, la Ville de Strasbourg et l’Agence Bio organisent le : \nvendredi 6 septembre 2024 à 17 h 00 le lancement de la campagne #bioreflexe en région Grand Est et à Strasbourg \n\nProgramme :\n17h Conférence de presse  \n– Prises de parole des intervenants :\n– Présentation de la campagne nationale par Jocelyne FOUASSIER\, représentante de l’Agence Bio \n– Présentation de la campagne  » à Strasbourg\, on le #Bioreflexe » par Jeanne BARSEGHIAN\, Maire de Strasbourg \n\n– Présentation de la campagne # Bioreflexe Grand Est par Jérémy DITNER\, Président de Bio en Grand Est\n \n\n17h10 : Présentation de l’expo photo des ambassadeurs de la bio de Strasbourg\n– Témoignage des ambassadeurs présents\n\n17h30 Visite du BioBUS \n\n\n\nQuestion de la presse / Présence d’acteurs de la bio locale pour répondre à vos questions.\n\n\n\nLire le communiqué sur le lancement de la campagne.\n  \n\nLieu :\nBioBus au Village de l’agriculture de la Foire Européenne de Strasbourg. \nInscriptions / Contacts presse\nNadine PIBOULE\, chargée de communication : 07 81 39 48 58\nSébastien DUSOIR\, chargé de communication : 07 49 76 17 44\n@ : communication@biograndest.org
URL:https://biograndest.org/evenement/conference-presse-lancement-campagne-bioreflexe-en-region-grand-est-strasbourg/
LOCATION:Foire Européenne de Strasbourg
CATEGORIES:Alsace,Communiqué de presse,Consommateurs,Evènement
ATTACH;FMTTYPE=image/jpeg:https://biograndest.org/wp-content/uploads/2024/08/conference-de-presse-lancement-bioreflexe-ge-strasbourg.jpg
END:VEVENT
END:VCALENDAR