BEGIN:VCALENDAR
VERSION:2.0
PRODID:-//Bio Grand Est - ECPv6.15.14//NONSGML v1.0//EN
CALSCALE:GREGORIAN
METHOD:PUBLISH
X-ORIGINAL-URL:https://biograndest.org
X-WR-CALDESC:Évènements pour Bio Grand Est
REFRESH-INTERVAL;VALUE=DURATION:PT1H
X-Robots-Tag:noindex
X-PUBLISHED-TTL:PT1H
BEGIN:VTIMEZONE
TZID:Europe/Paris
BEGIN:DAYLIGHT
TZOFFSETFROM:+0100
TZOFFSETTO:+0200
TZNAME:CEST
DTSTART:20210328T010000
END:DAYLIGHT
BEGIN:STANDARD
TZOFFSETFROM:+0200
TZOFFSETTO:+0100
TZNAME:CET
DTSTART:20211031T010000
END:STANDARD
BEGIN:DAYLIGHT
TZOFFSETFROM:+0100
TZOFFSETTO:+0200
TZNAME:CEST
DTSTART:20220327T010000
END:DAYLIGHT
BEGIN:STANDARD
TZOFFSETFROM:+0200
TZOFFSETTO:+0100
TZNAME:CET
DTSTART:20221030T010000
END:STANDARD
BEGIN:DAYLIGHT
TZOFFSETFROM:+0100
TZOFFSETTO:+0200
TZNAME:CEST
DTSTART:20230326T010000
END:DAYLIGHT
BEGIN:STANDARD
TZOFFSETFROM:+0200
TZOFFSETTO:+0100
TZNAME:CET
DTSTART:20231029T010000
END:STANDARD
END:VTIMEZONE
BEGIN:VEVENT
DTSTART;TZID=Europe/Paris:20220221T093000
DTEND;TZID=Europe/Paris:20220222T173000
DTSTAMP:20260422T231813
CREATED:20220110T150320Z
LAST-MODIFIED:20220110T150420Z
UID:13428-1645435800-1645551000@biograndest.org
SUMMARY:Formation : Faire naître\, élever\, sélectionner librement ses propres volailles en AB
DESCRIPTION:Venez travailler cette thématique sur 2 jours\, avec le partage d’expérience de Raoul JACQUIN – paysan actif pour l’autonomie en élevage\, membre du GIE Zone Verte. Une visite d’élevage de volailles conduites en bio avec accouvage est prévue pendant la formation.\nAu programme de la formation : \n\nSavoir choisir et sélectionner ses reproducteurs\,\nSavoir accouver et élever ses poussins pour disposer d’un cheptel résistant et bien adapté à son propre élevage en AB.\n\nLieux : Vroncourt (54330) \nPublic visé : Tout éleveur de volailles fermières AB en petits ateliers désireux de reprendre en charge la reproduction dans son élevage. \nHoraires : 9h30/17h30 les 2 jours. \n  \nConsultez le programme complet ICI. \nCette formation vous est proposée par Bio en Grand Est. \nPour plus d’informations sur ce rendez vous et inscription obligatoire : Julia SICARD \, 06 52 69 13 89 \nSi vous êtes en situation de handicap\, contactez le responsable de la formation afin de connaître les modalités d’accueil possible. \n 
URL:https://biograndest.org/evenement/formation-faire-naitre-elever-selectionner-librement-ses-propres-volailles-en-ab/
LOCATION:Vroncourt
CATEGORIES:Formation,Meurthe-et-Moselle
ATTACH;FMTTYPE=image/jpeg:https://biograndest.org/wp-content/uploads/2022/01/volailles_oeuf_repro.jpg
END:VEVENT
END:VCALENDAR