BEGIN:VCALENDAR
VERSION:2.0
PRODID:-//Bio Grand Est - ECPv6.15.14//NONSGML v1.0//EN
CALSCALE:GREGORIAN
METHOD:PUBLISH
X-WR-CALNAME:Bio Grand Est
X-ORIGINAL-URL:https://biograndest.org
X-WR-CALDESC:Évènements pour Bio Grand Est
REFRESH-INTERVAL;VALUE=DURATION:PT1H
X-Robots-Tag:noindex
X-PUBLISHED-TTL:PT1H
BEGIN:VTIMEZONE
TZID:Europe/Paris
BEGIN:DAYLIGHT
TZOFFSETFROM:+0100
TZOFFSETTO:+0200
TZNAME:CEST
DTSTART:20210328T010000
END:DAYLIGHT
BEGIN:STANDARD
TZOFFSETFROM:+0200
TZOFFSETTO:+0100
TZNAME:CET
DTSTART:20211031T010000
END:STANDARD
BEGIN:DAYLIGHT
TZOFFSETFROM:+0100
TZOFFSETTO:+0200
TZNAME:CEST
DTSTART:20220327T010000
END:DAYLIGHT
BEGIN:STANDARD
TZOFFSETFROM:+0200
TZOFFSETTO:+0100
TZNAME:CET
DTSTART:20221030T010000
END:STANDARD
BEGIN:DAYLIGHT
TZOFFSETFROM:+0100
TZOFFSETTO:+0200
TZNAME:CEST
DTSTART:20230326T010000
END:DAYLIGHT
BEGIN:STANDARD
TZOFFSETFROM:+0200
TZOFFSETTO:+0100
TZNAME:CET
DTSTART:20231029T010000
END:STANDARD
END:VTIMEZONE
BEGIN:VEVENT
DTSTART;TZID=Europe/Paris:20221212T090000
DTEND;TZID=Europe/Paris:20221213T170000
DTSTAMP:20260422T064608
CREATED:20220909T102837Z
LAST-MODIFIED:20221130T120631Z
UID:15004-1670835600-1670950800@biograndest.org
SUMMARY:Formation : Installer un atelier de diversification en volailles biologiques - Annulée
DESCRIPTION:Formation annulée! \nCette formation aborde et approfondit sur deux journées les risques et éléments indispensables pour une installation sereine en élevage avicole biologique. Elle a pour objectif de connaitre les fondamentaux de la conduite d’un élevage de volailles biologiques : réglementation\, alimentation\, bien-être\, besoins vitaux et prophylaxie. \nAu programme (intervenante – Coralie AMAR\, vétérinaire au GIE Zone Verte) : \n\nÉléments essentiels de la physiologie des oiseaux\nLe bâtiment : normes à respecter\, réflexions sur l’aération\, l’aménagement\, l’implantation\nParcours : implications sanitaires et conséquences alimentaires\, éléments de réflexion sur son aménagement.\nVisite de ferme\nAliments utilisables en agriculture biologique\nMoyens thérapeutiques disponibles\, limites de l’allopathie\, risques en matière d’antibiorésistance\nMédecines naturelles\, alternatives à l’utilisation des antibiotiques\nDescription de certains problèmes : picage\, parasites externes\, ponte irrégulière\, qualité de l’œuf\, troubles digestifs troubles respiratoires\, boiteries\nTrousse de remèdes simples et autorisés en agriculture biologique\n\nConsultez le programme complet ICI. \nPour plus d’informations sur ce rendez vous (inscription obligatoire) : Chloé SCHNELLER – chloe.schneller@biograndest.org et 06 66 71 42 62
URL:https://biograndest.org/evenement/formation-installer-un-atelier-de-diversification-en-volailles-biologiques/
LOCATION:Maison de l’agriculture\, à Schiltigheim (67)
CATEGORIES:Alsace,Formation
ATTACH;FMTTYPE=image/jpeg:https://biograndest.org/wp-content/uploads/2022/01/volailles_oeuf_repro.jpg
END:VEVENT
END:VCALENDAR