BEGIN:VCALENDAR
VERSION:2.0
PRODID:-//Bio Grand Est - ECPv6.15.14//NONSGML v1.0//EN
CALSCALE:GREGORIAN
METHOD:PUBLISH
X-ORIGINAL-URL:https://biograndest.org
X-WR-CALDESC:Évènements pour Bio Grand Est
REFRESH-INTERVAL;VALUE=DURATION:PT1H
X-Robots-Tag:noindex
X-PUBLISHED-TTL:PT1H
BEGIN:VTIMEZONE
TZID:Europe/Paris
BEGIN:DAYLIGHT
TZOFFSETFROM:+0100
TZOFFSETTO:+0200
TZNAME:CEST
DTSTART:20220327T010000
END:DAYLIGHT
BEGIN:STANDARD
TZOFFSETFROM:+0200
TZOFFSETTO:+0100
TZNAME:CET
DTSTART:20221030T010000
END:STANDARD
BEGIN:DAYLIGHT
TZOFFSETFROM:+0100
TZOFFSETTO:+0200
TZNAME:CEST
DTSTART:20230326T010000
END:DAYLIGHT
BEGIN:STANDARD
TZOFFSETFROM:+0200
TZOFFSETTO:+0100
TZNAME:CET
DTSTART:20231029T010000
END:STANDARD
BEGIN:DAYLIGHT
TZOFFSETFROM:+0100
TZOFFSETTO:+0200
TZNAME:CEST
DTSTART:20240331T010000
END:DAYLIGHT
BEGIN:STANDARD
TZOFFSETFROM:+0200
TZOFFSETTO:+0100
TZNAME:CET
DTSTART:20241027T010000
END:STANDARD
END:VTIMEZONE
BEGIN:VEVENT
DTSTART;VALUE=DATE:20230110
DTEND;VALUE=DATE:20230111
DTSTAMP:20260422T050408
CREATED:20221207T150127Z
LAST-MODIFIED:20221207T150221Z
UID:15673-1673308800-1673395199@biograndest.org
SUMMARY:Formation : Prévenir et gérer une atteinte pour assurer le bien-être de ses volailles
DESCRIPTION:Formation labellisée Bien-être Animal (obligatoire pour tout éleveur de volaille) \nLe bien-être animal est un élément prépondérant dans les élevages car il a un impact sur l’ensemble de l’atelier volaille : social dans la gestion de l’atelier au quotidien et l’ergonomie de travail\, économique par la diminution des frais de santé et la capacité à assurer une bonne production\, ou encore environnemental car souvent qui dit bien-être dit « dé-densification » donc diminution des risques de pollution sur le milieu. \nIntervenant : Arnaud SCHMITT\, vétérinaire Véto Conseil Alsace – Fili@vet\, formateur BEA \nAu programme :  \n\nDéfinitions du bien-être animal\nImportance du bien-être animal dans l’amélioration de la production\nIdentification des comportements de souffrances\, de blessures en élevage de poulet de chair (attrapage et enlèvement\, gestion de la douleur lors\ndes manipulations\, gestion des animaux malades et de la douleur)\nSanté des volailles et lien au bien-être\nEnvironnement de l’élevage et lien au bien-être : le démarrage et la qualité d’eau\n\nConsultez le programme complet ICI. \nPour plus d’informations sur ce rendez vous (inscription obligatoire) : Chloé SCHNELLER – 06 66 71 42 62 (formation réservée en priorité aux éleveurs de la filière Plumes Bio du Grand Est)
URL:https://biograndest.org/evenement/formation-prevenir-et-gerer-une-atteinte-pour-assurer-le-bien-etre-de-ses-volailles/
LOCATION:Maison de l’agriculture\, à Schiltigheim (67)
CATEGORIES:Alsace,Formation
ATTACH;FMTTYPE=image/jpeg:https://biograndest.org/wp-content/uploads/2021/11/atelier_volailles.jpg
END:VEVENT
END:VCALENDAR