BEGIN:VCALENDAR
VERSION:2.0
PRODID:-//Bio Grand Est - ECPv6.15.14//NONSGML v1.0//EN
CALSCALE:GREGORIAN
METHOD:PUBLISH
X-WR-CALNAME:Bio Grand Est
X-ORIGINAL-URL:https://biograndest.org
X-WR-CALDESC:Évènements pour Bio Grand Est
REFRESH-INTERVAL;VALUE=DURATION:PT1H
X-Robots-Tag:noindex
X-PUBLISHED-TTL:PT1H
BEGIN:VTIMEZONE
TZID:Europe/Paris
BEGIN:DAYLIGHT
TZOFFSETFROM:+0100
TZOFFSETTO:+0200
TZNAME:CEST
DTSTART:20220327T010000
END:DAYLIGHT
BEGIN:STANDARD
TZOFFSETFROM:+0200
TZOFFSETTO:+0100
TZNAME:CET
DTSTART:20221030T010000
END:STANDARD
BEGIN:DAYLIGHT
TZOFFSETFROM:+0100
TZOFFSETTO:+0200
TZNAME:CEST
DTSTART:20230326T010000
END:DAYLIGHT
BEGIN:STANDARD
TZOFFSETFROM:+0200
TZOFFSETTO:+0100
TZNAME:CET
DTSTART:20231029T010000
END:STANDARD
BEGIN:DAYLIGHT
TZOFFSETFROM:+0100
TZOFFSETTO:+0200
TZNAME:CEST
DTSTART:20240331T010000
END:DAYLIGHT
BEGIN:STANDARD
TZOFFSETFROM:+0200
TZOFFSETTO:+0100
TZNAME:CET
DTSTART:20241027T010000
END:STANDARD
END:VTIMEZONE
BEGIN:VEVENT
DTSTART;TZID=Europe/Paris:20230209T094500
DTEND;TZID=Europe/Paris:20230209T143000
DTSTAMP:20260420T213914
CREATED:20230110T122252Z
LAST-MODIFIED:20230110T123026Z
UID:15793-1675935900-1675953000@biograndest.org
SUMMARY:Assemblée Générale de Bio des Ardennes
DESCRIPTION:L’Assemblée Générale de Bio des Ardennes se tiendra le jeudi 9 février 2023 à partir de 9h45 sur la Ferme du Lion d’Or à Jandun (08). \nAprès l’Assemblée Générale\, nous vous proposerons d’échanger autour de la thématique : « Quelle agriculture pour demain dans les Ardennes ?» avec la participation de Terre de Liens Champagne-Ardenne. \nTémoignages et retour d’expérience nous permettront de nous poser la question de la place des agriculteurs bio dans l’installation de jeunes et de comment le réseau bio et ses partenaires peuvent les accompagner au mieux. Nous nous interrogerons également sur l’accompagnement des transmissions des fermes bio en bio. \nLa matinée se terminera pour ceux qui le souhaitent par un repas bio local préparé sur place à réserver par mail : agrobio08@biograndest.org en renvoyant l’invitation remplie. \nConsulter l’invitation avec le programme détaillé ICI. \n 
URL:https://biograndest.org/evenement/assemblee-generale-de-bio-des-ardennes/
LOCATION:Jandun
CATEGORIES:Ardennes,Evènement
ATTACH;FMTTYPE=image/jpeg:https://biograndest.org/wp-content/uploads/2023/01/gab08web.jpg
END:VEVENT
BEGIN:VEVENT
DTSTART;TZID=Europe/Paris:20230210T093000
DTEND;TZID=Europe/Paris:20230210T170000
DTSTAMP:20260420T213914
CREATED:20230201T112338Z
LAST-MODIFIED:20230201T153242Z
UID:15938-1676021400-1676048400@biograndest.org
SUMMARY:Assemblée Générale de l'Association des Champagnes Biologiques
DESCRIPTION:Le conseil d’administration de l’Association des Champagnes Biologiques a le plaisir de vous convier à son Assemblée Générale Ordinaire\, organisée le : \nVendredi 10 février 2023\, \nde 9H30 à 12H30\, \nà la salle Wogner\, \n11 Avenue Louis Lenoir \n51130 Vertus – Blancs-Coteaux \nParking : Boulevard Paul Goerg \n  \nProgramme \n9H : Accueil des Participants \n9H30 : \n\nRapport moral du Président \nÉtat des lieux de la Filière Champagne Biologique\nRapport d’activité 2022 et d’orientation 2023\nVote du rapport financier 2022 \nRenouvellement du CA\nTemps d’échange\n\n12H30 :  Clôture \n  \n12H30 / 14H30 Apéritif & Repas (sur réservation uniquement\, règlement de 45€ sur place). \nL’Assemblée Générale sera suivie à 15H par une représentation théâtrale\, extraits de « La Parcelle Rose »  avec la comédienne Pauline Méreuze (Compagnie\, Mangeront-ils ?)\, spectacle comique entre fiction et documentaire\, sur l’univers du Champagne. \nDurée : environ 1h15. \nSi vous souhaiter participer\, cliquer sur le lien ci-dessous pour vous inscrire à l’Assemblée Générale\, et éventuellement au repas & spectacle\, au plus tard le vendredi 3 février 2023 : \nhttps://forms.gle/RxH9iem9bkqY47c68
URL:https://biograndest.org/evenement/assemblee-generale-de-lassociation-des-champagnes-biologiques/
LOCATION:Vertus\, 51130\, France
CATEGORIES:Champagne,Marne
ATTACH;FMTTYPE=image/jpeg:https://biograndest.org/wp-content/uploads/2023/02/ag-acb.jpg
END:VEVENT
BEGIN:VEVENT
DTSTART;TZID=Europe/Paris:20230213T090000
DTEND;TZID=Europe/Paris:20230214T170000
DTSTAMP:20260420T213914
CREATED:20230105T085615Z
LAST-MODIFIED:20230927T080320Z
UID:17268-1676278800-1676394000@biograndest.org
SUMMARY:Formation : Apprécier et améliorer la fertilité de mon sol en maraichage biologique
DESCRIPTION:Objectifs de la formation : Être capable d’apprécier la fertilité de mon sol afin de définir les leviers et méthodes à mettre en place pour l’améliorer en fonction de mes objectifs et moyens. \nEn agriculture biologique\, les engrais chimiques de synthèses ne sont pas autorisés. Ainsi la fertilisation s’appuie sur la fertilité et le bon fonctionnement du sol. Une bonne connaissance du fonctionnement et des composantes de son sol est donc nécessaire afin d’obtenir une production suffisante et de qualité en ajustant ses pratiques dans un souci de gain de temps et financier. Les producteurs et productrices champardennais en maraichage biologique diversifié proposent une gamme de légumes conséquente (30-40 en moyenne) ce qui complexifie la gestion de la fertilité de leur sol. \nIntervenants : Sophie BOMEL et Yoan MICHAUD de Bio en Grand Est \nTélécharge le programme ICI \nRenseignements et inscriptions : Sophie BOMEL
URL:https://biograndest.org/evenement/formation-apprecier-et-ameliorer-la-fertilite-de-mon-sol-en-maraichage-biologique/
LOCATION:Ormes et St Etienne sous Barbuise (10)
CATEGORIES:Aube,Formation,Techniques
ATTACH;FMTTYPE=image/jpeg:https://biograndest.org/wp-content/uploads/2022/06/maraichage-visite.jpg
END:VEVENT
BEGIN:VEVENT
DTSTART;TZID=Europe/Paris:20230213T180000
DTEND;TZID=Europe/Paris:20230213T200000
DTSTAMP:20260420T213914
CREATED:20230130T084439Z
LAST-MODIFIED:20230130T084439Z
UID:15912-1676311200-1676318400@biograndest.org
SUMMARY:Réunion d'information: lancer son projet agricole avec les espaces-tests en Grand Est
DESCRIPTION:Vous avez un projet agricole et souhaitez tester votre activité avant de vous installer?\nVous cherchez à en savoir plus sur les dispositifs Espace-test régionaux ?\nLe test d’activité agricole permet de démarrer son activité de production\, en responsabilité\, dans un cadre sécurisé\, tout en étant accompagné.\nCette visioconférence permettra de présenter le dispositif alsacien\, ainsi que ceux du Grand Est\, les partenaires impliqués\, les objectifs du test d’activité agricole et les démarches à entreprendre pour entrer en test.\nÉvènement gratuit sur inscription par mail à :\nkim.stoeckel@biograndest.org
URL:https://biograndest.org/evenement/reunion-dinformation-lancer-son-projet-agricole-avec-les-espaces-tests-en-grand-est/
LOCATION:en visioconférence
CATEGORIES:Alsace,Evènement
ATTACH;FMTTYPE=image/jpeg:https://biograndest.org/wp-content/uploads/2023/01/espacetest-reunion230213.jpg
END:VEVENT
BEGIN:VEVENT
DTSTART;TZID=Europe/Paris:20230214T090000
DTEND;TZID=Europe/Paris:20230214T170000
DTSTAMP:20260420T213914
CREATED:20230113T121518Z
LAST-MODIFIED:20230114T150334Z
UID:15820-1676365200-1676394000@biograndest.org
SUMMARY:Assemblée Générale du GAB52
DESCRIPTION:Les membres du GAB52 vous invitent à son Assemblée Générale qui aura lieu le Mardi 14 Février 2023 au Lycée Agricole de Chaumont-Choignes \n9h00 | Accueil des participants\n09h30 | Assemblée Générale\n– Rapport d’activité 2022 et perspectives 2023\n– Présentation des chiffres de la Bio en Haute-Marne\n– Présentation des comptes\n– Vote des membres actifs et des représentants au CA\n– Rapport moral du Président \n10h30 |Point sur les aides bio\npar Léo TYBURCE\, Directeur Filières et Territoires à Bio en Grand Est \n10h45 |Intervention – débat\n« Valorisation\, consommation et communication\, quel amour porte t-on à l’Agriculture Bio ? »\nIntervenant : Philippe HENRY\, vice-président de l’Agence Bio \n12h30 | Déjeuner\nRepas bio et local préparé l’association du Château du Corgebin (Tarif : 20€ – sur réservation obligatoire avant le 07 février 2023) . \nConsulter l’invitation avec le programme détaillé et l’inscription au repas ICI. \nInscription à renvoyer à Maëlle DROUAILLET\, animatrice du GAB52 – gab52@biograndest.org / 06 18 18 94 93
URL:https://biograndest.org/evenement/assemblee-generale-du-gab52/
LOCATION:Lycée Agricole de Chaumont-Choignes
CATEGORIES:Haute-Marne
ATTACH;FMTTYPE=image/jpeg:https://biograndest.org/wp-content/uploads/2022/02/AG_GAB52_2022.jpg
END:VEVENT
BEGIN:VEVENT
DTSTART;TZID=Europe/Paris:20230216T080000
DTEND;TZID=Europe/Paris:20230217T170000
DTSTAMP:20260420T213914
CREATED:20230201T154002Z
LAST-MODIFIED:20230201T161732Z
UID:15900-1676534400-1676653200@biograndest.org
SUMMARY:Formation "Bâtir sa stratégie de commercialisation en circuits courts"
DESCRIPTION:avec William MAIRESSE – Consultant formateur\, Haut les Courts. \nObjectif de la formation : \nCette formation a pour objectif de permettre aux maraîchers de dresser un bilan de leur commercialisation et d’optimiser leurs\nventes via une méthodologie simple et concrète\, pour mieux vivre de leur travail. Cela leur permettra alors de communiquer de\nmanière pertinente auprès des clientèles ciblées. \nLe 16 février 2023 \n\nPourquoi la stratégie commerciale ? Quelle stratégie actuelle ? Quelle intégration du numérique dans la stratégie ?\nAtelier collectif – 2 groupes : « Les consommateurs locaux n’achètent pas mes produits à la ferme ou sur le point de vente / Le panier moyen est trop faible par rapport à mes objectifs »\nAnalyse N-1\, des résultats commerciaux : Quels produits génèrent les revenus de la ferme ?\nIdentifier la clientèle ciblée\, ses besoins et attentes Analyser la concurrence locale et les partenaires liés à cette clientèle.\nDéterminer la proposition de valeur de la ferme (valoriser les spécificités et savoir-faire)\, pierre angulaire de la commercialisation.\nTravailler le positionnement et savoir l’exprimer.\nIdentifier les priorités stratégiques et associer des objectifs. SCI – Déterminer des objectifs et priorités.\nCommercialiser\, pourquoi et comment arbitrer parmi les circuits physiques et digitaux ? Indicateurs et critères de décision\n\nLe 17 février 2023 \n\nValoriser les produits\, la ferme et les savoir-faire (outil CAB)\nÉlaborer un argumentaire de vente\nValoriser des éléments de la bio pour conquérir les consommateurs non-bio\nAtelier participatif « construction argumentaire »\nSavoir adapter son argumentation aux canaux digitaux\nAtelier politique de prix:\n– Comment aujourd’hui je calcule le prix de vente des produits ?\n– Politique de prix pour un prix rémunérateur\n– Justifier ses prix de vente\nLe plan d’action commercial pour développer et fidéliser la clientèle\nValoriser des éléments de la bio pour conquérir les consommateurs non-bio\nCommuniquer efficacement selon les débouchés :\n– Construire un plan de communication\n– Communication physique et communication digitale : outils et mise en œuvre\n– Communiquer via les réseaux sociaux\nFormaliser mon plan d’action commercial\nLes prochaines étapes\nBilan de la formation et évaluation des connaissances\n\nPour plus d’informations\, télécharger le programme de la formation. \nRenseignements et inscriptions auprès de Maryna Frêne-Bogdanok\, Chargée de mission Maraichage Bio à maryna.bogdanok@biograndest.org et au 06 43 10 02 84 . \nSi vous êtes en situation de handicap\, contactez le responsable de la formation afin de connaître les modalités d’accueil possible.
URL:https://biograndest.org/evenement/formation-batir-sa-strategie-de-commercialisation-en-circuits-courts/
LOCATION:Colmar (68)\, France
CATEGORIES:Alsace,Formation
ATTACH;FMTTYPE=image/jpeg:https://biograndest.org/wp-content/uploads/2020/09/panier_legumes.jpg
END:VEVENT
BEGIN:VEVENT
DTSTART;TZID=Europe/Paris:20230218T210000
DTEND;TZID=Europe/Paris:20230218T233000
DTSTAMP:20260420T213914
CREATED:20230116T124621Z
LAST-MODIFIED:20230116T124621Z
UID:15838-1676754000-1676763000@biograndest.org
SUMMARY:Bal Folk de la Bio
DESCRIPTION:BAL FOLK DE LA BIO \nLe Bal Folk du GAB88 reprend sans pass sanitaire 😊 \nPartez bien chaussés pour danser la bio samedi 18 février 2023 à l’Espace Cours à Épinal à partir de 21h. \nAvec les groupes Sans prétention et Viendez-vous ! \nEntrée 10 euros\, gratuit pour les moins de 12 ans. \nBuvette sur place. \nA faire passer !
URL:https://biograndest.org/evenement/bal-folk-de-la-bio/
LOCATION:ESPACE COURS\, avenue Gambetta\, EPINAL\, 88000\, France
CATEGORIES:Animation,Evènement,Vosges
ATTACH;FMTTYPE=image/jpeg:https://biograndest.org/wp-content/uploads/2023/01/affiche-bal-folk2023.jpg
END:VEVENT
BEGIN:VEVENT
DTSTART;VALUE=DATE:20230224
DTEND;VALUE=DATE:20230225
DTSTAMP:20260420T213914
CREATED:20230206T105714Z
LAST-MODIFIED:20230206T123432Z
UID:15969-1677196800-1677283199@biograndest.org
SUMMARY:Formation "Comprendre et piloter la fertilité organique et biologique des sols" avec Célesta-Lab
DESCRIPTION:Durée : 16h (dont 9 h en distanciel): \n\ncours en ligne : du 24 février au 23 mars 2023\nsession en présentiel : le 23 mars 2023 à WINTZENHEIM\n\n\nLe début des cours en distanciel : le 24 h février. Les vidéos seront disponibles sur une plateforme digitale dédiée. Les personnes inscrites à la formation pourront les regarder à leur rythme avant la session en présentiel\, le 23 mars 2023. \nObjectif de la formation :  \nApprendre les différents états de la matière organique dans les sols\, les rôles qu’elle remplit\, ses interactions avec l’environnement (température\, humidité\, pH\, etc.) et avec les pratiques agricoles (apport de produits organiques\, travail du sol\, mise en place de couverts végétaux). Découvrir les étapes nécessaires pour interpréter la fertilité de son sol\, pour restaurer l’équilibre entre les différents types de MO et construire sa stratégie organique à court\, moyen et long terme. À la fin de la formation\, le stagiaire sera capable de comprendre le fonctionnement organique et biologique des sols\, d’interpréter la fertilité biologique de sa parcelle et de corriger les contraintes organo- biologique limitant la pleine expression de la fertilité. \nFormation en distanciel\, en ligne (7h de vidéo + ~2h de travail individuel) du 24 février au 23 mars 2023 \n\nLes MO au sein de la fertilité générale\nDescription et compréhension des MO\nDiagnostic des matières organiques\nÀ quoi servent les MO pour l’agriculteur ?\nFacteurs environnementaux influençant le fonctionnement biologique\nAméliorer le fonctionnement biologique du sol par les apports organiques\nFertiliser avec les apports organiques\nConstruire sa stratégie organique\nLe bilan carbone comme outil de pilotage du stock à long terme\n\nFormation en présentiel (7h) le 23 mars 2023 \n\nLe fonctionnement organique du sol\, les pratiques et produits adaptés ou non adaptés en fonction des situations\nÉtude de cas concrets\nRéalisation d’un plan d’action stratégique personnalisé\nMise en application terrain\n\nPour plus d’informations\, télécharger le programme de la formation. \nRenseignements et inscriptions auprès de Maryna Frêne-Bogdanok\, Chargée de mission Maraichage Bio à maryna.bogdanok@biograndest.org et au 06 43 10 02 84 . \nSi vous êtes en situation de handicap\, contactez le responsable de la formation afin de connaître les modalités d’accueil possible.
URL:https://biograndest.org/evenement/formation-comprendre-et-piloter-la-fertilite-organique-et-biologique-des-sols-avec-celesta-lab/
CATEGORIES:Alsace,Evènement,Filières,Formation
ATTACH;FMTTYPE=image/jpeg:https://biograndest.org/wp-content/uploads/2023/02/maraichage-ferti.jpg
END:VEVENT
BEGIN:VEVENT
DTSTART;TZID=Europe/Paris:20230224T090000
DTEND;TZID=Europe/Paris:20230224T170000
DTSTAMP:20260420T213914
CREATED:20230223T105146Z
LAST-MODIFIED:20230223T105146Z
UID:16055-1677229200-1677258000@biograndest.org
SUMMARY:FORMATION : Le post-récolte en grande cultures bio :  une clé pour plus d'agro-écologie
DESCRIPTION:Formation Bio en Grand Est/ Probiolor  \nFormation complète \nLe post-récolte en grandes cultures bio : une clé pour plus d’agro-écologie \nDates : 24/02 ; 10/03 et 06/01/2023 \nLieu : Vézelise \nObjectifs : Être capable de gérer la récolte et le post-récolte des céréales dans un contexte d’agriculture biologique et de changement climatique : réglage moisssoneuse\, trieur et implantation des couverts végétaux. \nIntervenants : Nicolas Thibaud\, Philippe Balfournier\, Marc Pottier et Frédéric Weibel. \nPlus d’information : yoan.michaud@biograndest.org \nSi vous êtes en situation de handicap\, contactez le responsable de la formation afin de connaître les modalités d’accueil possible. \n 
URL:https://biograndest.org/evenement/formation-le-post-recolte-en-grande-cultures-bio-une-cle-pour-plus-dagro-ecologie/
LOCATION:Vézelise (54)
CATEGORIES:Formation,Meurthe-et-Moselle
ATTACH;FMTTYPE=image/jpeg:https://biograndest.org/wp-content/uploads/2019/08/formation.jpg
END:VEVENT
BEGIN:VEVENT
DTSTART;TZID=Europe/Paris:20230227T090000
DTEND;TZID=Europe/Paris:20230228T170000
DTSTAMP:20260420T213914
CREATED:20230105T090330Z
LAST-MODIFIED:20230927T081255Z
UID:17272-1677488400-1677603600@biograndest.org
SUMMARY:Formation : Réduire le travail du sol en maraichage biologique
DESCRIPTION:Objectifs de la formation : Être capable de mettre en œuvre des pratiques permettant d’éviter\, de réduire ou de supprimer le travail du sol sur ma ferme en fonction de mes objectifs et moyens. \nEn maraichage biologique\, la vie du sol joue un grand rôle dans la structuration du sol et la disponibilité des éléments nutritifs pour le bon développement des légumes. Or la culture de légumes est intensive\, avec plusieurs cycles de culture sur une année. Ainsi le travail du sol est fréquent (préparation du sol entre culture\, gestion de l’enherbement …) et la vie du sol impactée. Les pratiques alternatives au travail du sol sont un enjeu pour les maraichers qui cherchent également à ne pas augmenter les charges ou le temps de travail. Ainsi des pratiques innovantes sont nécessaires aujourd’hui afin de répondre à ces différents enjeux que sont : préserver la vie des sols tout en cherchant à réduire le temps de travail et les charges.\nCette formation porte sur le thème de la réduction du travail du sol afin de pouvoir ensuite mettre en place les pratiques les plus adaptées à aux objectifs\, système et contexte de ferme des maraichers. \nIntervenants : DIEUDONNE Simon\, AUBERT Ariane\, ZWINGELSTEIN Sébastien\, SCHAFFHAUSER Thiébaud :  maraichers bio lorrains et alsaciens ; MAryna BOGDANOK de Bio en Grand Est \nTélécharge le programme ICI \nRenseignements et inscriptions : Sophie BOMEL
URL:https://biograndest.org/evenement/formation-reduire-le-travail-du-sol-en-maraichage-biologique/
LOCATION:Lorraine et Alsace
CATEGORIES:Alsace,Formation,Moselle
ATTACH;FMTTYPE=image/jpeg:https://biograndest.org/wp-content/uploads/2022/06/maraichage-visite.jpg
END:VEVENT
BEGIN:VEVENT
DTSTART;TZID=Europe/Paris:20230227T093000
DTEND;TZID=Europe/Paris:20230228T173000
DTSTAMP:20260420T213914
CREATED:20230215T101636Z
LAST-MODIFIED:20230228T101044Z
UID:16013-1677490200-1677605400@biograndest.org
SUMMARY:Formation sur les cellules dans le lait de vache
DESCRIPTION:De la gestion à la maîtrise des cellules dans le lait : formation dispensée par Hubert Hiron\, vétérinaire\, membre du GIE Zone Verte. \nElle se déroulera le lundi 27 et mardi 28 février. Le lieu reste à définir selon les inscriptions. \nAu programme : fonctionnement de la mamelle\, caractéristique du lait\, fonctionnement de la machine à traire\, la rumination\, les écosystèmes externes et cutanés. \nInscription avant le 20/02/2023 \nTélécharger le programme \nContacts inscription : adele.trentesaux@biograndest.org // 0768207174.
URL:https://biograndest.org/evenement/formation-sur-les-cellules-dans-le-lait-de-vache/
LOCATION:Meurthe-et-Moselle
CATEGORIES:Formation,Meurthe-et-Moselle,Meuse,Moselle,Vosges
ATTACH;FMTTYPE=image/jpeg:https://biograndest.org/wp-content/uploads/2019/10/Bovin_lait_01.jpg
END:VEVENT
BEGIN:VEVENT
DTSTART;TZID=Europe/Paris:20230227T100000
DTEND;TZID=Europe/Paris:20230227T150000
DTSTAMP:20260420T213914
CREATED:20230207T153813Z
LAST-MODIFIED:20230207T155854Z
UID:15988-1677492000-1677510000@biograndest.org
SUMMARY:Assemblée Générale de Bio de la Marne
DESCRIPTION:Les membres Bio de la Marne vous invitent à son Assemblée Générale qui aura lieu le lundi 27 Février 2023 à Coolus\n \n10h00| Accueil des participants et émargement \n10h15 |Assemblée Générale\n– Rapport d’activités 2022 et actions 2023\n– Présentation des comptes\n– Vote des membres actifs et des représentants\nau Conseil d’Administration\n– Rapport moral du Président \n11h00 | Point sur les aides bio par Léo TYBURCE\, Directeur Filières et Territoires à Bio en Grand Est \n11h15 | Échanges :\n«Agroforesterie\, objectifs et retours terrain»\n– Présentation par Adrien BALCEROWIAK\, conseiller Chambre d’Agriculture des Ardennes \n12h30 | Déjeuner\nVerre de l’amitié et repas partagé. \nConsulter l’invitation avec le programme détaillé ICI. \nInscription à renvoyer à Pauline BOGE\,\nanimatrice de Bio de la Marne agrobio51@biograndest.org – 06 66 64 49 10
URL:https://biograndest.org/evenement/assemblee-generale-bio-marne/
LOCATION:domaine de Coolus
CATEGORIES:Marne
ATTACH;FMTTYPE=image/jpeg:https://biograndest.org/wp-content/uploads/2023/02/bio-de-la-marne.jpg
END:VEVENT
BEGIN:VEVENT
DTSTART;TZID=Europe/Paris:20230227T133000
DTEND;TZID=Europe/Paris:20230227T140000
DTSTAMP:20260420T213914
CREATED:20230215T154349Z
LAST-MODIFIED:20230215T154653Z
UID:16024-1677504600-1677506400@biograndest.org
SUMMARY:Formation : Désherbage mécanique et gestion des adventices en agriculture biologique
DESCRIPTION:Durée : 11h45 (dont 4h45 en distanciel et 1 jour en présentiel) : \nAvec l’intervention de David Roy\, coordinateur Pôle Ressources Techniques d’Agrobio 35 \nCours en ligne : du 27 février au 28 avril 2023 \nSession en présentiel : le 28 mars 2023 à COUPEVILLE (51) \nLe début des cours en distanciel : le 27 février à 13h30 (visioconférence de 30 min). Puis les cours en ligne (vidéos\, diaporamas commentés\, …) seront disponibles sur une plateforme digitale dédiée\, accessible 24h/24h. Les personnes inscrites à la formation pourront les regarder à leur rythme du 27 février au 28 avril 2023. \nObjectif de la formation :  \n– Maîtriser la gestion préventive et curative des adventices en grandes cultures ; \n– Maitriser les différents outils de désherbage mécanique\, leurs réglages et les différences entre les marques ; \n– Connaitre les préalables à l’introduction de désherbage mécanique en grandes cultures ; \n– Savoir élaborer une stratégie d’investissement et d’intervention. \nFormation en distanciel\, en ligne (4h45) \n– Grand principes de la gestion préventive des adventices en grandes cultures bio : évolution des flores\, taux annuel de décroissance\, travail du sol (profondeur et types de travaux)\, principes du faux semis… \n– Connaitre\, évaluer et éviter les facteurs de risque inhérents à la technique mécanique \n– Découvrir les différents matériels de désherbage mécanique\, leurs caractéristiques\, les réglages\, les stades d’interventions et leurs avantages et limites (exemple de la culture du maïs) \n– Focus sur les céréales d’hiver (conditions du désherbage mécanique pour les cultures d’hiver\, désherbage mécanique précoce\, limites et atouts des outils de désherbage mécanique selon les stades de culture\, les conditions du binage des céréales\, comparer l’efficacité du binage des céréales sur le rendement) \nFormation en présentiel (7h) le 28 mars 2023 \nEn salle et sur ferme : \n– Retour sur le module en e-learning\, approfondissement \n– Présentation des points de réglage du matériel (ouverture à d’autres cultures non proposées en e-learning) \n– Présentation d’exemples d’itinéraires techniques sur maïs\, tournesol\, soja\, céréales\, betterave\, féverole et colza… \n– Critères de choix et élaboration d’une stratégie d’investissement et d’intervention \n– Comprendre et savoir utiliser l’outil d’aide à la décision Opti’Mat pour raisonner ses investissements \n– Témoignage de Didier Lambin (EARL SAINT JEANVAT) sur l’utilisation de matériel (herse étrille\, bineuse\, robot\, …) \n– Réglage et utilisation du matériel présent (si possible démonstration) \nPour plus d’informations : télécharger le programme de la formation. \nRenseignements et inscriptions auprès de Aurélie Parant-Songy\, Chargée de mission Grandes Cultures biologiques à Bio en Grand Est : \naurelie.songy@biograndest.org / 06 88 28 37 68 \nSi vous êtes en situation de handicap\, contactez le responsable de la formation afin de connaître les modalités d’accueil possible.
URL:https://biograndest.org/evenement/formation-desherbage-mecanique-et-gestion-des-adventices-en-agriculture-biologique/
LOCATION:Formation en ligne
CATEGORIES:Formation,Marne,Techniques
ATTACH;FMTTYPE=image/jpeg:https://biograndest.org/wp-content/uploads/2023/02/desherbage-mecanique-bio.jpg
END:VEVENT
BEGIN:VEVENT
DTSTART;TZID=Europe/Paris:20230227T140000
DTEND;TZID=Europe/Paris:20230227T170000
DTSTAMP:20260420T213914
CREATED:20230203T105046Z
LAST-MODIFIED:20230203T111154Z
UID:15962-1677506400-1677517200@biograndest.org
SUMMARY:Vigne Bio Ouverte : Vinification biologique : gestion & règlementation
DESCRIPTION:L’Association des Champagne Biologique et Bio en Grand Est vous invitent à une Vigne Bio Ouverte : \nVinification biologique : gestion & règlementation\navec Laurent Vauversin\, vigneron à OGER (51)\nCHAMPAGNE LAURENT VAUVERSIN\,\n9 bis rue de Flavigny\, 51190 OGER\n(voir l’itinéraire sur Google Map) \n  \nAu programme de l’après-midi : \n\nPrésentation du domaine\,\nRèglementation en Agriculture Biologique\,\nPratiques œnologiques du domaine\,\nVisite du chai\,\nDégustation des vins clairs\,\nTemps d’échanges.\n\nTélécharger le programme \n— \nInscription obligatoire auprès de Mathilde BOUSSEL :\nanimation@champagnesbiologiques.com
URL:https://biograndest.org/evenement/vigne-bio-ouverte-vinification-biologique-2/
LOCATION:OGER (51)
CATEGORIES:Animation,Champagne,Filières,Marne,Techniques
ATTACH;FMTTYPE=image/jpeg:https://biograndest.org/wp-content/uploads/2023/02/vbo-vinification-champagne.jpg
END:VEVENT
END:VCALENDAR