BEGIN:VCALENDAR
VERSION:2.0
PRODID:-//Bio Grand Est - ECPv6.15.14//NONSGML v1.0//EN
CALSCALE:GREGORIAN
METHOD:PUBLISH
X-WR-CALNAME:Bio Grand Est
X-ORIGINAL-URL:https://biograndest.org
X-WR-CALDESC:Évènements pour Bio Grand Est
REFRESH-INTERVAL;VALUE=DURATION:PT1H
X-Robots-Tag:noindex
X-PUBLISHED-TTL:PT1H
BEGIN:VTIMEZONE
TZID:Europe/Paris
BEGIN:DAYLIGHT
TZOFFSETFROM:+0100
TZOFFSETTO:+0200
TZNAME:CEST
DTSTART:20220327T010000
END:DAYLIGHT
BEGIN:STANDARD
TZOFFSETFROM:+0200
TZOFFSETTO:+0100
TZNAME:CET
DTSTART:20221030T010000
END:STANDARD
BEGIN:DAYLIGHT
TZOFFSETFROM:+0100
TZOFFSETTO:+0200
TZNAME:CEST
DTSTART:20230326T010000
END:DAYLIGHT
BEGIN:STANDARD
TZOFFSETFROM:+0200
TZOFFSETTO:+0100
TZNAME:CET
DTSTART:20231029T010000
END:STANDARD
BEGIN:DAYLIGHT
TZOFFSETFROM:+0100
TZOFFSETTO:+0200
TZNAME:CEST
DTSTART:20240331T010000
END:DAYLIGHT
BEGIN:STANDARD
TZOFFSETFROM:+0200
TZOFFSETTO:+0100
TZNAME:CET
DTSTART:20241027T010000
END:STANDARD
END:VTIMEZONE
BEGIN:VEVENT
DTSTART;TZID=Europe/Paris:20230301T093000
DTEND;TZID=Europe/Paris:20230301T173000
DTSTAMP:20260420T200419
CREATED:20230215T101851Z
LAST-MODIFIED:20230227T160315Z
UID:16016-1677663000-1677691800@biograndest.org
SUMMARY:Formation : pour en finir avec les multiples pathologies en élevage
DESCRIPTION:Améliorer la santé et le bien-être du troupeau par la maîtrise des écosystèmes microbiens  \nCette formation est dispensée par le vétérinaire\, Hubert Hiron\, membre du GIE Zone Verte. \nCelle-ci se déroulera le mercredi 1 mars. Le lieu reste à définir selon les inscriptions. \nLe programme porte sur les pathologies en élevage pour les prévenir et les soigner en diminuant l’utilisation d’antibiotique. Cette formation permettra de revenir sur les vecteurs de microbes pathogènes\, sur leurs localisation et sur les techniques pour les contrer. \nTélécharger le programme \nInscription avant le 22/02/2023 \nContacts inscription : adele.trentesaux@biograndest.org // 0768207174.
URL:https://biograndest.org/evenement/formation-pour-en-finir-avec-les-multiples-pathologies-en-elevage/
CATEGORIES:Formation,Meurthe-et-Moselle,Meuse,Moselle,Vosges
ATTACH;FMTTYPE=image/jpeg:https://biograndest.org/wp-content/uploads/2019/06/ELEVAGE_bovinLAIT.jpg
END:VEVENT
BEGIN:VEVENT
DTSTART;TZID=Europe/Paris:20230302T100000
DTEND;TZID=Europe/Paris:20230302T123000
DTSTAMP:20260420T200419
CREATED:20230210T152831Z
LAST-MODIFIED:20230210T152831Z
UID:15980-1677751200-1677760200@biograndest.org
SUMMARY:Réunion d’Échanges : Transformation laitière bio en collectif - Quelles opportunités dans les Ardennes ?
DESCRIPTION:Bio des Ardennes vous invite jeudi 2 mars à 10h à participer à une réunion d’échange autour de la transformation laitière bio en collectif et les possibilités de création d’ateliers sur le territoire\, à la Maison du PNR des Ardennes à Renwez. \nAu programme : \n\nPoint sur la conjoncture lait bio\nPrésentation des dispositifs de financement régionaux des ateliers collectifs de transformation\nÉchanges autour de la création d’atelier(s) collectif(s) de transformation laitière bio dans les Ardennes\n\n  \nPour plus d’informations sur cet évènement et pour s’inscrire :  \nAmélie LENGRAND – Animatrice de Bio des Ardennes – 06 18 18 72 55 – agrobio08@biograndest.org
URL:https://biograndest.org/evenement/reunion-dechanges-transformation-laitiere-bio-en-collectif-quelles-opportunites-dans-les-ardennes/
LOCATION:Maison du PNR des Ardennes\, Route de Sécheval – RD140\, RENWEZ\, 08150
CATEGORIES:Ardennes,Evènement
ATTACH;FMTTYPE=image/jpeg:https://biograndest.org/wp-content/uploads/2023/02/transformation-laitiere-bio-collectif.jpg
END:VEVENT
BEGIN:VEVENT
DTSTART;TZID=Europe/Paris:20230306T090000
DTEND;TZID=Europe/Paris:20230306T173000
DTSTAMP:20260420T200419
CREATED:20230223T104819Z
LAST-MODIFIED:20230223T105317Z
UID:16070-1678093200-1678123800@biograndest.org
SUMMARY:Formation : Commercialiser ses produits en collectif : définir un fonctionnement qui convient à tous
DESCRIPTION:Formation complète \nObjectifs : \n– Clarifier ou redéfinir le projet commun partagé\n– Savoir utiliser les méthodes et outils présentés au service d’un nouvel élan\n– Être capable de construire un plan d’action \nIntervenant : Frédéric ZIMMER\, Coach diplômé\, certifié\, Consultant \, formateur professionnel \nLieu : Vittel (88) \nDates : 6 et 13 mars 2023 \nTélécharger le programme de la formation \nInformations et inscription : Nadine PIBOULE\, 03 83 98 09 16 \nSi vous êtes en situation de handicap\, contactez le responsable de la formation afin de connaître les modalités d’accueil possible.
URL:https://biograndest.org/evenement/formation-commercialiser-ses-produits-en-collectif-definir-un-fonctionnement-qui-convient-a-tous/
LOCATION:Vittel (88)
CATEGORIES:Formation,Vosges
ATTACH;FMTTYPE=image/jpeg:https://biograndest.org/wp-content/uploads/2019/08/formation.jpg
END:VEVENT
BEGIN:VEVENT
DTSTART;TZID=Europe/Paris:20230308T093000
DTEND;TZID=Europe/Paris:20230308T173000
DTSTAMP:20260420T200419
CREATED:20230216T145232Z
LAST-MODIFIED:20230216T151008Z
UID:16044-1678267800-1678296600@biograndest.org
SUMMARY:Assemblée générale - Bio de Moselle
DESCRIPTION:Les membres Bio de Moselle vous invitent à leur Assemblée Générale qui aura lieu le mercredi 8 mars 2023 au Lycée agricole de Courcelles Chaussy. \nSur le thème : Les bienfaits de l’arbre\, sous toutes ses formes\, dans nos fermes \nProgramme : \nRéservé aux agriculteurs bio (adhérents et non adhérents): \nTélécharger le programme de la journée pour les agriculteurs bio \nAccueil dès 9h30\n10h00 – Assemblée statutaire \n12h00 – Apéritif et repas sur inscription. Tarif : 20 € /pers boissons comprises. \n— \nOuvert à tous : \n« Les bienfaits de l’arbre\, sous toutes ses formes\, dans nos fermes » \nTélécharger le programme et plan d’accès de l’après-midi \n14h00 – L’agroforesterie telle que pratiquée sur la ferme Hoeffel\, 1er prix 2021 au concours d’équilibre Agro-écologique Agroforesterie.\n16h00 – Intérêts et gestion de la zone humide et ripisylve au lycée. \nAteliers tournants en extérieur.\nClôture à 17h30 \n— \nParticipation sur inscription uniquement au plus tard le 3 mars \nInscription obligatoire par mail\, téléphone ou sms. \nMerci d’indiquer :\n– votre nom et structure\n– présence le matin\, au repas\, et/ou l’après-midi\n– le choix des ateliers \nPatricia Heuzé – Animatrice GAB 57\n07 81 49 19 61\ngab57@biograndest.org
URL:https://biograndest.org/evenement/assemblee-generale-bio-de-moselle/
LOCATION:Lycée agricole de Courcelles Chaussy
CATEGORIES:Biodiversité,Moselle
ATTACH;FMTTYPE=image/jpeg:https://biograndest.org/wp-content/uploads/2023/02/moselle.jpg
END:VEVENT
BEGIN:VEVENT
DTSTART;TZID=Europe/Paris:20230309T093000
DTEND;TZID=Europe/Paris:20230309T170000
DTSTAMP:20260420T200419
CREATED:20230221T142936Z
LAST-MODIFIED:20230221T142936Z
UID:16062-1678354200-1678381200@biograndest.org
SUMMARY:Assemblée Générale de Bio de Meuse
DESCRIPTION:Les membres Bio de Meuse vous invitent à leur Assemblée Générale qui aura lieu le jeudi 9 mars 2023 à Benoite-Vaux.\n \nMatinée réservée aux adhérents \n09h30 | Accueil\n– Émargement et café \n10h00 | Assemblée Générale Statutaire\n– Rapport d’activité 2022 et perspectives 2023\n– Présentation des comptes\n– Vote des membres actifs et des représentants au CA\n– Temps d’échanges entre adhérents \n11h00 | Point sur la nouvelle PAC et les MAE \n12h00 | Repas bio (inscription obligatoire avant le vendredi 24 février de préférence par mail) \n13h45 | Accueil des partenaires \n14h00 | Rapport moral du Président \n14h30 | Échanges\n– Actualité de la bio\n– Discussion autour de la bio en Restauration Collective\n– Retour sur les Rencontres de l’Agriculture Biologique de Conservation \n  \nPour plus d’information : Mickael COUCHOT : 06 95 63 71 54
URL:https://biograndest.org/evenement/assemblee-generale-de-bio-de-meuse/
LOCATION:Benoite-Vaux (55)
CATEGORIES:Meuse
ATTACH;FMTTYPE=image/jpeg:https://biograndest.org/wp-content/uploads/2023/02/invitation-aggab55-23-1.jpg
END:VEVENT
BEGIN:VEVENT
DTSTART;TZID=Europe/Paris:20230313T100000
DTEND;TZID=Europe/Paris:20230313T120000
DTSTAMP:20260420T200419
CREATED:20230301T102909Z
LAST-MODIFIED:20230301T102909Z
UID:16115-1678701600-1678708800@biograndest.org
SUMMARY:Tour de plaine tournesol bio : Réussir son implantation
DESCRIPTION:Une bonne implantation du tournesol est la clef pour la réussite de cette culture en bio. \nSi vous êtes producteurs de tournesol ou intéressés pour en cultiver\, vous êtes bienvenue à ce tour de plaine chez la SCEA Cuitot à Maison-en-Champagne le 13 mars 2023 de 10h à 12h. \n  \nAu programme : \n– Présentation de la ferme SCEA Cuitot \n– Présentation du projet TEauBio et de l’observatoire \n– Retour sur les résultats locaux \n– Comment réussir l’implantation du tournesol ? \n– Temps d’échange \n  \nRetrouvez l’invitation complète en cliquant ICI. \nPour tout renseignements\, vous pouvez contacter : Aurélie Parant-Songy\, 06 88 28 37 68\, aurelie.songy@biograndest.org
URL:https://biograndest.org/evenement/tour-de-plaine-tournesol-bio-reussir-son-implantation/
LOCATION:Maisons-en-Champagne\, 20 rue des Ruelles\, Maisons-en-Champagne\, 51300\, France
CATEGORIES:Animation,Evènement,Marne,Techniques
ATTACH;FMTTYPE=image/jpeg:https://biograndest.org/wp-content/uploads/2022/06/tournesol.jpg
END:VEVENT
BEGIN:VEVENT
DTSTART;TZID=Europe/Paris:20230321T100000
DTEND;TZID=Europe/Paris:20230321T120000
DTSTAMP:20260420T200419
CREATED:20230313T124610Z
LAST-MODIFIED:20230313T153428Z
UID:16170-1679392800-1679400000@biograndest.org
SUMMARY:Tour de plaine tournesol bio : Réussir son implantation
DESCRIPTION:Une bonne implantation du tournesol est la clef pour la réussite de cette culture en bio. \nSi vous êtes producteurs de tournesol ou intéressés pour en cultiver\, vous êtes bienvenue à ce tour de plaine chez Philippe CAMUS à Saint-Ciergues (52) le 21 mars 2023 de 10h à 12h. \n  \nAu programme : \n– Présentation de la ferme de Philippe CAMUS \n– Présentation du projet TEauBio et de l’observatoire \n– Retour sur les résultats locaux \n– Comment réussir l’implantation du tournesol ? \n– Temps d’échange \n  \nRetrouvez l’invitation complète en cliquant ICI. \nPour tout renseignements\, vous pouvez contacter : Aurélie Parant-Songy\, 06 88 28 37 68\, aurelie.songy@biograndest.org
URL:https://biograndest.org/evenement/tour-de-plaine-tournesol-bio-reussir-son-implantation-2/
LOCATION:Saint-Ciergues\, 4 route du Château\, Saint-Ciergues\, 52200\, France
CATEGORIES:Animation,Evènement,Marne,Techniques
ATTACH;FMTTYPE=image/jpeg:https://biograndest.org/wp-content/uploads/2022/06/tournesol.jpg
END:VEVENT
BEGIN:VEVENT
DTSTART;VALUE=DATE:20230323
DTEND;VALUE=DATE:20230324
DTSTAMP:20260420T200419
CREATED:20230206T123152Z
LAST-MODIFIED:20230206T123246Z
UID:15977-1679529600-1679615999@biograndest.org
SUMMARY:Formation "Comprendre et piloter la fertilité organique et biologique des sols" avec Célesta-Lab
DESCRIPTION:Durée : 16h (dont 9 h en distanciel): \n\ncours en ligne : du 24 février au 23 mars 2023\nsession en présentiel : le 23 mars 2023 à WINTZENHEIM\n\n\nLe début des cours en distanciel : le 24 h février. Les vidéos seront disponibles sur une plateforme digitale dédiée. Les personnes inscrites à la formation pourront les regarder à leur rythme avant la session en présentiel\, le 23 mars 2023. \nObjectif de la formation :  \nApprendre les différents états de la matière organique dans les sols\, les rôles qu’elle remplit\, ses interactions avec l’environnement (température\, humidité\, pH\, etc.) et avec les pratiques agricoles (apport de produits organiques\, travail du sol\, mise en place de couverts végétaux). Découvrir les étapes nécessaires pour interpréter la fertilité de son sol\, pour restaurer l’équilibre entre les différents types de MO et construire sa stratégie organique à court\, moyen et long terme. À la fin de la formation\, le stagiaire sera capable de comprendre le fonctionnement organique et biologique des sols\, d’interpréter la fertilité biologique de sa parcelle et de corriger les contraintes organo- biologique limitant la pleine expression de la fertilité. \nFormation en distanciel\, en ligne (7h de vidéo + ~2h de travail individuel) du 24 février au 23 mars 2023 \n\nLes MO au sein de la fertilité générale\nDescription et compréhension des MO\nDiagnostic des matières organiques\nÀ quoi servent les MO pour l’agriculteur ?\nFacteurs environnementaux influençant le fonctionnement biologique\nAméliorer le fonctionnement biologique du sol par les apports organiques\nFertiliser avec les apports organiques\nConstruire sa stratégie organique\nLe bilan carbone comme outil de pilotage du stock à long terme\n\nFormation en présentiel (7h) le 23 mars 2023 \n\nLe fonctionnement organique du sol\, les pratiques et produits adaptés ou non adaptés en fonction des situations\nÉtude de cas concrets\nRéalisation d’un plan d’action stratégique personnalisé\nMise en application terrain\n\nPour plus d’informations\, télécharger le programme de la formation. \nRenseignements et inscriptions auprès de Maryna Frêne-Bogdanok\, Chargée de mission Maraichage Bio à maryna.bogdanok@biograndest.org et au 06 43 10 02 84 . \nSi vous êtes en situation de handicap\, contactez le responsable de la formation afin de connaître les modalités d’accueil possible.
URL:https://biograndest.org/evenement/formation-comprendre-et-piloter-la-fertilite-organique-et-biologique-des-sols-avec-celesta-lab-2/
LOCATION:Wintzenheim (68)
CATEGORIES:Alsace,Evènement,Filières,Formation
ATTACH;FMTTYPE=image/jpeg:https://biograndest.org/wp-content/uploads/2023/02/maraichage-ferti.jpg
END:VEVENT
BEGIN:VEVENT
DTSTART;TZID=Europe/Paris:20230323T093000
DTEND;TZID=Europe/Paris:20230323T093000
DTSTAMP:20260420T200419
CREATED:20230320T100554Z
LAST-MODIFIED:20230320T100554Z
UID:16197-1679563800-1679563800@biograndest.org
SUMMARY:Communiquer efficacement sur ses produits selon les débouchés
DESCRIPTION:Complet \n  \nLes producteurs choisissent pour certains de transformer leur production ou une partie de leur production. La transformation à la ferme s’accompagne d’un besoin de valorisation du produit fini. Cela permet aux producteurs de gagner en valeur ajoutée sur la matière première qu’ils produisent\, mais aussi d’établir un lien direct avec le client et mettre en valeur la démarche. Pour cela\, les producteurs ont besoin de construire un argumentaire adapté aux différents publics pour mettre en valeur leurs atouts\, leurs pratiques et correspondre aux attentes sociétales. \nFormation pour commercialiser ses produits issus de transformations fromagères. \nTélécharger le programme \nContact et informations : Adèle TRENTESEAUX\, 07 68 20 71 74 \n 
URL:https://biograndest.org/evenement/communiquer-efficacement-sur-ses-produits-selon-les-debouches/
LOCATION:Relanges (88)
CATEGORIES:Formation,Vosges
ATTACH;FMTTYPE=image/jpeg:https://biograndest.org/wp-content/uploads/2019/08/formation.jpg
END:VEVENT
BEGIN:VEVENT
DTSTART;TZID=Europe/Paris:20230327T080000
DTEND;TZID=Europe/Paris:20230328T170000
DTSTAMP:20260420T200419
CREATED:20230201T154125Z
LAST-MODIFIED:20230320T155915Z
UID:15907-1679904000-1680022800@biograndest.org
SUMMARY:Formation "Biodiversité et protection des cultures en  maraichage biologique" - Annulée
DESCRIPTION:Formation annulée! \navec Charles SOUILLOT\, formateur et conseiller indépendant \nObjectifs :\nMieux cerner les méthodes de luttes préventives et curatives contre les maladies et les ravageurs des légumes. Envisager des stratégies de lutte sur son exploitation adaptées à ses contraintes et aux problématiques rencontrées. \nLe 27 mars 2023 \n\nLes principaux ravageurs et maladies des légumes\nImpact de la biodiversité sur les populations de ravageurs\n\nLe 28 mars 2023 \n\nLes méthodes de luttes préventives et curatives\nLes méthodes de luttes préventives et curatives\n\nPour plus d’informations\, télécharger le programme de la formation. \nRenseignements et inscriptions auprès de Maryna Frêne-Bogdanok\, Chargée de mission Maraichage Bio à maryna.bogdanok@biograndest.org et au 06 43 10 02 84 . \nSi vous êtes en situation de handicap\, contactez le responsable de la formation afin de connaître les modalités d’accueil possible.
URL:https://biograndest.org/evenement/formation-biodiversite-et-protection-des-cultures-en-maraichage-biologique/
LOCATION:Valff\, 299 A rue principale\, VALFF\, 67210\, France
CATEGORIES:Alsace,Biodiversité,Formation
ATTACH;FMTTYPE=image/jpeg:https://biograndest.org/wp-content/uploads/2023/01/maraichage-biodiv.jpg
END:VEVENT
BEGIN:VEVENT
DTSTART;TZID=Europe/Paris:20230327T093000
DTEND;TZID=Europe/Paris:20230327T170000
DTSTAMP:20260420T200419
CREATED:20230228T094602Z
LAST-MODIFIED:20230228T094602Z
UID:16090-1679909400-1679936400@biograndest.org
SUMMARY:Forum des producteurs de légumes et de fruits bio du Grand Est : 10è édition
DESCRIPTION:Bio en Grand Est en partenariat avec l’Eplefpa de Courcelles-Chaussy vous invite le lundi 27 mars 2023 pour la 10ème édition du Forum des producteurs de légumes et de fruits bio du Grand Est. \nAu programme de cette journée (accueil dès 9h30) \n  \n \nPause déjeuner (11h40 à 15h30) \n \nMusique déambulatoire\, avec Les fées du logis \n  \nInscription obligatoire auprès de Nicolas HERBETH. Merci de préciser dans le mail vos noms\, le nombre de repas et les réunions auxquelles vous souhaitez participer. \n 
URL:https://biograndest.org/evenement/forum-des-producteurs-de-legumes-et-de-fruits-bio-du-grand-est-10e-edition/
LOCATION:CFPPA – Courcelles-Chaussy (57)
CATEGORIES:Evènement,Moselle,Techniques
ATTACH;FMTTYPE=image/jpeg:https://biograndest.org/wp-content/uploads/2023/02/affiche-forum2023.jpg
END:VEVENT
BEGIN:VEVENT
DTSTART;VALUE=DATE:20230328
DTEND;VALUE=DATE:20230329
DTSTAMP:20260420T200419
CREATED:20230215T154739Z
LAST-MODIFIED:20230215T154858Z
UID:16041-1679961600-1680047999@biograndest.org
SUMMARY:Formation : Désherbage mécanique et gestion des adventices en agriculture biologique
DESCRIPTION:Durée : 11h45 (dont 4h45 en distanciel et 1 jour en présentiel) : \nAvec l’intervention de David Roy\, coordinateur Pôle Ressources Techniques d’Agrobio 35 \nCours en ligne : du 27 février au 28 avril 2023 \nSession en présentiel : le 28 mars 2023 à COUPEVILLE (51) \nLe début des cours en distanciel : le 27 février à 13h30 (visioconférence de 30 min). Puis les cours en ligne (vidéos\, diaporamas commentés\, …) seront disponibles sur une plateforme digitale dédiée\, accessible 24h/24h. Les personnes inscrites à la formation pourront les regarder à leur rythme du 27 février au 28 avril 2023. \nObjectif de la formation :  \n– Maîtriser la gestion préventive et curative des adventices en grandes cultures ; \n– Maitriser les différents outils de désherbage mécanique\, leurs réglages et les différences entre les marques ; \n– Connaitre les préalables à l’introduction de désherbage mécanique en grandes cultures ; \n– Savoir élaborer une stratégie d’investissement et d’intervention. \nFormation en distanciel\, en ligne (4h45) \n– Grand principes de la gestion préventive des adventices en grandes cultures bio : évolution des flores\, taux annuel de décroissance\, travail du sol (profondeur et types de travaux)\, principes du faux semis… \n– Connaitre\, évaluer et éviter les facteurs de risque inhérents à la technique mécanique \n– Découvrir les différents matériels de désherbage mécanique\, leurs caractéristiques\, les réglages\, les stades d’interventions et leurs avantages et limites (exemple de la culture du maïs) \n– Focus sur les céréales d’hiver (conditions du désherbage mécanique pour les cultures d’hiver\, désherbage mécanique précoce\, limites et atouts des outils de désherbage mécanique selon les stades de culture\, les conditions du binage des céréales\, comparer l’efficacité du binage des céréales sur le rendement) \nFormation en présentiel (7h) le 28 mars 2023 \nEn salle et sur ferme : \n– Retour sur le module en e-learning\, approfondissement \n– Présentation des points de réglage du matériel (ouverture à d’autres cultures non proposées en e-learning) \n– Présentation d’exemples d’itinéraires techniques sur maïs\, tournesol\, soja\, céréales\, betterave\, féverole et colza… \n– Critères de choix et élaboration d’une stratégie d’investissement et d’intervention \n– Comprendre et savoir utiliser l’outil d’aide à la décision Opti’Mat pour raisonner ses investissements \n– Témoignage de Didier Lambin (EARL SAINT JEANVAT) sur l’utilisation de matériel (herse étrille\, bineuse\, robot\, …) \n– Réglage et utilisation du matériel présent (si possible démonstration) \nPour plus d’informations : télécharger le programme de la formation. \nRenseignements et inscriptions auprès de Aurélie Parant-Songy\, Chargée de mission Grandes Cultures biologiques à Bio en Grand Est : \naurelie.songy@biograndest.org / 06 88 28 37 68 \nSi vous êtes en situation de handicap\, contactez le responsable de la formation afin de connaître les modalités d’accueil possible.
URL:https://biograndest.org/evenement/formation-desherbage-mecanique-et-gestion-des-adventices-en-agriculture-biologique-2/
LOCATION:COUPEVILLE (51)
CATEGORIES:Formation,Marne,Techniques
ATTACH;FMTTYPE=image/jpeg:https://biograndest.org/wp-content/uploads/2023/02/desherbage-mecanique-bio.jpg
END:VEVENT
BEGIN:VEVENT
DTSTART;TZID=Europe/Paris:20230329T080000
DTEND;TZID=Europe/Paris:20230329T170000
DTSTAMP:20260420T200419
CREATED:20230321T075011Z
LAST-MODIFIED:20230505T064736Z
UID:16209-1680076800-1680109200@biograndest.org
SUMMARY:Formation : Fertilité des sols\, gestion des couverts : vers l'Agriculture Biologique de Conservation -Annulée
DESCRIPTION:Formation annulée! \nFormation «  Fertilité des sols\, gestion des couverts : vers l’Agriculture Biologique de Conservation »\, \nle jeudi 13 avril 2023 dans la Marne (51) et 8 h en distanciel \nInscription souhaitée avant le 22/03/2023 \nFormation sur 1 journée en présentiel et 8h en distanciel. \n  \nFormation labellisée Ecophyto pouvant servir au renouvellement de votre CertiPhyto (cliquer ICI pour plus d’informations).  \nIntervenant(e)s : Nicolas COURTOIS\, Formateur et expert en agriculture de conservation et agro- écologie\, Icosystème \n  \nProgramme : \nEn distanciel (sur la plateforme de formation en ligne d’Icosystème) :  \n– Unité 1 : Définir l’agriculture de conservation des sols (45 min) \n– Unité 2 : Les sols : une autre gestion de la fertilité physique et biologique des sols (2h30) \n– Unité 3 : Implantation et gestion des couverts (1h45) \n– Unité 4 : Choix et destruction des couverts (1h30) \n– Unité 5 : Couverts associés (1h30) \nEn présentiel (en salle et sur ferme) :  \n– Approfondissement des notions vues en distanciel (sol\, rotation\, couverts végétaux) \n– Étude d’un cas pratique \nRenseignements et inscriptions auprès de Aurélie PARANT-SONGY : aurelie.songy@biograndest.org / 06 88 28 37 68
URL:https://biograndest.org/evenement/formation-fertilite-des-sols-gestion-des-couverts-vers-lagriculture-biologique-de-conservation/
LOCATION:Marne\, France
CATEGORIES:Formation,Marne,Techniques
ATTACH;FMTTYPE=image/jpeg:https://biograndest.org/wp-content/uploads/2022/12/conservation.jpg
END:VEVENT
BEGIN:VEVENT
DTSTART;TZID=Europe/Paris:20230329T100000
DTEND;TZID=Europe/Paris:20230329T123000
DTSTAMP:20260420T200419
CREATED:20230320T155635Z
LAST-MODIFIED:20230320T155658Z
UID:16205-1680084000-1680093000@biograndest.org
SUMMARY:Visite de ferme : Réintroduire un atelier d'élevage sur ma ferme en polyculture
DESCRIPTION:Pour son deuxième tour de ferme\, le GAB de l’Aube vous propose de partir à la rencontre de Fabien LACOUR à Val d’Auzon! \nAu programme : \n– visite de la ferme\, \n– échange sur les motivations des agriculteurs à intégrer une troupe ovine sur la ferme et premiers retours d’expérience. \nCette matinée se terminera autour d’un apéro bio offert par le GAB. \nNous vous attendons nombreux! \nÉvènement gratuit sur inscription par mail : gab10@biograndest.org \n 
URL:https://biograndest.org/evenement/visite-de-ferme-reintroduire-un-atelier-delevage-sur-ma-ferme-en-polyculture/
LOCATION:VAL D’AUZON (10220)
CATEGORIES:Aube
ATTACH;FMTTYPE=image/jpeg:https://biograndest.org/wp-content/uploads/2023/03/reintroduction-elevage-bio.jpg
END:VEVENT
END:VCALENDAR