BEGIN:VCALENDAR
VERSION:2.0
PRODID:-//Bio Grand Est - ECPv6.15.14//NONSGML v1.0//EN
CALSCALE:GREGORIAN
METHOD:PUBLISH
X-ORIGINAL-URL:https://biograndest.org
X-WR-CALDESC:Évènements pour Bio Grand Est
REFRESH-INTERVAL;VALUE=DURATION:PT1H
X-Robots-Tag:noindex
X-PUBLISHED-TTL:PT1H
BEGIN:VTIMEZONE
TZID:Europe/Paris
BEGIN:DAYLIGHT
TZOFFSETFROM:+0100
TZOFFSETTO:+0200
TZNAME:CEST
DTSTART:20220327T010000
END:DAYLIGHT
BEGIN:STANDARD
TZOFFSETFROM:+0200
TZOFFSETTO:+0100
TZNAME:CET
DTSTART:20221030T010000
END:STANDARD
BEGIN:DAYLIGHT
TZOFFSETFROM:+0100
TZOFFSETTO:+0200
TZNAME:CEST
DTSTART:20230326T010000
END:DAYLIGHT
BEGIN:STANDARD
TZOFFSETFROM:+0200
TZOFFSETTO:+0100
TZNAME:CET
DTSTART:20231029T010000
END:STANDARD
BEGIN:DAYLIGHT
TZOFFSETFROM:+0100
TZOFFSETTO:+0200
TZNAME:CEST
DTSTART:20240331T010000
END:DAYLIGHT
BEGIN:STANDARD
TZOFFSETFROM:+0200
TZOFFSETTO:+0100
TZNAME:CET
DTSTART:20241027T010000
END:STANDARD
END:VTIMEZONE
BEGIN:VEVENT
DTSTART;TZID=Europe/Paris:20230403T080000
DTEND;TZID=Europe/Paris:20230403T170000
DTSTAMP:20260420T181807
CREATED:20230321T075415Z
LAST-MODIFIED:20230505T064707Z
UID:16218-1680508800-1680541200@biograndest.org
SUMMARY:Formation : Les couverts végétaux : un des piliers de l'Agriculture Biologique de Conservation
DESCRIPTION:Formation  » Les couverts végétaux : un des piliers de l’Agriculture Biologique de Conservation »\, \nLe vendredi 21 avril 2023 dans la Marne (51) et 3 h en distanciel  \nInscription souhaitée avant le 27/03/2023 \nFormation labellisée Ecophyto pouvant servir au renouvellement de votre CertiPhyto (cliquer ICI pour plus d’informations). \nVous souhaitez acquérir les bases ou bien perfectionner votre approche des couverts végétaux dans un système en Agriculture Biologique de Conservation ou en devenir ? Cette formation vous apprendra quel couvert choisir et comment implanter et détruire vos couverts. \nLes couverts n’auront plus de secret pour vous. \nIntervenant(e)s : Nicolas COURTOIS\, Formateur et expert en agriculture de conservation et agro- écologie\, Icosystème \nProgramme : \nEn distanciel (sur la plateforme de formation en ligne d’Icosystème) :  \n– Les bases sur les couverts végétaux: intérêts\, modalités d’implantation\, place dans la rotation. \nEn présentiel (en salle et sur ferme) :  \n– Les 11 commandements de l’ABC \n– Présentation en détail de 25 espèces utilisables pour les couverts (avantage/inconvénient\, période d’utilisation\, spécificité variétale\, densité de semis\, gestion de la destruction) \n– Analyses de différents exemples de couverts végétaux (présentation du prix\, de la valorisation et des effets de ces couverts) \n– Atelier de co-conception de mélanges : créez vos mélanges et apprenez à en cerner les limites sur les aspects agronomiques\, économiques et temps de travail \n– Analyse de pratiques : observations de profils culturaux et analyse collective \n  \nPour plus d’informations\, voir le programme de la formation complète en cliquant ICI.  \nRenseignements et inscriptions auprès de Aurélie PARANT-SONGY aurelie.songy@biograndest.org / 06 88 28 37 68
URL:https://biograndest.org/evenement/formation-les-couverts-vegetaux-un-des-piliers-de-lagriculture-biologique-de-conservation/
LOCATION:Marne\, France
CATEGORIES:Formation,Marne,Techniques
ATTACH;FMTTYPE=image/jpeg:https://biograndest.org/wp-content/uploads/2022/12/conservation.jpg
END:VEVENT
BEGIN:VEVENT
DTSTART;VALUE=DATE:20230404
DTEND;VALUE=DATE:20230405
DTSTAMP:20260420T181807
CREATED:20230323T091659Z
LAST-MODIFIED:20230323T091843Z
UID:16246-1680566400-1680652799@biograndest.org
SUMMARY:Assemblée Générale OPABA 2023
DESCRIPTION:Chers collègues\, membres et partenaires du développement de l’agriculture biologique et de ses filières en Alsace\, \nJ’ai le plaisir de vous inviter à l’Assemblée Générale de l’OPABA\, qui aura lieu : \nMardi 4 avril 2023 à 09h45 \nA la salle des fêtes de DURRENENTZEN\,  \n1 Place Jacques Courant – 68320 DURRENENTZEN \nDéroulement : \n09h45     Café d’Accueil / émargement \n10h00     Mot d’accueil – ASSEMBLEE GENERALE statutaire \n\nRapport moral et d’orientation par le Président Francis HUMANN\nRapport d’activités 2022 et perspectives 2023\nPrésentation des comptes 2022\nVote des représentants au CA\nInformation sur les aides à la bio en 2023\nTemps d’échanges\n\n12h30     Buffet bio local (une participation de 15€ vous sera demandée pour les non adhérents\, avec envoi de facture si besoin) \n14h00     Visite de la Ferme HORRENBERGER (http://www.ferme-horrenberger.fr/) en légumes et céréales biologiques et biodynamiques depuis 1969 (au 17 Rue des Commandos). \nMerci de confirmer votre participation via ce formulaire ou par mail à opaba@biograndest.org. \nNous attirons votre attention sur le fait que l’Assemblée Générale de notre fédération Bio en Grand Est se déroulera cette année également en Alsace\, le jeudi 13 avril à Strasbourg : vous êtes les bienvenus pour ces 2 évènements. \nLe Président OPABA \nFrancis HUMANN
URL:https://biograndest.org/evenement/assemblee-generale-opaba-2023/
LOCATION:Durrenentzen
CATEGORIES:Alsace
ATTACH;FMTTYPE=image/jpeg:https://biograndest.org/wp-content/uploads/2022/03/AG_OPABA2022.jpg
ORGANIZER;CN="Bio en Alsace":MAILTO:opaba@biograndest.org
END:VEVENT
BEGIN:VEVENT
DTSTART;TZID=Europe/Paris:20230406T093000
DTEND;TZID=Europe/Paris:20230406T170000
DTSTAMP:20260420T181807
CREATED:20230323T083228Z
LAST-MODIFIED:20230323T083438Z
UID:16238-1680773400-1680800400@biograndest.org
SUMMARY:Le mur en pierres sèches\, le renouveau d’un savoir-faire ancien au service du piémont viticole
DESCRIPTION:Le Parc Naturel Régional des Ballons des Vosges en partenariat avec Bio en Grand Est et grâce au soutien financier de l’Union Européenne\, de la Région Grand Est et de l’Agence de l’eau\, souhaite promouvoir les pratiques viticoles favorables à la biodiversité.\nDepuis 2021\, un bon nombre d’action tels que la restauration de murs en pierres sèches et la plantation d’arbres et de haies dans le vignobles ont été réalisées dans le cadre du projet transfrontalier VinBiodiv.\nLe 06 avril 2023\, le Parc et l’EPLEFPA Les Sillons de Haute Alsace s’associent pour vous proposer une journée sur la thématique des murs en pierres sèches. \nAntony Le Roux\, artisan bâtisseur d’Alsace\, vous mettra à contribution pour vous initier aux règles de l’art et rénover avec lui le mur chantier-école. \nClaudia Caridi du PNR des Ballons des Vosges\, vous présentera\, à l’aide d’une toute nouvelle exposition les intérêts du mur avec une approche biodiversité. \nL’évènement s’adresse à l’ensemble des professionnels viticoles du piémont alsacien et plus largement du Rhin Supérieur mais aussi les autres professions traitant de la question des murs en pierres sèches sur le piémont. C’est pourquoi nous comptons sur vous pour relayer cette information auprès des professionnels que cela pourrait intéresser. \nClément Lamy\, en charge du projet se tient à votre disposition pour tout renseignement complémentaire : clement.lamy@biograndest.org et au 07-88-76-02-09 \nProgramme ICI \nInscription recommandée\nPar téléphone au 03 89 77 90 20\nou par mail secretariat@parc-ballons-vosges.fr
URL:https://biograndest.org/evenement/le-mur-en-pierres-seches-le-renouveau-dun-savoir-faire-ancien-au-service-du-piemont-viticole/
LOCATION:Rouffach
CATEGORIES:Alsace,Biodiversité
ATTACH;FMTTYPE=image/jpeg:https://biograndest.org/wp-content/uploads/2021/06/vitiVBO.jpg
END:VEVENT
BEGIN:VEVENT
DTSTART;TZID=Europe/Paris:20230406T100000
DTEND;TZID=Europe/Paris:20230406T140000
DTSTAMP:20260420T181807
CREATED:20230328T072441Z
LAST-MODIFIED:20240822T124429Z
UID:16273-1680775200-1680789600@biograndest.org
SUMMARY:Lancement des bières bio « Grand Hamster »
DESCRIPTION:Un collectif de brasseries artisanales alsaciennes vous donne rendez-vous le 6 avril 2023 à 10h30 à la brasserie L’Altruiste à Scherwiller pour le lancement de 5 bières bio « Grand Hamster ». Une initiative originale et pleine de sens !  \nLieu de la conférence de presse :\nBrasserie l’Altruiste\, 13 allée de Fautenbach\, 67 750 SCHERWILLER \nProgramme de la conférence de presse : \n\n10h15 : Accueil café\n10h30-10h45 : Préserver la biodiversité de la plaine d’Alsace par des pratiques agricoles vertueuses soutenues la structuration de filières bio et locales.\nL’orge bio brassicole : état des lieux de la production\, atouts et risques de la culture dans un assolement bio.\nAvec Francis Humann\, Président du GIE G.H.A.\, céréalier et éleveur de volailles de chair et festives à Ernolsheim-sur-Bruche. \n\n\n10h45-10h55 : Une première malterie bio artisanale en Alsace : Maltala. Un maillon indispensable qui ouvre de nouvelles perspectives\nAvec Lise Meinrad\, Maltala\n\n\n10h55-12h00 : Les bières bio « Grand Hamster » : présentation de chaque brasserie\, des cinq bières « Grand Hamster » et dégustations.\nAvec Benjamin Pastwa\, Bendorf\, Neudorf.\nAgathe Blaise\, La Narcose\, Scharrarbergheim.\nJulien Delécolle\, l’Altruiste\, Scherwiller.\nBarnabé Stoehr\, S’Humpaloch\, Lautenbach.\nFabien Santener\, Brasserie Des 4 Pays\, Hirtzbach. \n\n\n12h00-12h30 : Visite de la brasserie l’Altruiste.\n\nLire le communiqué de presse et le dossier de presse. \nContact presse :\nDELECOLLE Julien\, Brasserie l’Altruiste : 06 71 95 01 65 – contact@brasserie-laltruiste.fr\nHUMANN Francis\, Président du G.I.E. Grand Hamster d’Alsace 06 15 40 44 56 – f.humann@sfr.fr \nPour votre participation\, veuillez-vous inscrire auprès de :\nBio en Grand Est-Julie GALL – 06 24 06 79 90 – julie.gall@biograndest.org \nPour en savoir plus sur la filière bio Grand Hamster d’Alsace :\nhttps://biograndest.org/grand-hamster-dalsace/ \n 
URL:https://biograndest.org/evenement/lancement-des-bieres-bio-grand-hamster/
LOCATION:Scherwiller (67)\, 13 allée de Fautenbach\, SCHERWILLER\, 67750\, France
CATEGORIES:Alsace,Communiqué de presse,Filières
ATTACH;FMTTYPE=image/png:https://biograndest.org/wp-content/uploads/2023/03/bierehamster.png
END:VEVENT
BEGIN:VEVENT
DTSTART;TZID=Europe/Paris:20230413T093000
DTEND;TZID=Europe/Paris:20230413T170000
DTSTAMP:20260420T181807
CREATED:20230210T134206Z
LAST-MODIFIED:20230403T115718Z
UID:16002-1681378200-1681405200@biograndest.org
SUMMARY:Assemblée Générale de Bio en Grand Est - 2023
DESCRIPTION:Laurent COUSIN\, Président de Bio en Grand Est\, et l’ensemble du Conseil d’Administration sont heureux de vous inviter à : \nl’Assemblée Générale de BIO EN GRAND EST\nle jeudi 13 avril 2023 à Strasbourg\n\nProgramme :\nMatinée | Assemblée Générale statutaire09h30 | Accueil-café des participants\n10h00 | Assemblée Générale statutaire\n– Mot accueil de Laurent COUSIN\, Président de Bio en Grand Est\n– Bilan d’activités 2022\n– Présentation des comptes annuels et affectation du résultat\n– Élection du Conseil d’Administration\n– Rapport moral et d’orientation du Président \nRepas\n12h30 | Buffet repas bio et local\nParticipation : 15€ pour les adhérents / 20€ pour les non-adhérents >> Inscription \nAprès-midi | Conférence et table ronde :  \n14h00 | Allocutions des élus présents\n14h15 | Débat : \n« Marché et consommation bio\, situation et perspectives. » \n \n14h15 : Conférence : Burkhard SCHAER co-fondateur d’ECOZEPT\, agence d’expertise-conseil et de recherche\, spécialisée dans les marchés agroalimentaires durables.\n15h15 : Table ronde avec des représentants de la distribution (grossistes\, GMS\, détaillants\, plateforme de distribution) : \n\nSOLIBIO coopérative de distribution bio avec Mathieu BON\, directeur\nAUCHAN distributeur avec Boris WENDLING\, chef de Groupe\nLE POTAGER DE CAMILLE production bio avec Jean Christophe SUSSMANN\, directeur associé\nBIOCOOP Strasbourg Neudorf magasin bio avec Nicolas WEISS\, directeur\n\n16h30 | Fin et verre de l’amitié \nInscription avant le 03 avril 2023 \n\n\nLieu : Centre administratif – Ville et Eurométropole de Strasbourg\nSalle des Conseils au 1er étage\n1 parc de l’Étoile 67000 STRASBOURG\nPlan d’accès\n \nAccès depuis la gare en tram A ou D : arrêt « Étoile Bourse »
URL:https://biograndest.org/evenement/assemblee-generale-de-bio-en-grand-est-2023/
LOCATION:Ville et Eurométropole de Strasbourg\, 1 parc de l’Étoile\, Strasbourg\, 67076\, France
CATEGORIES:Alsace
ATTACH;FMTTYPE=image/jpeg:https://biograndest.org/wp-content/uploads/2023/02/ag-23.jpg
END:VEVENT
BEGIN:VEVENT
DTSTART;VALUE=DATE:20230414
DTEND;VALUE=DATE:20230415
DTSTAMP:20260420T181807
CREATED:20230302T150920Z
LAST-MODIFIED:20230330T073452Z
UID:16129-1681430400-1681516799@biograndest.org
SUMMARY:Formation : élaboration des préparations biodynamiques : théorie et pratiques [Complète]
DESCRIPTION:Formation complète ! \n  \nVincent MASSON revient en Alsace pour former les viticulteurs à la théorie et la pratique sur l’élaboration des préparations biodynamiques. \nRendez-vous à Hunawihr le 14 avril. \nTélécharger le programme. \nContact : lucie.pierre@biograndest.org ou 06 41 56 94 56 \n  \nSi vous êtes en situation de handicap\, contactez le responsable de la formation afin de connaître les modalités d’accueil possible.
URL:https://biograndest.org/evenement/formation-elaboration-des-preparations-biodynamiques-theorie-et-pratiques-complete/
LOCATION:Hunawihr
CATEGORIES:Alsace,Formation
ATTACH;FMTTYPE=image/jpeg:https://biograndest.org/wp-content/uploads/2021/06/vitiVBO.jpg
END:VEVENT
BEGIN:VEVENT
DTSTART;VALUE=DATE:20230414
DTEND;VALUE=DATE:20230415
DTSTAMP:20260420T181807
CREATED:20240111T101225Z
LAST-MODIFIED:20240111T101225Z
UID:18160-1681430400-1681516799@biograndest.org
SUMMARY:Formation : élaboration des préparations biodynamiques : théorie et pratiques [Complète]
DESCRIPTION:Formation complète ! \n  \nVincent MASSON revient en Alsace pour former les viticulteurs à la théorie et la pratique sur l’élaboration des préparations biodynamiques. \nRendez-vous à Hunawihr le 14 avril. \nTélécharger le programme. \nContact : lucie.pierre@biograndest.org ou 06 41 56 94 56 \n  \nSi vous êtes en situation de handicap\, contactez le responsable de la formation afin de connaître les modalités d’accueil possible.
URL:https://biograndest.org/evenement/formation-elaboration-des-preparations-biodynamiques-theorie-et-pratiques-complete-2/
LOCATION:Hunawihr
CATEGORIES:Alsace,Formation
ATTACH;FMTTYPE=image/jpeg:https://biograndest.org/wp-content/uploads/2021/06/vitiVBO.jpg
END:VEVENT
BEGIN:VEVENT
DTSTART;TZID=Europe/Paris:20230414T080000
DTEND;TZID=Europe/Paris:20230414T173000
DTSTAMP:20260420T181807
CREATED:20221208T185404Z
LAST-MODIFIED:20230329T120424Z
UID:15684-1681459200-1681493400@biograndest.org
SUMMARY:Formation: les couverts végétaux\, un des piliers de l'ABC - Annulée
DESCRIPTION:Formation annulée! \nObjectifs pédagogiques :  \n\nAcquérir les bases et perfectionner l’approche des couverts\nvégétaux dans un système en Agriculture Biologique de Conservation ou en devenir ;\nSavoir mélanger\, implanter et détruire ses couverts végétaux\n\nAu cours des 7h de formation :  \n– Point sur la rotation et la place des intercultures \n– Les 11 commandements de l’ABC : focus sur les points importants pour la réussite des\ncouverts\n– Présentation de différentes intercultures possibles\n– Présentation en détail de 25 espèces utilisables pour les couverts (avantage/inconvénient\,\npériode d’utilisation\, spécificité variétale\, densité de semis\, gestion de la destruction)\n– Analyses de différents exemples de couverts végétaux (présentation du prix\, de la\nvalorisation et des effets de ces couverts)\n– Atelier de co-conception de mélanges : créez vos mélanges et apprenez à en cerner les limites sur les aspects agronomiques\, économiques et temps de travail \nRenseignements et inscriptions auprès de Julie GALL\, Chargée de mission Développement de l’AB à julie.gall@biograndest.org et au 06 24 06 79 90. \nSi vous êtes en situation de handicap\, contactez le responsable de la formation afin de connaître les modalités d’accueil possible. \n\nN’hésitez pas à partager cet article à vos amis !
URL:https://biograndest.org/evenement/formation-les-couverts-vegetaux-un-des-piliers-de-labc/
LOCATION:Bas-Rhin
CATEGORIES:Alsace,Formation
ATTACH;FMTTYPE=image/jpeg:https://biograndest.org/wp-content/uploads/2022/12/conservation.jpg
END:VEVENT
BEGIN:VEVENT
DTSTART;TZID=Europe/Paris:20230415T140000
DTEND;TZID=Europe/Paris:20230416T190000
DTSTAMP:20260420T181807
CREATED:20230327T124409Z
LAST-MODIFIED:20230328T112834Z
UID:16262-1681567200-1681671600@biograndest.org
SUMMARY:RELANGES BIO 2023
DESCRIPTION:RELANGES BIO – 17ème ÉDITION !! \nLa Rencontre de l’Agriculture Biologique\, des Alternatives Écologiques et de la Solidarité revient cette année avec une édition toujours aussi riche de découvertes et de rencontres ! \nOn vous attend les 15 et 16 avril prochains\, à Relanges bien sûr ! \nA partager sans modération\nsuivez la présentation du programme et l’actu de RELANGES BIO : (1) Relanges Bio | Facebook \n \nRepas BIO 88 – Venez diner samedi soir et déjeuner dimanche midi !  \nUn menu gourmand au choix pour satisfaire petits et grands ! \nPart de tarte aux plantes / Bol de mesclun/ Merguez / faux filet / steak haché / Rougail de bœuf / Panier burger  / Boudha bowl / frites / fromage (emmental\, marbré\, tome\, paysan) / fromage blanc au miel et à la mirabelle / yaourt aux fruits / part de tarte framboise ou mirabelle / cakes moelleux à la framboise ou à la mirabelle / pain offert \nUn repas bio 88 c’est : \n\nun repas 100% bio à un prix accessible\nun repas 100% circuit court\ndes produits 100% locaux – moins de 88 km de Relanges\nun repas solidaire.\n\nBio et Local\, c’est l’Idéal ! \nJe participe à la protection de l’environnement et je soutiens l’économie locale 🙂 \nTélécharger le programme ICI. \nContact : gab88@biograndest.org / 07 69 27 03 91
URL:https://biograndest.org/evenement/relanges-bio-2023/
LOCATION:Relanges\, 88260\, France
CATEGORIES:Consommateurs,Evènement,Vosges
ATTACH;FMTTYPE=image/jpeg:https://biograndest.org/wp-content/uploads/2023/03/relanges-bio-2023.jpg
ORGANIZER;CN="BIO des VOSGES":MAILTO:contact-gab@orange.fr
END:VEVENT
BEGIN:VEVENT
DTSTART;TZID=Europe/Paris:20230416T100000
DTEND;TZID=Europe/Paris:20230416T170000
DTSTAMP:20260420T181807
CREATED:20230215T154524Z
LAST-MODIFIED:20230215T154914Z
UID:16034-1681639200-1681664400@biograndest.org
SUMMARY:12ème édition de Bulles Bio en Champagne (Salon Pro)
DESCRIPTION:12ème édition de Bulles Bio en Champagne\, proposée par L’Association des Champagnes Biologiques\, durant la semaine du Printemps des Champagnes\, aux Halles du Boulingrin à Reims. \nLes vigneronnes et vignerons membres de l’Association vous proposent une dégustation de vins clairs et Champagnes certifiés en Agriculture Biologique. \nSALON PRO : \nAccès réservé uniquement aux professionnels du monde du vin : importateurs\, distributeurs\, cavistes\, CHR\, sommeliers\, journalistes. \nENTRÉE : \nInscription obligatoire sur Eventbrite.fr (chaque visiteur doit être inscrit individuellement). \nPrix d’entrée 15 €\, à régler sur place. \nLien pour s’inscire sur Eventbrite : \n> Cliquez ici pour vous inscrire sur Eventbrite < \nLIEU ET HORAIRES : \nLes Halles du Boulingrin\, 50 rue du Tambour\, 51100 Reims\, \nde 10H à 17H. \n(A cinq minutes à pied de la Gare de Reims) \nLISTE DES 56 DOMAINES PARTICIPANTS \nAUDE ET BORIS • ROBERT BARBICHON • AMAURY BEAUFORT • ANDRÉ BEAUFORT • LAURENT BÉNARD • DOMAINE DE BICHERY • VINCENT BLIARD • JÉRÔME BLIN • COLETTE BONNET • BONNET-PONSON • FRANCIS BOULARD & Fille • BOURGEOIS DIAZ • LOUISE BRISON • HERVÉ BRISSON • BULLES DE COMPTOIR • ALEXANDRE CHAILLON • VINCENT CHARLOT & CHARLOT-TANNEUX • L&S CHEURLIN • ANTOINE CHEVALIER • VINCENT COUCHE • ELISE DECHANNES • BENOÎT DÉHU • PASCAL DOQUET • DIDIER DOUÉ • DURDON BOUVAL • ELÉMART ROBION • FANIEL & Fils • FLEURY • GEORGES FLEURY • REMI GEORGETON • JM GOULARD • OCTAVE GOUSSARD • EMILE GRADOS • ANDRÉ HEUCQ • PHILIPPE LANCELOT • OLIVIER HORIOT • DAVID LÉCLAPART • LECLERC BRIANT • LE GUÉDARD • LELARGE-PUGEOT • JEAN-MARIE MASSONNOT • MARTEAUX GUILLAUME • PASCAL MAZET • JEAN MICHEL • DANIEL MOREAU • FRANCK PASCAL • PIOLLOT • RÉGIS POISSINET • RAYMOND AURÉLIEN • RUTAT • ETIENNE SANDRIN • SIMONE & LUCIEN • SOLEMME • VAL’FRISON & THOMAS DE MARNE • VAUVERSIN • WARIS-LARMANDIER
URL:https://biograndest.org/evenement/12eme-edition-de-bulles-bio-en-champagne-salon-pro/
LOCATION:Reims (51)
CATEGORIES:Champagne,Evènement,Filières,Marne
ATTACH;FMTTYPE=image/png:https://biograndest.org/wp-content/uploads/2023/02/acb-bulles-bio-2023-visuel-page-bulles-bio-site-1000.png
END:VEVENT
BEGIN:VEVENT
DTSTART;TZID=Europe/Paris:20230424T183000
DTEND;TZID=Europe/Paris:20230424T203000
DTSTAMP:20260420T181807
CREATED:20230411T153209Z
LAST-MODIFIED:20230411T153209Z
UID:16358-1682361000-1682368200@biograndest.org
SUMMARY:Réunion d'information en ligne: le test d'activité en Grand Est
DESCRIPTION:Vous avez un projet agricole et souhaitez tester votre activité avant de vous installer? \nVous cherchez à en savoir plus sur le dispositif Espace-test ?  \nLe test d’activité agricole permet de démarrer son activité de production\, en responsabilité\, dans un cadre sécurisé\, tout en étant accompagné. \nCette visioconférence\, permettra de présenter le dispositif alsacien et ses homologues de Metz et du lycée de Fayl-Billot (52)\, les partenaires impliqués\, les objectifs du test d’activités agricoles et les démarches à entreprendre pour entrer en test. \nÉvènement gratuit sur inscription par mail à :  \nkim.stoeckel@biograndest.org
URL:https://biograndest.org/evenement/reunion-dinformation-en-ligne-le-test-dactivite-en-grand-est/
LOCATION:en visioconférence
CATEGORIES:Alsace,Ardennes,Aube,Evènement,Haute-Marne,Marne,Meurthe-et-Moselle,Meuse,Moselle,Vosges
ATTACH;FMTTYPE=image/jpeg:https://biograndest.org/wp-content/uploads/2023/04/reunion-dnformation-collective240423.jpg
END:VEVENT
BEGIN:VEVENT
DTSTART;TZID=Europe/Paris:20230425T093000
DTEND;TZID=Europe/Paris:20230425T123000
DTSTAMP:20260420T181807
CREATED:20230404T065623Z
LAST-MODIFIED:20230404T071703Z
UID:16310-1682415000-1682425800@biograndest.org
SUMMARY:Vigne Bio Ouverte : Comparaison des Méthodes de Vinification Biologique
DESCRIPTION:L’Association des Champagne Biologique et Bio en Grand Est vous invitent à une Vigne Bio Ouverte : \nComparaison des Méthodes de Vinification Biologique\nAvec Antonin AUBRY et Aurélien CLEMENT\, vignerons à CONGY\nRDV au domaine d’Aurélien CLEMENT :\nCHAMPAGNE CLEMENT & FILS\, 8 rue des Prés 51270 CONGY\n(voir l’itinéraire sur Google Map) \n  \nAu programme de la matinée : \n▪ Présentation des deux Domaines\,\n▪ Réglementations en Vinification Bio\,\n▪ Comparaison des pratiques œnologiques des domaines\n▪ Visite des chais\n▪ Dégustations comparatives des vins clairs\n▪ Temps d’échanges. \nTélécharger le programme \n— \nInscription obligatoire auprès de Anne BISIAUX :\nanimation@champagnesbiologiques.com
URL:https://biograndest.org/evenement/vigne-bio-ouverte-comparaison-methodes-vinification-biologique/
LOCATION:Congy (51)
CATEGORIES:Animation,Champagne,Filières,Marne,Techniques
ATTACH;FMTTYPE=image/jpeg:https://biograndest.org/wp-content/uploads/2023/04/vbovinif250423.jpg
END:VEVENT
BEGIN:VEVENT
DTSTART;TZID=Europe/Paris:20230427T190000
DTEND;TZID=Europe/Paris:20230427T230000
DTSTAMP:20260420T181807
CREATED:20230404T111312Z
LAST-MODIFIED:20230404T112602Z
UID:16317-1682622000-1682636400@biograndest.org
SUMMARY:Théâtre-débat autour de la pièce "La Ferme du Bois Fleury" organisé par Bio de l'Aube
DESCRIPTION:L’association Bio de l’Aube et la Maison Pour Tous d’Essoyes\, vous proposent un théâtre-débat autour de la pièce : \n« La Ferme du Bois Fleury« \, une comédie rurale présentée par Fred Dubonnet. \nSynopsis : \nDans les années 70\, deux frères se partagent une ferme. L’un va profiter de la « révolution verte » et cultiver des céréales en conventionnel\, l’autre va plutôt expérimenter le petit maraîchage. Pendant cinquante ans nous allons les croiser régulièrement à l’apéro. Ils parlent d’agriculture\, de politique et de femmes… tout un programme. \nEntre désaccords et fraternité\, ce seul en scène nous livre un récit rythmé\, où le rire et l’émotion se succèdent. Un voyage dans l’histoire de l’agriculture française par deux points de vu diamétralement opposés.  \nSpectacle tout public. (Source : https://freddubonnet.net/?page_id=229)\n \njeudi 27 avril 2023 à 19h\nà la ferme de la bergerie à Essoyes \n  \nTarif 5€\n Gratuit pour les moins de 18 ans. \nPrévoir des vêtements chauds\, (espace non chauffé) \n  \nPetit marché bio\, buvette et restauration sur place à partir des produits vendus sur le marché (pain\, fromage\, charcuterie\, …). \nTéléchargez l’affiche du théâtre-débat. \nInformations : gab10@biograndest.org \n 
URL:https://biograndest.org/evenement/theatre-debat-la-ferme-du-bois-fleury-bio-aube2023/
LOCATION:Essoyes (10)
CATEGORIES:Animation,Aube,Consommateurs
ATTACH;FMTTYPE=image/jpeg:https://biograndest.org/wp-content/uploads/2023/04/boislfleury-aube2023.jpg
END:VEVENT
END:VCALENDAR