BEGIN:VCALENDAR
VERSION:2.0
PRODID:-//Bio Grand Est - ECPv6.15.14//NONSGML v1.0//EN
CALSCALE:GREGORIAN
METHOD:PUBLISH
X-ORIGINAL-URL:https://biograndest.org
X-WR-CALDESC:Évènements pour Bio Grand Est
REFRESH-INTERVAL;VALUE=DURATION:PT1H
X-Robots-Tag:noindex
X-PUBLISHED-TTL:PT1H
BEGIN:VTIMEZONE
TZID:Europe/Paris
BEGIN:DAYLIGHT
TZOFFSETFROM:+0100
TZOFFSETTO:+0200
TZNAME:CEST
DTSTART:20220327T010000
END:DAYLIGHT
BEGIN:STANDARD
TZOFFSETFROM:+0200
TZOFFSETTO:+0100
TZNAME:CET
DTSTART:20221030T010000
END:STANDARD
BEGIN:DAYLIGHT
TZOFFSETFROM:+0100
TZOFFSETTO:+0200
TZNAME:CEST
DTSTART:20230326T010000
END:DAYLIGHT
BEGIN:STANDARD
TZOFFSETFROM:+0200
TZOFFSETTO:+0100
TZNAME:CET
DTSTART:20231029T010000
END:STANDARD
BEGIN:DAYLIGHT
TZOFFSETFROM:+0100
TZOFFSETTO:+0200
TZNAME:CEST
DTSTART:20240331T010000
END:DAYLIGHT
BEGIN:STANDARD
TZOFFSETFROM:+0200
TZOFFSETTO:+0100
TZNAME:CET
DTSTART:20241027T010000
END:STANDARD
END:VTIMEZONE
BEGIN:VEVENT
DTSTART;VALUE=DATE:20230701
DTEND;VALUE=DATE:20230702
DTSTAMP:20260420T134032
CREATED:20230607T121129Z
LAST-MODIFIED:20230616T162947Z
UID:16707-1688169600-1688255999@biograndest.org
SUMMARY:Les Champagnes Bio à Reims - 3ème édition
DESCRIPTION:L’Association des Champagnes Biologiques organise la 3ème édition des Champagnes Bio à Reims\, les 30 Juin et 01 Juillet 2023\, 3ème édition !  \nPARCOURS DE DÉCOUVERTE DES CHAMPAGNES BIO :\n24 domaines\, installés aux terrasses des bars à vin\, restaurants et cavistes du centre-ville de Reims\, vous font découvrir leurs terroirs singuliers. 🥂🍾 \nUn événement organisé par l’Association des Champagnes Biologiques. \nPour cette 3ème édition\, une balade théâtrale accompagnera ces dégustations ! \n« Ma Promenade en Champagne entre Vignes et Béton »\, interprétée par la talentueuse comédienne\, Pauline Méreuze ! \nDébut de l’animation théâtrale : le vendredi 30 Juin à 17h30 et le samedi 01 juillet à 17h\, devant les CAVES PAPAVERO. \n \nLE PROGRAMME DES DÉGUSTATIONS \n  \n************  \nDégustations gratuites\, sans réservation ; vente à la coupe et/ou de bouteilles sur place également\, selon les disponibilités des cuvées : \n1/ LE BOCAL  \n📍 27 rue de Mars \n\nVENDREDI 30 JUIN :\n\n18h-20h : Champagne Lelarge Pugeot \n\nSAMEDI 01 JUILLET :\n\n11h-14h : Champagne Jérôme Blin et Champagne Barrat-Masson \n  \n2/AUX 3 P’TITS BOUCHONS \n📍 29 Rue Henri IV\nMail : contact@aux3ptitsbouchons.fr \n\nVENDREDI 30 JUIN\n\n17h-19h : Champagne Del’Ozart \n\nSAMEDI 01 JUILLET\n\n11h-14h : Champagne Piollot\n17h-19h : Champagne Lelarge Pugeot \n  \n3/LE PRESSOIR\n📍 21 rue Henri IV\nTel : 03 26 87 65 98\nlepressoir.reims@gmail.com \nInsta : @lepressoir.reims \n\nVENDREDI 30 JUIN\n\n17h-19h : Champagne Elemart Robion et Champagne Cordeuil Père et Fille \n\nSAMEDI 01 JUILLET\n\n16h-19h : Champagne Médot \n16h-18h : Champagne Durdon Bouval \n  \n4/SACRÉ BURGER\n📍  24 rue de Tambour\nInsta : @sacreburger \n\nVENDREDI 30 JUIN\n\n18h-20h : Champagne Hugues Godmé \n\nSAMEDI 01 JUILLET\n\n11h30-14h30 : Champagne Daniel Moreau et Champagne Leclerc Briant \n18h-20h : Champagne Jérôme Blin et Champagne Bonnet Ponson \n  \n5/STEREO\n📍 25 rue de Tambour\nInsta : @stereoreims \n\nVENDREDI 30 JUIN\n\n16h-19h : Champagne Piollot et Champagne André Heucq \n\nSAMEDI 01 JUILLET\n\n16h-19h : Champagne Pascal Doquet \n16h-18h : Champagne Colette Bonnet \n  \n6/LA CAVE COLBERT\n📍  18 rue Colbert – 03 26 36 21 16 \nMail : Cave.champagne@gmail.com \nInsta : la_champagnerie \n\nVENDREDI 30 JUIN\n\n15h-17h : Champagne Leclerc Briant \n\nSAMEDI 01 JUILLET\n\n16h-19h : Champagne Louise Brison \n  \n7/CHAI LEON\n📍 3 place Léon Bourgeois\nMail : info@chaileon.com \nInsta : @chaileonreims \n\nSAMEDI 01 JUILLET\n\n11h-14h : Champagnes Hugues Godmé et Champagne Louise Brison \n16h-18h : Champagne Marie Copinet \n  \n8/AU BON MANGER\n📍 7 rue Courmeaux – 06 11 62 44 51 \nMail : epicerie@aubonmanger.fr \nInsta : @aubonmanger \n\nVENDREDI 30 JUIN\n\n16h-18h : Champagne Marie Copinet \n\nSAMEDI 01 JUILLET\n\n11h-14h : Champagne Barrat Masson \n15h-17h : Champagne Bonnet Ponson \n  \n9/WINE BAR BY LE VINTAGE\n📍  16 place du Forum\nMail : lewinebarbylevintage@gmail.com \nInsta : @lewinebarbylevintage@gmail.com \n\nVENDREDI 30 JUIN\n\n18h-20h : Champagne Daniel Moreau \n\nSAMEDI 01 JUILLET\n\n18h-20h : Champagne André Heucq \n  \n10/LES COUDES SUR LA TABLE\n📍 1 rue des Elus – Tel : 07 66 08 12 62 (sms) \nInsta : @les.coudes.sur.la.table \n\nVENDREDI 30 JUIN\n\n17h-20h : Champagne Benoit Déhu \n\nSAMEDI 01 JUILLET\n\n17h-20h : Champagne Pascal Doquet \n  \n11/ THE GLUE POT\n📍 49 place Drouet d’Erlon – Tel : 03 26 47 36 46 \n\nVENDREDI 30 JUIN\n\n17h-20h : Champagne Colette Bonnet et Champagne Médot \n\nSAMEDI 01 JUILLET\n\n17h-20h : Champagne Durdon Bouval et Champagne Laurent Bénard \n  \n12/CAVES PAPAVERO\n📍  40 rue Buirette\nMail : info@cavespapavero.com \n\nVENDREDI 30 JUIN\n\n16h30-19h30 : Champagne Georges Laval et Champagne René Rutat \n\nSAMEDI 01 JUILLET\n\n16h-19h : Champagne Cordeuil Père & Fille \n  \n13/LA CAVE DES SACRES\n📍  7 place du Cardinal Luçon  – Tel : 03 26 47 35 89\nMail : contact@cavedessacres.com \n\nVENDREDI 30 JUIN\n\n16h30-19h30 : Champagne Boulard & Fille \n\nSAMEDI 01 JUILLET\n\n11h-13h : Champagne Marie Copinet \n16h-18h : Champagne Laurent Bénard \n16h-19h : Champagne René Rutat \n  \n************  \nChampagnes Biologiques à la coupe :  \n14/LA BRASSERIE DU BOULINGRIN \n📍  31 rue de Mars – 03 26 49 96 22 \nInsta : @brasserieduboulingrin \n\nVENDREDI 30 JUIN (à partir de 16 h) et SAMEDI 01 JUILLET toute la journée\n\nChampagne Laurent Bénard\, Champagne Del’Ozart et Champagne Médot \n  \n15/LA CASERNE CHANZY \n📍  18 rue Tronsson du Coudray \n\nVENDREDI 30 JUIN (à partir de 16 h) et SAMEDI 01 JUILLET toute la journée\n\nChampagne Boulard & Fille\, Champagne Hervé Brisson et Champagne Georges Laval \n  \n************  \nRepas Accord Mets et Vins  \n16/RACINE\n📍 6 place Godinot\nTel : 03 26 35 16 95\nrestaurant@racine.re\nDîners avec accords Mets&Vins sur réservation uniquement :  Champagne Bonnet Ponson\, Champagne Elemart Robion\, Champagne Daniel Moreau\, Champagne Benoit Déhu et Champagne Durdon Bouval \n  \nL’Abus d’alcool est dangereux pour la santé\, à consommer avec modération !
URL:https://biograndest.org/evenement/les-champagnes-bio-a-reims-3/
LOCATION:Reims (51)
CATEGORIES:Champagne,Consommateurs,Evènement,Marne
ATTACH;FMTTYPE=image/jpeg:https://biograndest.org/wp-content/uploads/2023/06/champagnebioreims23.jpg
END:VEVENT
BEGIN:VEVENT
DTSTART;TZID=Europe/Paris:20230702T090000
DTEND;TZID=Europe/Paris:20230702T170000
DTSTAMP:20260420T134032
CREATED:20230524T080643Z
LAST-MODIFIED:20230620T092134Z
UID:16638-1688288400-1688317200@biograndest.org
SUMMARY:20ème édition du Rallye bio de Meuse
DESCRIPTION:Rendez-vous pour la 20ème édition du Rallye Bio de Meuse.\nVenez découvrir la ferme de la famille Charle en participant à une marche ponctuée d’animations suivie par un repas Bio et un marché des producteurs Bio.\nPetits et grands passeront un bon moment.\n\nDeux tailles de circuits : 5 km ou 8 km.\nDépart de 9h à 10h30\nPour le repas\, inscription obligatoire ICI. Pensez à prendre vos couverts \n 
URL:https://biograndest.org/evenement/20eme-edition-du-rallye-bio-de-meuse/
LOCATION:Lacroix sur Meuse (55)
CATEGORIES:Animation,Consommateurs,Evènement,Meuse
ATTACH;FMTTYPE=image/jpeg:https://biograndest.org/wp-content/uploads/2023/05/vignette-rallye23.jpg
END:VEVENT
BEGIN:VEVENT
DTSTART;TZID=Europe/Paris:20230706T090000
DTEND;TZID=Europe/Paris:20230706T170000
DTSTAMP:20260420T134032
CREATED:20230524T081440Z
LAST-MODIFIED:20230524T081440Z
UID:16633-1688634000-1688662800@biograndest.org
SUMMARY:Formation : Les plantes bio-indicatrices pour connaitre son sol\,  adapter ses pratiques et gérer ses adventices
DESCRIPTION:Rendez-vous le JEUDI 6 Juillet 2023 avec Jean-Pierre Scherer\, agronome spécialiste des plante bio-indicatrices chez Jacques Fagot\, 15bis RUE DES EPERCHIES 55120 RARECOURT \nObjectifs de la formation :  \n– Comprendre le fonctionnement de son sol et le mettre en relation avec les cycles de vie des adventices\n– Apprendre à utiliser les plantes bio-indicatrices pour évaluer l’état de son sol par un diagnostic simple et mise en application\n– Savoir adapter sa conduite de cultures aux besoins de son sol et en fonction des adventices présentes \nContenu :  \nInitiation à la biologie des adventices et à la notion de plante bio-indicatrice;\nRappel sur le fonctionnement d’un sol et la notion de fertilité d’un sol;\nMéthode de diagnostic de la fertilité du sol à partir de la flore bio-indicatrice;\nLeviers d’action à mettre en oeuvre pour améliorer la fertilité de son sol et mieux gérer les adventices. \nVisite de 2 à 3 parcelles d’une exploitation en polyculture bio.\nA chaque parcelle\, mise en pratique de l’outil de diagnostic individuellement et en collectif.\nRéalisation d’un profil de sol pour confirmer le diagnostic de fertilité.\nBilan de la formation \nTélécharger le programme ICI \nRenseignements et inscriptions : yoan.michaud@biograndest.org ; 07 82 92 88 54
URL:https://biograndest.org/evenement/formation-les-plantes-bio-indicatrices-pour-connaitre-son-sol-adapter-ses-pratiques-et-gerer-ses-adventices/
LOCATION:Rarécourt (55)\, 15bis RUE DES EPERCHIES\, Rarecourt\, 55120
CATEGORIES:Formation,Meuse
ATTACH;FMTTYPE=image/jpeg:https://biograndest.org/wp-content/uploads/2020/09/ILL_plantesbioind.jpg
END:VEVENT
BEGIN:VEVENT
DTSTART;TZID=Europe/Paris:20230710T140000
DTEND;TZID=Europe/Paris:20230710T160000
DTSTAMP:20260420T134032
CREATED:20230622T132853Z
LAST-MODIFIED:20230622T133248Z
UID:16801-1688997600-1689004800@biograndest.org
SUMMARY:Vigne Bio Ouverte : Le tressage : Technique Alternative au rognage
DESCRIPTION:Porteurs de projet\, viticulteurs soucieux de votre impact environnemental\, venez découvrir la technique du tressage de la vigne ! \nDans le cadre du projet de structuration de la filière Champagne Biologique\, l’ensemble des partenaires vous invite à une après midi d’échanges autour de la viticulture biologique : \nVenez découvrir la technique du tressage\, une alternative au rognage. \nLundi 10 juillet 2023 à 14h \nAvec Thibault LEGRAND \nProgramme de l’après-midi :\n▪ Présentation du domaine \n▪ Présentation de la technique de tressage \n▪ Réglementation en AB \n▪ Présentation de la protection Ressource en eau \n▪ Temps d’échanges \nRDV sur la parcelle de vigne : RDV à la Parcelle de vigne : \nPoint GPS : 49°04’20.2″N 3°48’37.9″E \nTélécharger l’invitation. \nInscription obligatoire auprès d’Émilie BROST : emilie.brost@biograndest.org – 06 40 79 06 60
URL:https://biograndest.org/evenement/le-tressage-technique-alternative-au-rognage/
LOCATION:Fleury la rivière\, France
CATEGORIES:Animation,Champagne,Evènement,Filières,Marne
ATTACH;FMTTYPE=image/jpeg:https://biograndest.org/wp-content/uploads/2019/10/201910VBO_Champagne.jpg
END:VEVENT
BEGIN:VEVENT
DTSTART;TZID=Europe/Paris:20230710T140000
DTEND;TZID=Europe/Paris:20230710T160000
DTSTAMP:20260420T134032
CREATED:20230918T094751Z
LAST-MODIFIED:20230918T094751Z
UID:17182-1688997600-1689004800@biograndest.org
SUMMARY:Vigne Bio Ouverte : Le tressage : Technique Alternative au rognage
DESCRIPTION:Porteurs de projet\, viticulteurs soucieux de votre impact environnemental\, venez découvrir la technique du tressage de la vigne ! \nDans le cadre du projet de structuration de la filière Champagne Biologique\, l’ensemble des partenaires vous invite à une après midi d’échanges autour de la viticulture biologique : \nVenez découvrir la technique du tressage\, une alternative au rognage. \nLundi 10 juillet 2023 à 14h \nAvec Thibault LEGRAND \nProgramme de l’après-midi :\n▪ Présentation du domaine \n▪ Présentation de la technique de tressage \n▪ Réglementation en AB \n▪ Présentation de la protection Ressource en eau \n▪ Temps d’échanges \nRDV sur la parcelle de vigne : RDV à la Parcelle de vigne : \nPoint GPS : 49°04’20.2″N 3°48’37.9″E \nTélécharger l’invitation. \nInscription obligatoire auprès d’Émilie BROST : emilie.brost@biograndest.org – 06 40 79 06 60
URL:https://biograndest.org/evenement/vigne-bio-ouverte-le-tressage-technique-alternative-au-rognage/
LOCATION:Fleury la rivière\, France
CATEGORIES:Animation,Champagne,Evènement,Filières,Marne
ATTACH;FMTTYPE=image/jpeg:https://biograndest.org/wp-content/uploads/2019/10/201910VBO_Champagne.jpg
END:VEVENT
BEGIN:VEVENT
DTSTART;VALUE=DATE:20230712
DTEND;VALUE=DATE:20230713
DTSTAMP:20260420T134032
CREATED:20230202T142107Z
LAST-MODIFIED:20230609T081807Z
UID:15960-1689120000-1689206399@biograndest.org
SUMMARY:Formation "Entomofaune auxiliaire : comment la  favoriser en arboriculture biologique ?"
DESCRIPTION:avec Johanna Villenave-Chasset\, Docteure en entomologie et écologie du paysage \nObjectif de la formation :\nReconnaitre les auxiliaires des vergers conduits en bio\, leurs besoins et leur fonction. Adapter l’environnement de sa ferme pour augmenter l’entomofaune auxiliaire. \nCette formation se déroule sur 2 jours (possibilité de s’inscrire à une journée): \nLe 14 décembre 2022 (à Schiltigheim\, 67300): \n\nPrésentation des arthropodes utiles (arachnides et insectes).\nPrésentation des vertébrés utiles : oiseaux\, chauve-souris\,\nmammifères…\nDescription des différents aménagements du paysage favorables aux différents types d’auxiliaires : haies : type de haie\, essences\, entretien…bandes fleuries : types de plantes; intercultures : espèces\, stade de destruction; couverts associés aux cultures.\n\nLe 12 juillet 2023 (à Dangolsheim\, 67310) \n\nRappel de la 1ère journée de la formation.\nDescription des différents aménagements du paysage favorables aux différents types d’auxiliaires (suite).\nSur ferme : observation des auxiliaires dans le verger. Détermination de ces auxiliaires.\nTravaux pratiques à partir de photos aériennes des exploitations des stagiaires : identification des zones à « enjeux paysager ». Dessin sur carte\, avec le soutien de l’intervenant et de l’animateur\, des projets d’aménagements.\n\nRenseignements et inscriptions auprès de Maryna Frêne-Bogdanok\, Chargée de mission Maraichage Bio à maryna.bogdanok@biograndest.org et au 06 43 10 02 84 . \nSi vous êtes en situation de handicap\, contactez le responsable de la formation afin de connaître les modalités d’accueil possible.
URL:https://biograndest.org/evenement/formation-entomofaune-auxiliaire-comment-la-favoriser-en-arboriculture-biologique-2/
LOCATION:Bas-Rhin
CATEGORIES:Alsace,Biodiversité,Formation
ATTACH;FMTTYPE=image/jpeg:https://biograndest.org/wp-content/uploads/2019/12/ARBO_Coutiats.jpg
ORGANIZER;CN="Bio en Alsace":MAILTO:opaba@biograndest.org
END:VEVENT
BEGIN:VEVENT
DTSTART;TZID=Europe/Paris:20230713T090000
DTEND;TZID=Europe/Paris:20230713T173000
DTSTAMP:20260420T134032
CREATED:20230622T132115Z
LAST-MODIFIED:20230705T125433Z
UID:16770-1689238800-1689269400@biograndest.org
SUMMARY:🍇 Formation : conversion à la bio en viticulture
DESCRIPTION:Formation annulée! \nDes questions sur la viticulture bio? \nUne envie de s’engager dans la démarche mais beaucoup de questions\, de freins? \nVenez vous former\, poser vos questions et échanger avec Bio en Grand Est et la Chambre d’agriculture d’Alsace. \n\n\n\nAu programme : une présentation\, des échanges et la visite d’un domaine viticole en bio. \nRendez-vous le jeudi 13 juillet à Colmar (Bio en Grand Est – 2 allée de Herrlisheim – Bat. Europe 68000 COLMAR) de 9h à 17h30 \n\nInscription obligatoire et informations : lucie.pierre@biograndest.org
URL:https://biograndest.org/evenement/formation-conversion-a-la-bio-en-viticulture/
CATEGORIES:Alsace,Formation,Techniques
ATTACH;FMTTYPE=image/jpeg:https://biograndest.org/wp-content/uploads/2021/02/conversion-viti-bio.jpg
END:VEVENT
BEGIN:VEVENT
DTSTART;TZID=Europe/Paris:20230714T090000
DTEND;TZID=Europe/Paris:20230714T190000
DTSTAMP:20260420T134032
CREATED:20230607T095000Z
LAST-MODIFIED:20230607T095612Z
UID:16697-1689325200-1689361200@biograndest.org
SUMMARY:Fêtons la Bio !
DESCRIPTION:Rendez-vous à Gerbépal sur la ferme du Hazard le 14 juillet de 9h à 19h. Pour une journée conviviale et festive pour (re)découvrir l’agriculture bio.\nAu programme :\nMarché de producteurs bio et d’artisans\nStands d’associations environementalistes\nBuvette et espace restauration (frites\, salades\, burgers\, fromage\, pain\, …).\nAnimations :\n– 10h30 Spectacle clownesque « Petites menteries et autres facéties » par la Compagnie les Tatas\, créatrices d’imaginaire(s)\n– 10h30 Visite de la Ferme du Hazard (maraichage\, bovins\, volailles\, petits fruits\, et transformation à la ferme). Rendez-vous devant la ferme.\n– 11H00 Atelier compteur Geiger au stand de la CRIIRAD Commission de recherche et d’information indépendantes sur la radioactivité\n– 11H00 Atelier vannerie au stand de la Tresseuse de brins. Tout public\, enfants à partir de 8 ans ou accompagnés. Limite 5 personnes. Tarif 10€.\n– 14h00 Balade « A la découverte des milieux humides ». Tout public. Rdv sur le stand du Conservatoire des Espaces Naturels (CEN) pour un co-voiturage vers le col de Martinpré. Durée 2h00.\n– 14h00 Visite de la ferme du Hazard (maraichage\, bovins\, volailles\, petits fruits\, et transformation à la ferme). Rendez-vous devant la ferme.\n– 14h30 Atelier vannerie au stand de la Tresseuse de brins. Tout public\, enfants à partir de 8 ans ou accompagnés. Limite 5 personnes. Tarif 10€.\n– 16h00 Atelier mesure du radon au stand de la CRIIRAD Commission de recherche et d’information indépendantes sur la radioactivité.\n– 16h30 Visite de la ferme du Hazard (maraichage\, bovins\, volailles\, petits fruits\, et transformation à la ferme). Rendez-vous devant la ferme.\n– 16h30 Concert “Marie Pétrolette” chanson féminohumoristique\, chansons festives avec Marie Toussaint accordéon et chant\, Charlie Lutaud batterie et Jérôme Sperissen.\nBalade fleurie – sous réserve \nToute la journée : Jeux et animations pour les enfants et les plus grands !\n• « La cocotte grignotée » à la recherche d’indices de nourritures laissés par les animaux\, rallye pédestre autour de la ferme. Allez chercher votre feuille de route au stand d’ETC Terra.\n• « Fais ta popotte » sur inscription (un démarrage du jeu toutes les heures) : jeux d’équipes et de plateau sur l’équilibre alimentaire (questions\, mimes\, dessin…) en lien avec les catégories d’aliments. Sur le stand d’ETC Terra.\n• Découverte ludique des prairies humides\, découvertes des odeurs ! au stand du Conservatoire des Espaces Naturels de Lorraine.\n 
URL:https://biograndest.org/evenement/fetons-la-bio-2/
LOCATION:Gerbépal (88)
CATEGORIES:Consommateurs,Evènement,Vosges
ATTACH;FMTTYPE=image/jpeg:https://biograndest.org/wp-content/uploads/2023/06/affiche-fetonslabio-23-vf-scaled.jpg
ORGANIZER;CN="BIO des VOSGES":MAILTO:contact-gab@orange.fr
END:VEVENT
END:VCALENDAR