BEGIN:VCALENDAR
VERSION:2.0
PRODID:-//Bio Grand Est - ECPv6.15.14//NONSGML v1.0//EN
CALSCALE:GREGORIAN
METHOD:PUBLISH
X-WR-CALNAME:Bio Grand Est
X-ORIGINAL-URL:https://biograndest.org
X-WR-CALDESC:Évènements pour Bio Grand Est
REFRESH-INTERVAL;VALUE=DURATION:PT1H
X-Robots-Tag:noindex
X-PUBLISHED-TTL:PT1H
BEGIN:VTIMEZONE
TZID:Europe/Paris
BEGIN:DAYLIGHT
TZOFFSETFROM:+0100
TZOFFSETTO:+0200
TZNAME:CEST
DTSTART:20220327T010000
END:DAYLIGHT
BEGIN:STANDARD
TZOFFSETFROM:+0200
TZOFFSETTO:+0100
TZNAME:CET
DTSTART:20221030T010000
END:STANDARD
BEGIN:DAYLIGHT
TZOFFSETFROM:+0100
TZOFFSETTO:+0200
TZNAME:CEST
DTSTART:20230326T010000
END:DAYLIGHT
BEGIN:STANDARD
TZOFFSETFROM:+0200
TZOFFSETTO:+0100
TZNAME:CET
DTSTART:20231029T010000
END:STANDARD
BEGIN:DAYLIGHT
TZOFFSETFROM:+0100
TZOFFSETTO:+0200
TZNAME:CEST
DTSTART:20240331T010000
END:DAYLIGHT
BEGIN:STANDARD
TZOFFSETFROM:+0200
TZOFFSETTO:+0100
TZNAME:CET
DTSTART:20241027T010000
END:STANDARD
END:VTIMEZONE
BEGIN:VEVENT
DTSTART;TZID=Europe/Paris:20230901T100000
DTEND;TZID=Europe/Paris:20230901T123000
DTSTAMP:20260420T101716
CREATED:20230725T124133Z
LAST-MODIFIED:20230725T124133Z
UID:16910-1693562400-1693571400@biograndest.org
SUMMARY:Projet TEauBio : Tour de plaine tournesol bio et visite d'essais
DESCRIPTION:Dans le cadre du projet TEauBio pour le développement du tournesol biologique en Champagne-Ardenne\, \nune visite d’essais est organisée le vendredi 1 septembre 2023 à 10h00 à Juniville. \n\nAu programme : \n\nRetours sur la campagne tournesol bio 2023\nVisite de l’essai légumineuses sous couvert de tournesol: 3 légumineuses testées et 2 dates d’implantation\n\nRetrouvez l’invitation complète avec le plan d’accès en cliquant ici. \nPour tous renseignements sur cet évènements et sur le projet TEauBio\, vous pouvez contacter : \nAurélie Parant-Songy : 06 88 28 37 68\, aurelie.songy@biograndest.org
URL:https://biograndest.org/evenement/projet-teaubio-tour-de-plaine-tournesol-bio-et-visite-dessais/
LOCATION:Juniville\, 49.386960\, 4.367803
CATEGORIES:Ardennes,Filières,Techniques
ATTACH;FMTTYPE=image/jpeg:https://biograndest.org/wp-content/uploads/2023/07/visite-teaubio.jpg
END:VEVENT
BEGIN:VEVENT
DTSTART;TZID=Europe/Paris:20230906T093000
DTEND;TZID=Europe/Paris:20230906T123000
DTSTAMP:20260420T101716
CREATED:20230804T133525Z
LAST-MODIFIED:20230901T125128Z
UID:17024-1693992600-1694003400@biograndest.org
SUMMARY:Foire de Châlons - Conférence : Les professionnels du Bio passent à table
DESCRIPTION:Conférence :\nLa Région Grand Est organise sur la 77ème Foire de Châlons-en-Champagne une matinée débat sur la bio\, Bio en Grand Est participera à cette conférence :  \nLes professionnels du Bio passent à table – 06 septembre 2023\nPour impulser de nouvelles dynamiques collectives encourageant la consommation de produits bio marquée par une crise persistante\, la rentrée 2023 sera marquée par un temps d’échanges et de débats\, réunissant les acteurs professionnels et institutionnels de l’agriculture biologique nationaux et régionaux. Ouverte au grand public\, cette rencontre du 6 septembre accueillera deux tables rondes abordant la recherche et le partage d’outils pour relancer la consommation et manger mieux-gaspiller moins. \n  \nProgramme complet
URL:https://biograndest.org/evenement/conference-bio-foire-chalons2023/
LOCATION:Foire de Chalons en Champagne\, Chalons en Champagne\, France
CATEGORIES:Evènement,Marne
ATTACH;FMTTYPE=image/jpeg:https://biograndest.org/wp-content/uploads/2023/08/visuelfoire-chalons2023web.jpg
END:VEVENT
BEGIN:VEVENT
DTSTART;TZID=Europe/Paris:20230906T103000
DTEND;TZID=Europe/Paris:20230906T180000
DTSTAMP:20260420T101716
CREATED:20230804T134314Z
LAST-MODIFIED:20230804T134817Z
UID:17029-1693996200-1694023200@biograndest.org
SUMMARY:Foire de Châlons : La bio du Grand Est à la journée des produits sous SIQO
DESCRIPTION:L’INAO aux côtés des professionnels informera le grand public sur les signes d’identification de la qualité et de l’origine (SIQO). Les visiteurs découvriront les produits du Grand Est qui en bénéficient. \nDe 10h à 18h sur le Parvis\, des dégustations ainsi que des jeux concours seront proposés aux visiteurs. A gagner : des paniers garnis ! \n\nLes visiteurs pourront : \n\nDécouvrir et déguster gratuitement des produits du Grand Est et des Hauts de France sous SIQO (AOP – IGP – Label Rouge et AB)\, rencontrer les professionnels.\nGagner des « paniers produits » et autres cadeaux en participant à différents jeux concours.\nVivre des expériences dégustatives en suivant des démonstrations culinaires\, en découvrant la fabrication de l’IGP « Bergamote de Nancy et la présentation des vins de la Région Grand Est par les étudiants en BTS du lycée viticole d’Avize.\n\n\nBio en Grand Est y représentera le label bio. Des dégustations de produits bio (jus de fruits\, miels locaux et bière locale\,…) seront proposées lors de cette journée grand public afin de sensibiliser les consommateurs. \nContact : Sébastien DUSOIR\, 07 49 76 17 44 \, sebastien.dusoir@biograndest.org
URL:https://biograndest.org/evenement/foire-de-chalons-la-bio-du-grand-est-a-la-journee-des-produits-sous-siqo/
LOCATION:Parvis – Foire de Châlons-en-Champagne\, 68 Avenue du Président Roosevelt\, Châlons-en-Champagne\, 51000
CATEGORIES:Animation,Evènement,Marne
ATTACH;FMTTYPE=image/jpeg:https://biograndest.org/wp-content/uploads/2023/08/visuelfoire-chalons2023web.jpg
END:VEVENT
BEGIN:VEVENT
DTSTART;TZID=Europe/Paris:20230915T110000
DTEND;TZID=Europe/Paris:20230917T170000
DTSTAMP:20260420T101716
CREATED:20230816T125601Z
LAST-MODIFIED:20230816T125658Z
UID:17034-1694775600-1694970000@biograndest.org
SUMMARY:BiObernai PRO\,  le Forum des Pros du Bio en Alsace
DESCRIPTION:Rendez- vous les 15\, 16 et 17 septembre 2023 de 11h à 17h Salle des Fêtes d’Obernai \nEn 20 ans d’existence\, BiObernai est devenu un événement grand public majeur de l’univers écolo-bio en Alsace. Lieu de multiples rencontres et échanges entre le public et les exposants\, il a aussi permis\, au fil des années\, de nombreuses interactions fructueuses entre les professionnels présents (exposants\, partenaires…)\, générant de nouvelles coopérations\, voire la naissance de projets d’entreprise. \nPour accompagner tous ceux qui cherchent à développer leur activité dans la voie du «bio»…dans leurs projets ou leurs recherches de contacts\, conseils et expertises\, BiObernai\, inaugure en 2023 un nouvel espace réservé aux professionnels : BiObernai PRO\, le Forum des pros du Bio en Alsace. Bio en Grand Est est partenaire de ce projet porteur de sens\, qui vise à répondre de façon très concrète aux besoins du terrain. Ce nouvel espace a été pensé pour privilégier une interaction permanente entre le public professionnel (producteurs\, transformateurs\, distributeurs)\, les porteurs de projet et les animateurs\, intervenants et experts. Tous ceux-là se relaieront durant 3 jours apportant informations\, conseils\, expertises dans l’entreprenariat ou la gestion d’entreprise du secteur « bio » à travers des conférences\, workshops\, rendez-vous personnalisés\, et ateliers de créativité participative dans le cadre convivial et intime de la salle des Fêtes d’Obernai. \nAvec une entrée spécifique dédiée (entrée principale de la Salle des Fêtes d’Obernai)\, BiObernai PRO accueillera gratuitement tout visiteur professionnel pouvant justifier de son inscription en ligne ou porteur d’une invitation personnelle des partenaires. INSCRIPTION EN LIGNE OBLIGATOIRE \n  \nProgramme complet ICI
URL:https://biograndest.org/evenement/biobernai-pro-le-forum-des-pros-du-bio-en-alsace/
LOCATION:Obernai (67)
CATEGORIES:Alsace,Evènement,Filières
ATTACH;FMTTYPE=image/jpeg:https://biograndest.org/wp-content/uploads/2023/08/invitation-biobernaipro.jpg
END:VEVENT
BEGIN:VEVENT
DTSTART;TZID=Europe/Paris:20230918T093000
DTEND;TZID=Europe/Paris:20230918T173000
DTSTAMP:20260420T101716
CREATED:20230724T123158Z
LAST-MODIFIED:20230914T083258Z
UID:16880-1695029400-1695058200@biograndest.org
SUMMARY:Formation annulée : Créer un atelier pondeuses en diversification sur une ferme AB
DESCRIPTION:Formation annulée! \n  \nSi vous avez un projet de création d’atelier de poules pondeuses AB en diversification\, venez travailler cette thématique sur 1 jour en septembre\, avec le partage d’expérience de Sylvie Tisserand\, éleveuse de poules pondeuses bio dont poulettes pour éleveurs en circuits courts de Dordogne. \nAu programme de la formation de septembre :\n– Bien fixer son prix de vente en fonction du chiffre d’affaire attendu et des charges\n– Définir les facteurs impactant le taux de ponte et qualité des oeufs\n– Déterminer les avantages et inconvénients des différentes options de l’aménagement du poulailler\n– Connaître les bases de la gestion des parcours de volailles\n– Connaître la réglementation sur l’élevage AB en poules pondeuses et la commercialisation\n– Définir les démarches administratives à la création de l’atelier\n– Observer un élevage de poules pondeuses AB et déterminer les critères de bien-être animal \nDate : Lundi 18 septembre 2023 \nLieux : Lorraine (probablement Nancy mais à définir) \nHoraires : 9h30-12h30/ 13h30-17h30 \nPublic visé : Éleveurs de volailles bio du Grand Est et porteurs de projet à la création d’un atelier en poules pondeuses bio. \n  \nPour plus d’informations sur ce rendez vous et inscription obligatoire : Julia SICARD \, 06 52 69 13 89
URL:https://biograndest.org/evenement/formation-creer-un-atelier-pondeuses-en-diversification-sur-une-ferme-ab-2/
LOCATION:lorraine
CATEGORIES:Formation,Meurthe-et-Moselle,Meuse,Moselle,Techniques,Vosges
ATTACH;FMTTYPE=image/jpeg:https://biograndest.org/wp-content/uploads/2022/01/volailles_oeuf_repro.jpg
END:VEVENT
BEGIN:VEVENT
DTSTART;TZID=Europe/Paris:20230919T093000
DTEND;TZID=Europe/Paris:20230919T173000
DTSTAMP:20260420T101716
CREATED:20230724T122004Z
LAST-MODIFIED:20230914T083351Z
UID:16884-1695115800-1695144600@biograndest.org
SUMMARY:Formation annulée : Élever ses propres poulettes en AB - en circuits courts
DESCRIPTION:Formation annulée! \nSi vous avez le projet d’élever  vos poulettes prêtes à pondre en AB pour votre atelier de poules pondeuses sur votre ferme\, venez travailler cette thématique sur 1 jour en septembre\, avec le partage d’expérience de Sylvie Tisserand\, éleveuse de poules pondeuses bio dont poulettes pour éleveurs en circuits courts de Dordogne. \nAu programme de la formation de septembre : \n1. du poussin à la poulette prête à pondre : les grandes étapes de l’évolution\n2. la phase déterminante du démarrage : les 10 premiers jours et les 5 premières semaines. Maîtriser les différents aspects du développement des poussins : l’équipement du poulailler\,\nla chaleur\, l’éclairage\, l’alimentation\, l’eau\, reconnaître les signes de bien être / mal être des poussins\n3. de la 6ème à la 15ème semaines : les jeunes poulettes. Faire progressivement évoluer l’équipement du poulailler (mangeoires/ abreuvoirs / perchoirs) / suivre la courbe de poids /\nbien gérer la sortie en plein air\n4. l’entrée en ponte. Bien gérer le couple maturité sexuelle / entrée en ponte\, pour éviter des problèmes ultérieurs / le programme lumineux selon la saison / éviter la ponte au sol ou\nsauvage / vermifuge et vaccins\n5. coût d’une poulette \nDate : Mardi 19 septembre 2023 \nLieux : Lorraine  à définir) \nHoraires : 9h30-12h30/ 13h30-17h30 \nPublic visé : Éleveurs de volailles bio du Grand Est et porteurs de projet à la création d’un atelier en poulettes bio. \nPour plus d’informations sur ce rendez vous et inscription obligatoire : Julia SICARD \, 06 52 69 13 89
URL:https://biograndest.org/evenement/formation-elever-ses-propres-poulettes-en-ab-en-circuits-courts/
LOCATION:lorraine
CATEGORIES:Formation,Meurthe-et-Moselle,Meuse,Moselle,Techniques,Vosges
ATTACH;FMTTYPE=image/jpeg:https://biograndest.org/wp-content/uploads/2022/01/volailles_oeuf_repro.jpg
END:VEVENT
BEGIN:VEVENT
DTSTART;TZID=Europe/Paris:20230923T080000
DTEND;TZID=Europe/Paris:20230924T170000
DTSTAMP:20260420T101716
CREATED:20230724T124328Z
LAST-MODIFIED:20230724T124328Z
UID:16896-1695456000-1695574800@biograndest.org
SUMMARY:"OGM\, plantes pesticides\, brevets sur le vivant : face à l’offensive de l’agro-industrie\, renforçons la résistance !"
DESCRIPTION:Inscrivez-vous dès maintenant au prochain rendez-vous de mobilisation contre les OGM \n« OGM\, plantes pesticides\, brevets sur le vivant : face à l’offensive de l’agro-industrie\, renforçons la résistance ! »\n23 & 24 septembre 2023\nSalons de Blossac\, Poitiers \nHistorique de la lutte contre les OGM\, déréglementation des nouvelles techniques génomiques en cours de négociation au niveau européen\, privatisation du vivant et accaparement des ressources en eau\, solution pour une agriculture paysanne et une alimentation saine… Ces deux journées de conférence\, débat et tables rondes seront l’occasion de rappeler l’importance de notre mobilisation\, et engager des discussions sur les modes d’action pour lutter contre ces techniques agro-industrielles qui menacent l’agriculture paysanne et le droit à une alimentation saine. \n\n\n\nS’inscrire\n\n\n\nProgramme complet & informations pratiques à retrouver sur la plaquette de l’événement \nPour toute information complémentaire : inscriptionozoseptembre@gmail.com \nCe rende-vous est organisé par Objectif Zéro OGM dont la FNAB fait partie
URL:https://biograndest.org/evenement/ogm-plantes-pesticides-brevets-sur-le-vivant-face-a-loffensive-de-lagro-industrie-renforcons-la-resistance/
LOCATION:Poitiers (86)
CATEGORIES:Evènement
ATTACH;FMTTYPE=image/png:https://biograndest.org/wp-content/uploads/2023/07/seminaireogmsept23.png
END:VEVENT
BEGIN:VEVENT
DTSTART;TZID=Europe/Paris:20230923T140000
DTEND;TZID=Europe/Paris:20230923T170000
DTSTAMP:20260420T101716
CREATED:20230823T105825Z
LAST-MODIFIED:20230823T121357Z
UID:17044-1695477600-1695488400@biograndest.org
SUMMARY:Rencontre Jeunes Paysans
DESCRIPTION:Rencontre Jeunes Paysans sur le thème :\nS’installer en maraichage après 40 ans et sans aides\nEn partenariat avec Maraichage Sol Vivant et les Espaces-Test de Bio en Grand Est \nAu programme :\n14H à 16H : Visite de la ferme et échanges d’expériences. Présentation du nouveau dispositif d’aides de la Région Grand Est pour les plus de 40 ans.\n16H à 17H : la Confédération Paysanne et l’ARDEAR… Ca sert à quoi ?\nPrésentation de Maraichage Sol Vivant et des Espaces-Tests de Bio en Grand Est \nà partir de 18H : Soirée festive grand public : Concert de Babanu Quartet\, repas paysan\, exposition\, table ronde  » Comment manger Bio avec peu de revenu? » \nRencontre destinée aux Jeunes Paysan.ne.s et porteurs.teuses de projet. \nRendez-vous Samedi 23 Septembre 2023 à 14H\nA la Ferme des Légumes des Jours\nLieu dit Obere Weidmatten 68420 EGUISHEIM\nPoint GPS : 48.03691\, 7.33955 \nTélécharger l’invitation \nInformations : Romane ROOSZ\, animatrice\, confgrandestepinal@gmail.com / 07 87 74 77 10
URL:https://biograndest.org/evenement/rencontre-jeunes-paysans/
LOCATION:Eguisheim (68)\, France
CATEGORIES:Alsace,Animation
ATTACH;FMTTYPE=image/jpeg:https://biograndest.org/wp-content/uploads/2023/08/rencontres-jeunes-paysans.jpg
END:VEVENT
BEGIN:VEVENT
DTSTART;TZID=Europe/Paris:20230924T110000
DTEND;TZID=Europe/Paris:20230924T160000
DTSTAMP:20260420T101716
CREATED:20230910T092724Z
LAST-MODIFIED:20230925T092906Z
UID:17233-1695553200-1695571200@biograndest.org
SUMMARY:Pique-nique des adhérents
DESCRIPTION:Dimanche 24 septembre 2023 \nA La Ferme des Deux mains\, chez Johan Collin et L’Epi sur Terre – fournil de Mathieu Cuyamendoux\, \n21 rue du colonel Bertin – 88460 DOCELLES  \nA partir de 11h\, visite des jardins de la ferme\, repas partagé à la suite  \nChacun vient avec un plat à partager\, \nSes couverts\, son verre et son assiette\, \nLe GAB offre les boissons. \n  \nMerci à la Ferme des Deux Mains – Johan Collin et l’Epi sur Terre – fournil de Mathieu Cuyamendous et les membres de l’association Halle Terre Native qui accueillent le pique-nique cette année ! \nL’association Halles Terre Native propose le marché bio de Tendon chaque samedi matin. \n  \nPour faciliter l’organisation\, est-ce que vous voulez bien signaler votre présence et le nombre de participants – par retour de mail ou tel à gab88@biograndest.org / 07 69 27 03 91 ? \nC’est un moment simple et convivial\, familles bienvenues. \nLe GAB 88 est une association loi 1901\, il regroupe les agricultrice.eur.s en bio qui souhaitent se regrouper en association depuis 40 ans.
URL:https://biograndest.org/evenement/pique-nique-des-adherents/
LOCATION:Docelles (88)
CATEGORIES:Evènement,Vosges
ATTACH;FMTTYPE=image/jpeg:https://biograndest.org/wp-content/uploads/2020/09/2020_GAB88_piquenique_7.jpg
ORGANIZER;CN="BIO des VOSGES":MAILTO:contact-gab@orange.fr
END:VEVENT
BEGIN:VEVENT
DTSTART;TZID=Europe/Paris:20230930T100000
DTEND;TZID=Europe/Paris:20230930T180000
DTSTAMP:20260420T101716
CREATED:20230928T073710Z
LAST-MODIFIED:20230928T073841Z
UID:17298-1696068000-1696096800@biograndest.org
SUMMARY:Fête de l'écologie Metz 2023
DESCRIPTION:Le GAB de Moselle sera présent à cette grande fête de l’écologie organisée par la ville de Metz et les associations engagées dans la transition écologique. \nLe samedi 30 septembre  dans et hors les murs du Cloître des Récollets.\nToute la journée\, venez rencontrer les acteurs de la transition écologique et participer aux nombreuses animations proposées. \nA 15h00 : Court métrage et débat « La vie en Bio »\, au Grand grenier\, avec le GAB de Moselle. \nProgramme complet de la journée : https://metz.fr/agenda/fiche-33373.php
URL:https://biograndest.org/evenement/fete-de-lecologie-metz-2023/
LOCATION:Cloitre  des Récollets\, 1 rue des Récollets\, Metz\, France
CATEGORIES:Animation,Moselle
ATTACH;FMTTYPE=image/jpeg:https://biograndest.org/wp-content/uploads/2023/09/fete-ecologie-metz23.jpg
ORGANIZER;CN="GAB 57":MAILTO:gab57@biograndest.org
END:VEVENT
END:VCALENDAR