BEGIN:VCALENDAR
VERSION:2.0
PRODID:-//Bio Grand Est - ECPv6.15.14//NONSGML v1.0//EN
CALSCALE:GREGORIAN
METHOD:PUBLISH
X-WR-CALNAME:Bio Grand Est
X-ORIGINAL-URL:https://biograndest.org
X-WR-CALDESC:Évènements pour Bio Grand Est
REFRESH-INTERVAL;VALUE=DURATION:PT1H
X-Robots-Tag:noindex
X-PUBLISHED-TTL:PT1H
BEGIN:VTIMEZONE
TZID:Europe/Paris
BEGIN:DAYLIGHT
TZOFFSETFROM:+0100
TZOFFSETTO:+0200
TZNAME:CEST
DTSTART:20220327T010000
END:DAYLIGHT
BEGIN:STANDARD
TZOFFSETFROM:+0200
TZOFFSETTO:+0100
TZNAME:CET
DTSTART:20221030T010000
END:STANDARD
BEGIN:DAYLIGHT
TZOFFSETFROM:+0100
TZOFFSETTO:+0200
TZNAME:CEST
DTSTART:20230326T010000
END:DAYLIGHT
BEGIN:STANDARD
TZOFFSETFROM:+0200
TZOFFSETTO:+0100
TZNAME:CET
DTSTART:20231029T010000
END:STANDARD
BEGIN:DAYLIGHT
TZOFFSETFROM:+0100
TZOFFSETTO:+0200
TZNAME:CEST
DTSTART:20240331T010000
END:DAYLIGHT
BEGIN:STANDARD
TZOFFSETFROM:+0200
TZOFFSETTO:+0100
TZNAME:CET
DTSTART:20241027T010000
END:STANDARD
END:VTIMEZONE
BEGIN:VEVENT
DTSTART;TZID=Europe/Paris:20231001T100000
DTEND;TZID=Europe/Paris:20231001T180000
DTSTAMP:20260420T082553
CREATED:20230728T103422Z
LAST-MODIFIED:20230802T120757Z
UID:16951-1696154400-1696183200@biograndest.org
SUMMARY:20ème Foire Bio de Chaumont
DESCRIPTION:Retrouvez + de 50 exposants locaux\, régionaux de tout le Grand Est. \nUne nouvelle fois à Chaumont\, agriculteurs et transformateurs de produits biologiques seront heureux de partager sur la Foire leur passion de produire bio. \nAu programme :\n• Dégustation de produits bio\,\n• Rencontre avec les associations locales\,\n• Buvette Bio des producteurs du GAB 52\,\n• Visite de l’exploitation agricole du lycée\,\n• Animations alternatives. \n2 paniers de produits Bio et locaux à gagner! \nParticipez à un questionnaire simple et découvrez davantage d’éléments sur l’Agriculture Biologique.\nUn tirage au sort déterminera les 2 gagnants du panier garni. \nTélécharger l’affiche. \nEt le flyer qui vous plaira la plus : \n   \nContact et informations : 06 18 18 94 93 – gab52@biograndest.org
URL:https://biograndest.org/evenement/20eme-foire-bio-de-chaumont-23/
LOCATION:Lycée Agricole de Chaumont-Choignes
CATEGORIES:Consommateurs,Evènement,Haute-Marne
ATTACH;FMTTYPE=image/jpeg:https://biograndest.org/wp-content/uploads/2023/07/visuel-foirebio-chaumont.jpg
END:VEVENT
BEGIN:VEVENT
DTSTART;TZID=Europe/Paris:20231001T100000
DTEND;TZID=Europe/Paris:20231001T180000
DTSTAMP:20260420T082553
CREATED:20230803T071555Z
LAST-MODIFIED:20230925T085850Z
UID:17016-1696154400-1696183200@biograndest.org
SUMMARY:Marché de producteurs Bio-Waldo 2023
DESCRIPTION:L’Opaba-Bio en Grand Est organise la 28ème édition du marché de producteurs Bio-Waldo le 1er octobre 2023 à Waldolwisheim (près de Saverne)\, sur le thème des fleurs des champs.\nCe marché paysan permet de découvrir ou redécouvrir l’offre locale en produits bio\, les acteurs de cette production ainsi que leurs produits. Des animations musicales\, une conférence sur l’identification des fleurs des champs\, des ateliers pour petits et grands et des dégustations sur les stands rythmeront la journée. \nLe repas 100% bio et local sera assuré par la ferme Karcher de Wasselonne et Martine Holveck\, traiteur bio à Rauwiller. \nTélécharger l’affiche. \nTélécharger le programme. \nTout au long de la journée :\n> Marché BIO paysan et local\n> Buvette et restauration BIO\n> Animation musicale par Cédric MARTIN et Sébastien BENOIT\n> Exposition de dessins des enfants de l’école de Waldolwisheim\n> Coin enfant Kapla© et magazines La Salamandre dans la salle \nAnimations ponctuelles (nombre de places limité)\n> 10h30 Inauguration et chorale de Waldolwisheim\n> 11h–12h Maquillage enfant\n> 11h–12h Conférence Les fleurs des champs : « Savoir les identifier et connaitre leur utilité »\, par Roland GISSINGER\, ANAB (Association Nature Alsace Bossue)\n> 14h–15h30 Atelier enfant « Découvrir les fleurs des champs par les encres végétales par les Piverts »\, avec l’association Les Piverts\n> 14h-15h Promenade « A la découverte des plantes sauvages »\, avec Sylvie KALMBACH\n> 14h-15h Atelier composition florale\, avec Charlène LAURENT\, fleuriste \nPour vous inscrire au repas et aux animations : https://www.helloasso.com/associations/bio-en-grand-est/evenements/marche-des-producteurs-bio-waldo \nPour tout renseignement : chloe.schneller@biograndest.org – 06 66 71 42 62
URL:https://biograndest.org/evenement/marche-de-producteurs-bio-waldo-23/
LOCATION:Waldolwisheim (67)
CATEGORIES:Alsace,Evènement
ATTACH;FMTTYPE=image/jpeg:https://biograndest.org/wp-content/uploads/2023/08/waldo23-web.jpg
ORGANIZER;CN="Bio en Alsace":MAILTO:opaba@biograndest.org
END:VEVENT
BEGIN:VEVENT
DTSTART;TZID=Europe/Paris:20231003T080000
DTEND;TZID=Europe/Paris:20231004T170000
DTSTAMP:20260420T082553
CREATED:20230913T072940Z
LAST-MODIFIED:20230913T091441Z
UID:17096-1696320000-1696438800@biograndest.org
SUMMARY:Formation Les plantes pour soigner les plantes
DESCRIPTION:Les Plantes pour soigner les Plantes \nMardi et mercredi 3 et 4 octobre 2023\, en Lorraine \nObjectifs : Être capable d’observer les plantes cultivées\, d’identifier des maladies ou ravageurs\, d’élaborer et d’appliquer des traitements à base de plantes. \nIntervenant : Eric Petiot \nProgramme : \n-Comprendre les bases des mécanismes de défense des végétaux et ravageurs. \n-Être capable de fabriquer et d’appliquer un traitement à base de plantes. \n-Être capable de choisir le mode de traitement; \n-Être capable de fabriquer et d’appliquer des éliciteurs de défenses naturelles à base de plantes. \nTélécharger le programme ICI \nRenseignements et inscription par mail auprès de Yoan MICHAUD
URL:https://biograndest.org/evenement/formation-les-plantes-pour-soigner-les-plantes/
LOCATION:Lorraine (à préciser)
CATEGORIES:Formation,Meurthe-et-Moselle,Meuse,Moselle,Vosges
ATTACH;FMTTYPE=image/jpeg:https://biograndest.org/wp-content/uploads/2019/08/formation.jpg
END:VEVENT
BEGIN:VEVENT
DTSTART;VALUE=DATE:20231005
DTEND;VALUE=DATE:20231006
DTSTAMP:20260420T082553
CREATED:20230912T140843Z
LAST-MODIFIED:20230914T084124Z
UID:17098-1696464000-1696550399@biograndest.org
SUMMARY:Formation Les Huiles Essentielles pour soigner les plantes
DESCRIPTION:Les Huiles essentielles pour soigner les plantes \nJeudi 5 octobre 2023\, en Lorraine \nObjectifs : Être capable d’identifier les huiles essentielles et de les utiliser en agriculture biologique. \nIntervenant : Eric Petiot \nProgramme : \n– Comprendre la fonction des huiles essentielles dans le monde végétal ; \n– Identifier les huiles essentielles et être capable de les utiliser en agriculture ;\n– Les molécules aromatiques dans le référentiel électrique ;\n– Utiliser les huiles essentielles en agriculture. \n  \nTélécharger le programme de la formation ICI \nRenseignements et inscription par mail auprès de yoan.michaud@biograndest.org
URL:https://biograndest.org/evenement/formation-les-huiles-essentielles-pour-soigner-les-plantes-2/
LOCATION:Lorraine (à préciser)
CATEGORIES:Formation,Meurthe-et-Moselle,Meuse,Moselle,Vosges
ATTACH;FMTTYPE=image/jpeg:https://biograndest.org/wp-content/uploads/2019/08/formation.jpg
END:VEVENT
BEGIN:VEVENT
DTSTART;TZID=Europe/Paris:20231006T140000
DTEND;TZID=Europe/Paris:20231006T173000
DTSTAMP:20260420T082553
CREATED:20230928T140822Z
LAST-MODIFIED:20230928T141008Z
UID:17307-1696600800-1696613400@biograndest.org
SUMMARY:Assemblée Générale de Bio de l'Aube avec la participation de l'Agence Bio !
DESCRIPTION:L’Assemblée Générale du GAB de l’Aube se tiendra Vendredi 6 octobre \nRendez-vous à partir de 14h\, salle Clyti à la Chambre d’Agriculture de l’Aube à Troyes. \nCette année\, Laure Verdeau\, directrice de l’Agence Bio nous fait l’honneur de sa présence pour échanger sur la conjoncture et les perspectives qui semblent s’esquisser pour le monde de la Bio. \nNous vous attendons nombreux pour partager vos retours d’expérience et échanger avec la salle ! \n Programme : \n14h00 | Accueil des participants\n14h15 | Assemblée Générale\n– Rapport d’activité 2022 et perspectives 2023\n– Présentation des chiffres de la Bio dans l’Aube\n– Présentation des comptes\n– Vote des membres actifs et des représentants au CA\n– Rapport moral de la Présidente \n15h00 |Actualités du réseau bio\npar Laurent COUSIN\,\nPrésident de Bio en Grand Est \n15h30 |Intervention – débat\nValorisation\, consommation : conjoncture et perspectives pour la Bio\nIntervenante : Laure VERDEAU\, Directrice de l’Agence Bio \n16h30 | Pot de l’amitié \nTélécharger l’invitation. \nRenseignements / inscription : Pauline BOGE\, animatrice : gab10@biograndest.org / 06 66 64 49 10 \n 
URL:https://biograndest.org/evenement/ag-bio-aube-participation-agence-bio/
LOCATION:Troyes (10)
CATEGORIES:Aube,Evènement
ATTACH;FMTTYPE=image/jpeg:https://biograndest.org/wp-content/uploads/2023/09/gab10agencebio-web.jpg
END:VEVENT
BEGIN:VEVENT
DTSTART;TZID=Europe/Paris:20231007T173000
DTEND;TZID=Europe/Paris:20231007T190000
DTSTAMP:20260420T082553
CREATED:20231005T062656Z
LAST-MODIFIED:20231005T062721Z
UID:17323-1696699800-1696705200@biograndest.org
SUMMARY:On mange quoi demain ; quel avenir pour le bio ?
DESCRIPTION:Table ronde sur l’agriculture biologique\, organisé par la Communauté de communes Vezouze-en-Piémont\, en partenariat avec Bio en Grand Est\, la Chambre d’Agriculture de Meurthe-et-Moselle et le Conseil départemental de Meurthe-et-Moselle. \nAgriculteur\, consommateur ou simple personne intéressée par le sujet\, venez partager vos ressentis autour\nde l’alimentation de demain et plus particulièrement sur le devenir de l’agriculture biologique !\nTout public – Entrée libre \nInformations : 03 83 71 45 76\nLieux :  Reillon La Croisée Découverte \nProgramme complet : https://www.meurthe-et-moselle.fr/actu/on-mange-quoi-demain
URL:https://biograndest.org/evenement/on-mange-quoi-demain-quel-avenir-pour-le-bio/
LOCATION:La Croisée Découverte\, Reillon\, Reillon
CATEGORIES:Consommateurs,Evènement,Meurthe-et-Moselle
ATTACH;FMTTYPE=image/jpeg:https://biograndest.org/wp-content/uploads/2023/10/omqd.jpg
END:VEVENT
BEGIN:VEVENT
DTSTART;TZID=Europe/Paris:20231010T080000
DTEND;TZID=Europe/Paris:20231012T170000
DTSTAMP:20260420T082553
CREATED:20230925T092658Z
LAST-MODIFIED:20230925T092658Z
UID:17236-1696924800-1697130000@biograndest.org
SUMMARY:FORMATION : Pratiques innovantes en PPAM pour s'adapter au changement climatique
DESCRIPTION:Rendez-vous pour une formation du mardi 10 octobre au jeudi 12 octobre à Valais – Suisse. \nObjectifs : Être capable d’identifier des leviers et de mettre en oeuvre des pratiques adaptables sur sa ferme permettant d’adapter son entreprise et son système au changement climatique : analyser les contraintes actuelles de sa ferme\, identifier et mettre en place des nouvelles pratiques pour réduire les intrants et améliorer la gestion de la ressource en eau\, et être capable d’adapter les itinéraires techniques et méthodes culturales\, de diversifier\, d’adapter son  calendrier de production et de récolte\, de mettre en place des outils économes en ressources en naturelles. \nPublic : productrices et producteurs en PPAM ou en diversification PPAM. Pas de pré-requis. \nTélécharger le programme de la formation ICI \nContact et inscription : Carole TONIN / 07 69 27 03 91 \n 
URL:https://biograndest.org/evenement/formation-pratiques-innovantes-en-ppam-pour-sadapter-au-changement-climatique/
LOCATION:Suisse
CATEGORIES:Formation
ATTACH;FMTTYPE=image/jpeg:https://biograndest.org/wp-content/uploads/2020/10/Illus_PPAM.jpg
END:VEVENT
BEGIN:VEVENT
DTSTART;TZID=Europe/Paris:20231012T080000
DTEND;TZID=Europe/Paris:20231012T170000
DTSTAMP:20260420T082553
CREATED:20230912T144121Z
LAST-MODIFIED:20230915T172447Z
UID:17113-1697097600-1697130000@biograndest.org
SUMMARY:FORMATION : Les thés de compost en cultures bio
DESCRIPTION:Formation Les Thés de compost en culture bio \nJeudi 12 octobre 2024\, à l’INRAe de Mirecourt (88) \nIntervenant : Jean-Charles Devilliers\, expert sur les thés de composts oxygénés \nObjectifs : Maîtriser les enjeux\, la fabrication et l’utilisation des thés de compost. \nProgramme : apprendre à travailler avec les micro-organismes\, complémentarités des TCO avec l’agriculture biologique de conservation; utilisation en pulvérisation ou enrobage de semences ; visite de la ferme de l’INRAe et des outils utilisés pour la préparation et pulvérisation; Guides et recettes pour réussir ses enrobages et fabriquer un thé de compost oxygéné. \nTélécharge le programme ICI \nRenseignements et inscriptions : Yoan MICHAUD \n07 82 92 88 54
URL:https://biograndest.org/evenement/formation-les-thes-de-compost-en-cultures-bio/
LOCATION:Mirecourt (88)
CATEGORIES:Formation,Vosges
ATTACH;FMTTYPE=image/jpeg:https://biograndest.org/wp-content/uploads/2019/08/formation.jpg
END:VEVENT
BEGIN:VEVENT
DTSTART;TZID=Europe/Paris:20231016T143000
DTEND;TZID=Europe/Paris:20231016T170000
DTSTAMP:20260420T082553
CREATED:20230922T061648Z
LAST-MODIFIED:20230922T091122Z
UID:17184-1697466600-1697475600@biograndest.org
SUMMARY:Vigne Bio Ouverte : Convertir son domaine à la viticulture bio
DESCRIPTION:Porteurs de projet\, viticulteurs soucieux de votre impact environnemental\, vous êtes conviés pour un échange sur la viticulture bio. \nDans le cadre du projet de structuration de la filière Champagne Biologique\, l’ensemble des partenaires vous invite à une après midi d’échanges autour de la viticulture biologique : \nConvertir son domaine à la viticulture biologique \nLundi 16 octobre 2023 à 14h30 \nAvec Sébastien Simon \nProgramme de l’après-midi :\n▪ Présentation du domaine\n▪ Présentation des différentes étapes de la certification bio\n▪ Réglementation en AB\n▪Enjeux de la viticulture bio sur la protection en ressource en eau\n▪ Temps d’échanges\, vite de parcelle \nRDV au Domaine SIMON LEGRAND: \nPoint GPS : 49°02’05.2″N 3°42’68.0″E \nTélécharger l’invitation. \nInscription obligatoire auprès d’Émilie BROST : emilie.brost@biograndest.org – 06 40 79 06 60
URL:https://biograndest.org/evenement/vigne-bio-ouverte-convertir-son-domaine-a-la-viticulture-bio/
LOCATION:Nesles la montagne\, 5 rue de l'église\, Nesles la montagne\, 02400\, France
CATEGORIES:Animation,Champagne,Filières,Techniques
ATTACH;FMTTYPE=image/jpeg:https://biograndest.org/wp-content/uploads/2021/02/conversion-viti-bio.jpg
END:VEVENT
BEGIN:VEVENT
DTSTART;TZID=Europe/Paris:20231017T090000
DTEND;TZID=Europe/Paris:20231017T090000
DTSTAMP:20260420T082553
CREATED:20230927T125336Z
LAST-MODIFIED:20230927T130414Z
UID:17280-1697533200-1697533200@biograndest.org
SUMMARY:Formation : Les réseaux sociaux : mieux les appréhender pour optimiser la communication de sa structure
DESCRIPTION:Formation destinée aux salariés d’associations ou d’organismes de développement agricoles\nObjectifs de la formation :\nConnaître les principes de bases d’une stratégie de communication\nConnaître les différents RS et leurs publics\nComprendre les codes et règles des réseaux sociaux pour les mettre en application dans sa communication \nIntervenante : Nadine PIBOULE\, chargée de communication à Bio en Grand Est \nTélécharger le programme ICI \n  \nRenseignement et inscription : Nadine PIBOULE
URL:https://biograndest.org/evenement/formation-les-reseaux-sociaux-mieux-les-apprehender-pour-optimiser-la-communication-de-sa-structure/
LOCATION:Neuves-Maisons (54)
CATEGORIES:Formation
ATTACH;FMTTYPE=image/jpeg:https://biograndest.org/wp-content/uploads/2019/08/formation.jpg
END:VEVENT
BEGIN:VEVENT
DTSTART;TZID=Europe/Paris:20231020T084500
DTEND;TZID=Europe/Paris:20231020T120000
DTSTAMP:20260420T082553
CREATED:20231012T132335Z
LAST-MODIFIED:20231012T132451Z
UID:17358-1697791500-1697803200@biograndest.org
SUMMARY:Découverte de la filière champagne biologique
DESCRIPTION:Aux producteurs Bio et porteurs de projets à la conversion en Champagne\,\naux Partenaires du projet filière Champagne biologique \nBonjour\, \nNous avons le plaisir de vous convier à une action de sensibilisation dans le cadre de la structuration de la filière Champagne Biologique : \nDécouverte de la filière champagne Biologique \nVendredi 20 OCTOBRE 2023 à 8h45\nAvec Pierre Dethune\, vigneron bio \nRDV : La salle des fêtes  » La Renaissance »\n7 Rue de l’Ecluse \n51380 Vaudemange \nPoint GPS : 49.091069\, 4.227780 \n\n(voir l’itinéraire sur Google Map) \nTélécharger le programme \nInscription obligatoire auprès Émilie Brost  06 40 79 06 60 / emilie.brost@biograndest.org
URL:https://biograndest.org/evenement/decouverte-de-la-filiere-champagne-biologique231020matin/
LOCATION:Salle des fêtes « la renaissance »\, 7 Rue de l'Ecluse\, Vaudemange\, 51380
CATEGORIES:Animation,Champagne,Evènement,Filières,Marne
ATTACH;FMTTYPE=image/jpeg:https://biograndest.org/wp-content/uploads/2021/02/conversion-viti-bio.jpg
END:VEVENT
BEGIN:VEVENT
DTSTART;TZID=Europe/Paris:20231020T140000
DTEND;TZID=Europe/Paris:20231020T170000
DTSTAMP:20260420T082553
CREATED:20231012T133139Z
LAST-MODIFIED:20231012T133139Z
UID:17373-1697810400-1697821200@biograndest.org
SUMMARY:Découverte de la filière  champagne biologique en coopérative
DESCRIPTION:Aux producteurs Bio et porteurs de projets à la conversion en Champagne\,\naux Partenaires du projet filière Champagne biologique \nNous avons le plaisir de vous convier à une action de sensibilisation dans le cadre de la structuration de la filière Champagne Biologique : \n Découverte de la filière champagne Biologique en coopérative \nVendredi 20 OCTOBRE 2023 à 14h00\nAvec Christophe LEFEVRE\, administrateur de la coopérative et vigneron bio \nRDV : Coopérative viticole d’Ecueil\n       10 rue Sacy\, \n51500 Ecueil \nPoint GPS : 49.18892\, 3.95759 \n(voir l’itinéraire sur Google Map) \n\nTélécharger le programme \n  \nInscription obligatoire auprès Émilie Brost  06 40 79 06 60 / emilie.brost@biograndest.org
URL:https://biograndest.org/evenement/decouverte-de-la-filiere-champagne-biologique-en-cooperative232010am/
LOCATION:coopérative d’Ecueil\, 10 rue Sacy\, Ecueil\, 51500\, France
CATEGORIES:Animation,Champagne,Evènement,Filières,Marne
ATTACH;FMTTYPE=image/jpeg:https://biograndest.org/wp-content/uploads/2021/02/conversion-viti-bio.jpg
END:VEVENT
BEGIN:VEVENT
DTSTART;TZID=Europe/Paris:20231022T100000
DTEND;TZID=Europe/Paris:20231022T180000
DTSTAMP:20260420T082553
CREATED:20230728T101217Z
LAST-MODIFIED:20231020T101249Z
UID:16946-1697968800-1697997600@biograndest.org
SUMMARY:Salon Bio et Alternatif de la Fête de la Grue 2023
DESCRIPTION:Bio en Grand Est/Bio de la Marne et Alter-natives organisent à nouveau le salon Bio et Alternatif à l’occasion de la Fête de la Grue (organisée par la Ligue pour la protection des oiseaux (LPO) de Champagne-Ardenne).\nLe salon se déroulera Dimanche 22 octobre 2023 de 10h à 18h à Der Nature\, la ferme des Grand Parts (Lac du Der entre Arrigny et Giffaumont). \nCe salon a pour but de valoriser et d’informer sur toute la filière bio et locale\, le bien-être\, l’artisanat\, les alternatives\, l’environnement et le secteur associatif est un des salons de producteurs bio du Grand Est les plus apprécié ouvrira ses portes pour accueillir petits et grands curieux à la recherche d’alternatives pour vivre et consommer mieux. \nEntrée libre\n\n \nPour qui ?\nCe salon intéressera toute personne en recherche de bien-être\, de produits de qualité respectueux de l’environnement. Avec plus de 40 exposants et des animations\, le salon attend plus de 2000 visiteurs comme l’année dernière.\nUne idée de sortie sympathique pendant la Fête de la Grue (organisée par la LPO)\, et d’animation pour les petits et les grands à l’occasion des vacances de la Toussaint. \nAnimations :\nDe 10h à 12h – Démonstration culinaire en direct avec les produits achetés sur le salon et dégustation de recettes avec Cuisine at’home : https://www.facebook.com/thomas.bourlier.92 \nDe 10h30 à 12h30 – Venez arpenter les sentiers boisés avec le CIVAM de l’Oasis et participer à une récolte de graines de ligneux dans le cadre du projet Végétal Local.\nInscriptions sur place et départ à 10h30 depuis le Salon. \nà 14h00 – Balade botanique :\n« A la découverte des plantes sauvages comestibles et médicinales » \navec Alexandra HENRISSAT\, botaniste et productrice de PPAM bio.\nAttention : places limitées à réserver par mail : agrobio51@biograndest.org \n\nTout au long de la journée :\n\n Animations  pour connaître et protéger la nature (tout public)\n Ateliers jeux nature pour les enfants \n  \nAu programme de la journée :\n• Vente directe :\n Produits bio avec des producteurs certifiés. Certains producteurs proposeront leurs produits à consommer sur place.\n Produits artisanaux (vêtements naturels\, bijoux\, verrerie\, sculptures bois\,…)\n Produits pour le bien être\, la santé (huiles essentielles\, huiles de massages\, soins\,…)\n Produits pour une habitation saine \n• Associations :\n– Bio de la Marne\n– Alter’natives\n– Ligue pour la protection des oiseaux (LPO) de Champagne-Ardenne\n– AMAP (Association pour le maintien d’une agriculture paysanne) du Pays Vitryat\n– Le Plan Alimentaire du Pays Vitryat\n– GAIAH (Guichet d’accompagnement individualisé pour l’amélioration de l’habitat)\n– CEDRA\n– Conservatoire d’espaces naturels de Champagne-Ardenne \n• Producteurs bio présents : \n\nEARL SAINT JEANVAT (Didier LAMBIN): Lentillons\, farine lentillon\, pâtes\, lin\nBRASSERIE DU DER (Noël LEPOIX) : Bières\nMOULIN DE LA FERME (Pascal COTTON) : Farines\, huiles\, lentilles vertes\, œufs\, sablés\nEric PIERROT  : Jus de fruit\, sirops\, confitures\nLES LARMES DE RÊ (Renaud FRANCOIS) Miel\, hydromel\, propolis\, sirop de miel\, bougies\nFabien BILLETTE : Pain\, brioches\, farines\, pain d’épices\nArmelle TARGY : Spécialités laitières au lait de chèvres et de brebis (fromages\, yaourts\, faisselles)\, rillettes et saucissons de cabri.\nPierre FERTE : Produits de la ruche\nNATURE ET PAYSANS : Pain\, viennoiseries\, pizzas\, snacking\nFERME DES LAURIERS : Fromages au lait de vache\nFERME LES MESSICOLES : Bouquets de fleurs séchées\n\nBien manger\nPetite restauration bio et locale à emporter ou à consommer sur place. \nExposants\nVous souhaitez tenir votre stand sur le salon? Pour participer à l’évènement\, contactez Pauline BOGE (Bio de la Marne) 06 66 64 49 10 agrobio51@biograndest.org \n \nTélécharger l’affiche \nTélécharger le flyer \nContacts et informations : \nPauline BOGE (Bio de la Marne) 06 66 64 49 10 agrobio51@biograndest.org
URL:https://biograndest.org/evenement/salon-bio-alternatif-2023/
LOCATION:Ferme Grands Pars\, D13\, 51290 Outines\, Ferme Grands Pars D13\, Outines\, France
CATEGORIES:Consommateurs,Evènement,Marne
ATTACH;FMTTYPE=image/jpeg:https://biograndest.org/wp-content/uploads/2023/07/visuelsalonbio2023web.jpg
END:VEVENT
BEGIN:VEVENT
DTSTART;TZID=Europe/Paris:20231026T133000
DTEND;TZID=Europe/Paris:20231026T160000
DTSTAMP:20260420T082553
CREATED:20231020T152053Z
LAST-MODIFIED:20231020T152136Z
UID:17481-1698327000-1698336000@biograndest.org
SUMMARY:Mois de la Bio : Tour de plaine : les couverts végétaux en AB\, une piste pour des systèmes grandes cultures plus résilients
DESCRIPTION:Venez découvrir ou approfondir les couverts végétaux en agriculture biologique\, ainsi que les techniques permettant d’améliorer la fertilité des sols. \nRendez-vous le jeudi 26 octobre 2023 de 13h30 à 16h00 \nà l’Oasis Ardennaise\, 11 rue Principale 08190 Houdilcourt \nAu programme : \n\nPrésentation de Bio en Grand Est et du projet « Résilience des fermes en Grandes Cultures Biologiques » piloté par Bio en Grand Est.\nPrésentation du groupe technique de Bio en Grand Est autour de l’Agriculture Biologique de Conservation\nPrésentation de l’exploitation l’Oasis Ardennaise et des différents leviers utilisés pour augmenter la fertilité des sols (couverts végétaux\, associations\, agroforesterie\, biodynamie\, …).\nZoom sur les couverts végétaux réalisés par l’exploitation\nTour de plaine autour des couverts végétaux\n\nPour consulter l’invitation et le programme complet\, cliquez ICI. \nRenseignements et inscriptions auprès de :  \nAurélie PARANT-SONGY\, 06 88 28 37 68\, aurelie.songy@biograndest.org \n 
URL:https://biograndest.org/evenement/mois-de-la-bio-tour-de-plaine-les-couverts-vegetaux-en-ab-une-piste-pour-des-systemes-grandes-cultures-plus-resilients/
LOCATION:Houdilcourt
CATEGORIES:Ardennes,Evènement,Techniques
ATTACH;FMTTYPE=image/jpeg:https://biograndest.org/wp-content/uploads/2023/10/couverts-mdb23.jpg
END:VEVENT
BEGIN:VEVENT
DTSTART;TZID=Europe/Paris:20231027T100000
DTEND;TZID=Europe/Paris:20231027T180000
DTSTAMP:20260420T082553
CREATED:20231009T072354Z
LAST-MODIFIED:20231009T094931Z
UID:17331-1698400800-1698429600@biograndest.org
SUMMARY:Le GAB de Moselle à Agrimax
DESCRIPTION:Le GAB de Moselle sera présent à Agrimax vendredi 27 octobre\, sur le stand de Groupama (à coté du ring élevage). \nVenez rencontrer les administrateurs.trices du GAB autour d’un apéritif avec des produits Bio locaux !
URL:https://biograndest.org/evenement/le-gab-de-moselle-a-agrimax/
LOCATION:Salon Agrimax\, Metz
CATEGORIES:Evènement,Moselle
ATTACH;FMTTYPE=image/jpeg:https://biograndest.org/wp-content/uploads/2023/10/1749-agrimax.jpg
END:VEVENT
END:VCALENDAR