BEGIN:VCALENDAR
VERSION:2.0
PRODID:-//Bio Grand Est - ECPv6.15.14//NONSGML v1.0//EN
CALSCALE:GREGORIAN
METHOD:PUBLISH
X-WR-CALNAME:Bio Grand Est
X-ORIGINAL-URL:https://biograndest.org
X-WR-CALDESC:Évènements pour Bio Grand Est
REFRESH-INTERVAL;VALUE=DURATION:PT1H
X-Robots-Tag:noindex
X-PUBLISHED-TTL:PT1H
BEGIN:VTIMEZONE
TZID:Europe/Paris
BEGIN:DAYLIGHT
TZOFFSETFROM:+0100
TZOFFSETTO:+0200
TZNAME:CEST
DTSTART:20230326T010000
END:DAYLIGHT
BEGIN:STANDARD
TZOFFSETFROM:+0200
TZOFFSETTO:+0100
TZNAME:CET
DTSTART:20231029T010000
END:STANDARD
BEGIN:DAYLIGHT
TZOFFSETFROM:+0100
TZOFFSETTO:+0200
TZNAME:CEST
DTSTART:20240331T010000
END:DAYLIGHT
BEGIN:STANDARD
TZOFFSETFROM:+0200
TZOFFSETTO:+0100
TZNAME:CET
DTSTART:20241027T010000
END:STANDARD
BEGIN:DAYLIGHT
TZOFFSETFROM:+0100
TZOFFSETTO:+0200
TZNAME:CEST
DTSTART:20250330T010000
END:DAYLIGHT
BEGIN:STANDARD
TZOFFSETFROM:+0200
TZOFFSETTO:+0100
TZNAME:CET
DTSTART:20251026T010000
END:STANDARD
END:VTIMEZONE
BEGIN:VEVENT
DTSTART;TZID=Europe/Paris:20240404T080000
DTEND;TZID=Europe/Paris:20240404T170000
DTSTAMP:20260419T220036
CREATED:20240220T075859Z
LAST-MODIFIED:20240220T075912Z
UID:18508-1712217600-1712250000@biograndest.org
SUMMARY:[FORMATION] Réussir ses couverts végétaux en agriculture de conservation/régénération des sols
DESCRIPTION:Vous souhaitez acquérir les bases ou bien perfectionner votre approche des couverts végétaux dans un système en Agriculture Biologique de Conservation ou en devenir ? Cette formation vous donnera les clés pour déterminer les couverts les plus adaptés à votre système\, comment les implanter et les détruire. \nLes couverts n’auront plus de secret pour vous! \nIntervenant(e)s : Nicolas COURTOIS\, Formateur et expert en agriculture de conservation et agro- écologie\, Icosystème \nLe jeudi 4 avril 2024 dans l’Aube – 3 h en distanciel à partir du 4 mars 2024\n \nInscription souhaitée avant le 23/02/2024 \nFormation labellisée Ecophyto pouvant servir au renouvellement de votre CertiPhyto (cliquer ICI pour plus d’informations)\n \nPour plus d’informations\, voir le programme de la formation complète en cliquant ICI.  \nRenseignements et inscriptions : Pauline BOGE – 06 66 64 49 10 – pauline.boge@biograndest.org
URL:https://biograndest.org/evenement/formation-reussir-ses-couverts-vegetaux-en-agriculture-de-conservation-regeneration-des-sols-2/
LOCATION:Aube
CATEGORIES:Aube,Formation
ATTACH;FMTTYPE=image/jpeg:https://biograndest.org/wp-content/uploads/2023/12/couverts-grandes-cultures.jpg
END:VEVENT
BEGIN:VEVENT
DTSTART;TZID=Europe/Paris:20240405T090000
DTEND;TZID=Europe/Paris:20240405T120000
DTSTAMP:20260419T220036
CREATED:20240325T104333Z
LAST-MODIFIED:20240325T130555Z
UID:18616-1712307600-1712318400@biograndest.org
SUMMARY:Découverte de la filière champagne biologique
DESCRIPTION:Aux producteurs Bio et porteurs de projets à la conversion en Champagne\,\naux Partenaires du projet filière Champagne biologique \nNous avons le plaisir de vous convier à une action de sensibilisation dans le cadre de la structuration de la filière Champagne Biologique : \n Découverte de la filière champagne Biologique  \nVendredi 5 avril 2024 à 9h00\nAvec \nRDV : Salle polyvalente d’Essoyes\n     6 place de la mairie \n10360 Essoyes \nPoint GPS : 48.05779\, 4.53810 \n(voir l’itinéraire sur Google Map) \nTélécharger le programme \n  \nInscription obligatoire auprès Émilie Brost  06 40 79 06 60 / emilie.brost@biograndest.org
URL:https://biograndest.org/evenement/decouverte-de-la-filiere-champagne-biologique/
LOCATION:Essoyes (10)
CATEGORIES:Animation,Aube,Champagne,Evènement,Filières
ATTACH;FMTTYPE=image/jpeg:https://biograndest.org/wp-content/uploads/2021/02/conversion-viti-bio.jpg
END:VEVENT
BEGIN:VEVENT
DTSTART;TZID=Europe/Paris:20240405T093000
DTEND;TZID=Europe/Paris:20240405T170000
DTSTAMP:20260419T220036
CREATED:20240207T111215Z
LAST-MODIFIED:20240306T144407Z
UID:18415-1712309400-1712336400@biograndest.org
SUMMARY:Assemblée Générale de Bio en Grand Est - 2024
DESCRIPTION:Réservez dès maintenant le vendredi 5 avril 2024 dans votre agenda pour participer à l’Assemblée Générale de BIO EN GRAND EST à Épinal. \nProgramme : \n9h30 | Accueil café\n10h | Assemblée Générale statutaire\n12h | Allocutions des élus présents (à confirmer)\n12h30 | Repas bio et local (payant sur inscription)\n14h15 | Conférence et table ronde : Le renouvellement des générations en agriculture biologique dans le Grand Est\n16h30 | Clôture et verre de l’amitié \nLieux :\nÉpinal à l’Espace Cours\, avenue Gambetta \nInscription : ICI\n \n  \nInformations\nSecrétariat :  Tél. 03 26 64 96 81 – 03 87 37 50 41 \n@ : contact@biograndest.org
URL:https://biograndest.org/evenement/assemblee-generale-de-bio-en-grand-est-2024/
LOCATION:EPINAL (88)\, 88000\, France
CATEGORIES:Vosges
ATTACH;FMTTYPE=image/jpeg:https://biograndest.org/wp-content/uploads/2024/02/agbge2024.jpg
END:VEVENT
BEGIN:VEVENT
DTSTART;TZID=Europe/Paris:20240409T110000
DTEND;TZID=Europe/Paris:20240409T120000
DTSTAMP:20260419T220036
CREATED:20240403T080907Z
LAST-MODIFIED:20240403T093810Z
UID:18688-1712660400-1712664000@biograndest.org
SUMMARY:Webinaire "Les aides à la bio"
DESCRIPTION:Bio en Grand Est et la Chambre d’agriculture d’Alsace vous proposent un webinaire consacré aux aides à la bio en région Grand Est : aides à la bio via le dossier PAC (éco-régime\, aide conversion CAB…)\, crédit d’impôt bio\, aides investissement matériel\, aide d’urgence bio\, etc. \nPour participer\, vous n’avez pas besoin de vous inscrire\, il suffit de cliquer sur le lien suivant : \nCliquer ici pour rejoindre le webinaire \nPour rejoindre le webinaire par téléphone :  \nNuméro de téléphone : +33 1 88 88 34 99  \nCode secret : 301 522 153# \nPour plus d’informations sur cet évènement :  \nHélène CLERC – OPABA/Bio en Grand Est \n06 43 74 76 69 – helene.clerc@biograndest.org
URL:https://biograndest.org/evenement/webinaire-les-aides-a-la-bio/
LOCATION:en visioconférence
CATEGORIES:Alsace,Evènement
ATTACH;FMTTYPE=image/jpeg:https://biograndest.org/wp-content/uploads/2024/04/illustration-webinaire-aides-bio.jpg
END:VEVENT
BEGIN:VEVENT
DTSTART;TZID=Europe/Paris:20240409T110000
DTEND;TZID=Europe/Paris:20240409T120000
DTSTAMP:20260419T220036
CREATED:20250411T064756Z
LAST-MODIFIED:20250411T064756Z
UID:21308-1712660400-1712664000@biograndest.org
SUMMARY:Webinaire "Les aides à la bio"
DESCRIPTION:Bio en Grand Est et la Chambre d’agriculture d’Alsace vous proposent un webinaire consacré aux aides à la bio en région Grand Est : aides à la bio via le dossier PAC (éco-régime\, aide conversion CAB…)\, crédit d’impôt bio\, aides investissement matériel\, aide d’urgence bio\, etc. \nPour participer\, vous n’avez pas besoin de vous inscrire\, il suffit de cliquer sur le lien suivant : \nCliquer ici pour rejoindre le webinaire \nPour rejoindre le webinaire par téléphone :  \nNuméro de téléphone : +33 1 88 88 34 99  \nCode secret : 301 522 153# \nPour plus d’informations sur cet évènement :  \nHélène CLERC – OPABA/Bio en Grand Est \n06 43 74 76 69 – helene.clerc@biograndest.org
URL:https://biograndest.org/evenement/webinaire-les-aides-a-la-bio-2/
LOCATION:en visioconférence
CATEGORIES:Alsace,Evènement
ATTACH;FMTTYPE=image/jpeg:https://biograndest.org/wp-content/uploads/2024/04/illustration-webinaire-aides-bio.jpg
END:VEVENT
BEGIN:VEVENT
DTSTART;TZID=Europe/Paris:20240414T100000
DTEND;TZID=Europe/Paris:20240414T170000
DTSTAMP:20260419T220036
CREATED:20240327T112624Z
LAST-MODIFIED:20240327T132353Z
UID:18645-1713088800-1713114000@biograndest.org
SUMMARY:13ème édition de Bulles Bio en Champagne (Salon Pro)
DESCRIPTION:BULLES BIO EN CHAMPAGNE 2024 – 13ème ÉDITION\nLes vigneronnes et vignerons de l’ACB vous accueillent à leur salon BULLES BIO durant la semaine du Printemps des Champagnes\,\nle DIMANCHE 14 AVRIL 2024\, dans les lieux de spectacles vivants LE MANÈGE et LE CIRQUE\, au centre-ville de Reims !\n \nLa dégustation réunira cette année plus de 60 DOMAINES\, engagés en agriculture biologique\, sur l’ensemble des terroirs de l’appellation Champagne.\nVenez y déguster leurs vins clairs\, coteaux champenois et cuvées de champagne\, certifiés bio ! \nSALON PRO : \nAccès réservé aux distributeurs\, cavistes\, CHR\, sommeliers\, importateurs et journalistes. \nENTRÉE : \nInscription obligatoire sur Eventbrite.fr. \nPrix d’entrée 15 €\, à régler sur place. \nLien pour s’inscrire sur Eventbrite : \n> Cliquez ici pour vous inscrire sur Eventbrite < \nLIEU ET HORAIRES : \nLe Manège – 2 Boulevard du Général Leclerc – 51100 Reims\, \nde 10H à 17H. \nLISTE DES 61 DOMAINES PARTICIPANTS \nAUDE ET BORIS • ROBERT BARBICHON • LAURENT BÉNARD • FABIEN BERGERONNEAU • JÉRÔME BLIN • BONNAIRE • COLETTE BONNET • BONNET-PONSON • ELISE BOUGY • LOUISE BRISON • HERVÉ BRISSON • CAILLEZ LEMAIRE • ALEXANDRE CHAILLON • L&S CHEURLIN • COLLET • ERIC COLLINET • VINCENT COUCHE • CORDEUIL PERE ET FILLE • BENOÎT DÉHU • DELONG MARLENE • VALERIE ET GAEL DUPONT • PASCAL DOQUET • DIDIER DOUÉ • DURDON BOUVAL • ELÉMART ROBION • MATHIEU FANIEL • FLEURY • GEORGES FLEURY • REMI GEORGETON • GEORGES LAVAL • GEORGES REMY • GONDE ROUSSEAUX • OCTAVE GOUSSARD • EMILE GRADOS • ANDRÉ HEUCQ • DAVID LÉCLAPART • LECLERC BRIANT • LE GUÉDARD • LELARGE-PUGEOT • LIEBART REGNIER • JEAN-MARIE MASSONNOT • GUILLAUME MARTEAUX • PASCAL MAZET • JEAN MICHEL • DANIEL MOREAU • MONDEVILLE • FRANCK PASCAL • PERNET & PERNET• PIOLLOT • RÉGIS POISSINET • PONSON • RAYMOND AURÉLIEN • RUTAT • ETIENNE SANDRIN • JEAN SERVAGNAT• SIMONE & LUCIEN • SOLEMME • SUISSE LAVAL • SYLVIE MOREAU • WARIS LARMANDIER •YVON MOUSSY•
URL:https://biograndest.org/evenement/bulles-bio-en-champagne-2024/
LOCATION:Reims (51)
CATEGORIES:Champagne,Evènement,Filières,Marne
ATTACH;FMTTYPE=image/jpeg:https://biograndest.org/wp-content/uploads/2024/03/bulles-bio-2024.jpg
END:VEVENT
BEGIN:VEVENT
DTSTART;TZID=Europe/Paris:20240415T090000
DTEND;TZID=Europe/Paris:20240415T170000
DTSTAMP:20260419T220036
CREATED:20240311T133216Z
LAST-MODIFIED:20240311T155643Z
UID:18568-1713171600-1713200400@biograndest.org
SUMMARY:Forum des producteurs de légumes et de fruits bio
DESCRIPTION:Bio en Grand Est en partenariat avec l’Eplefpa de Courcelles-Chaussy vous invite le lundi 15 avril 2024 pour la 11ème édition du Forum des producteurs de légumes et de fruits bio du Grand Est. L’échange est au cœur de cette édition. De nombreuses thématiques seront abordées. \nAu programme de cette journée (accueil dès 9h) : \n\nInscription obligatoire : nicolas.herbeth@biograndest.org
URL:https://biograndest.org/evenement/forum-des-producteurs-de-legumes-et-de-fruits-bio/
LOCATION:CFPPA – Courcelles-Chaussy (57)
CATEGORIES:Moselle,Techniques
ATTACH;FMTTYPE=image/jpeg:https://biograndest.org/wp-content/uploads/2024/03/programme-forum2024-1-scaled.jpg
END:VEVENT
BEGIN:VEVENT
DTSTART;TZID=Europe/Paris:20240416T190000
DTEND;TZID=Europe/Paris:20240416T210000
DTSTAMP:20260419T220036
CREATED:20240328T180356Z
LAST-MODIFIED:20240411T073226Z
UID:18661-1713294000-1713301200@biograndest.org
SUMMARY:Conférence - Et si on pouvait cultiver l’eau ?
DESCRIPTION:Organisée par Bio en Grand Est\, les Bio de Meurthe-et-Moselle et le Pays du Saintois. \n\nConnaitre les enjeux de la conservation de l’eau dans nos paysages et nos terres agricoles.\nDécouvrir les méthodes de l’hydrologie régénérative pour mieux gérer les flux de l’eau.\n\nPar Samuel Bonvoisin\, conférencier spécialiste de l’hydrologie régénérative \n \nDans notre région\, le changement climatique a des effets de plus en plus évidents sur l’hydrologie et la météo\, avec des précipitations plus fortes en hiver et des étés plus secs et chauds. Le problème majeur est que l’eau tombe de manière intense et concentrée sur de courtes périodes et ne s’infiltre plus suffisamment\, mais ruisselle en entrainant les sols. Pourtant\, des pratiques agricoles et des aménagements du paysage adaptés aux conditions pédoclimatiques et topographiques locales peuvent favoriser son infiltration et assurer son stockage au sein même de l’agrosystème\, limitant ainsi les effets des sécheresses. L’hydrologie régénérative est un concept émergeant en France qui vise à mettre en œuvre ces pratiques de sorte à mieux maitriser localement le cycle de l’eau de pluie. Les écosystèmes naturels et agricoles sont ainsi renforcés pour faire face aux modifications du climat. \nRenseignements : Patricia Heuzé\, Bio en Grand Est\, patricia.heuze@biograndest.org 07 81 49 19 61
URL:https://biograndest.org/evenement/conference-et-si-on-pouvait-cultiver-leau/
LOCATION:Cité des Paysages\, 13 reu Notre Dame\, Saxon-Sion
CATEGORIES:Climat,Evènement,Meurthe-et-Moselle
ATTACH;FMTTYPE=image/png:https://biograndest.org/wp-content/uploads/2024/03/conference-eau-apercu.png
END:VEVENT
BEGIN:VEVENT
DTSTART;TZID=Europe/Paris:20240420T140000
DTEND;TZID=Europe/Paris:20240421T180000
DTSTAMP:20260419T220036
CREATED:20240319T100613Z
LAST-MODIFIED:20240403T080115Z
UID:18595-1713621600-1713722400@biograndest.org
SUMMARY:Relanges Bio 2024
DESCRIPTION:Chaque année\, le troisième week-end d’avril\, le village de Relanges dans les Vosges\, accueille la Rencontre de l’Agriculture Biologique\, des Alternatives Écologiques et de la Solidarité. Cette année\, c’est le samedi 20 et le dimanche 21 avril 2024. \nRelanges Bio\, c’est l’occasion de rencontrer des femmes et des hommes\, actrices et acteurs d’un changement nécessaire à un monde durable.\n\nÀ Relanges Bio\, rencontrez\, débattez\, apprenez\, partagez lors de conférences et tables rondes variées !\nRelanges Bio\, c’est aussi et surtout une grande fête ! De multiples animations vont attendent : théâtre\, concerts\, déambulations\, balades…\n\nTout le programme sur relangesbio.fr\nLe Groupement des Agrobiologistes des Vosges GAB88\, l’Association du Marché Biologique de Bleurville\, le Foyer Rural de Relanges avec le soutien actif de la municipalité de Relanges veulent réunir des producteurs\, des consommateurs de produits naturels\, des acteurs du développement durable (énergies renouvelables\, habitat écologique) et des militants associatifs. Ce projet\, qui se veut différent d’une simple foire commerciale\, a aussi pour but de favoriser les échanges et l’information\nPlus de 100 stands seront installés dans les rues du village. Des conférences\, et des animations ponctueront les deux journées. \nPar la gratuité de l’accès à cette manifestation\, les organisateurs souhaitent aussi faire de cet évènement une vraie fête populaire.
URL:https://biograndest.org/evenement/relanges-bio-2024/
LOCATION:Relanges (88)
CATEGORIES:Animation,Evènement,Vosges
ATTACH;FMTTYPE=image/jpeg:https://biograndest.org/wp-content/uploads/2024/03/affiche-relanges-bio.jpg
END:VEVENT
BEGIN:VEVENT
DTSTART;TZID=Europe/Paris:20240423T093000
DTEND;TZID=Europe/Paris:20240423T120000
DTSTAMP:20260419T220036
CREATED:20240405T124801Z
LAST-MODIFIED:20240405T142240Z
UID:18747-1713864600-1713873600@biograndest.org
SUMMARY:Vignes Bio Ouvertes : Le travail du sol en viticulture Biologique
DESCRIPTION:Porteurs de projet\, viticulteurs soucieux de votre impact environnemental\, vous êtes conviés pour un échange sur la viticulture bio. \nDans le cadre du projet de structuration de la filière Champagne Biologique\, l’ensemble des partenaires vous invite à une matinée d’échanges autour de la viticulture biologique : \nConvertir son domaine à la viticulture biologique \nmardi 23 avril 2024 à 9h30 \nAvec Pascal DOQUET \nProgramme de la matinée (à partir de 9h30) \n\nEnjeux de la viticulture bio sur la protection de la ressource en eau\nPoint sur la réglementation de la viticulture bio\nPrésentation de la filière\nDémonstration d’outils pour le travail du sol\nTemps d’échange\n\nRDV : \nDomaine PASCAL DOQUET \n44\, Chemin du Moulin de la Cense Bizet   \nVERTUS   \n51130 BLANCS COTEAUX \nPoint GPS : 48\,904190\, 4\,025195 \nTélécharger l’invitation. \nInscription obligatoire auprès d’Émilie BROST : emilie.brost@biograndest.org – 06 40 79 06 60
URL:https://biograndest.org/evenement/vigne-bio-ouverte-23042024/
LOCATION:Domaine Pascal Doquet\, 44 chemin du moulin de la Cense Bizet\, Vertus Blancs Coteaux\, 51130\, France
CATEGORIES:Animation,Champagne,Filières,Techniques
ATTACH;FMTTYPE=image/jpeg:https://biograndest.org/wp-content/uploads/2021/02/conversion-viti-bio.jpg
END:VEVENT
BEGIN:VEVENT
DTSTART;VALUE=DATE:20240426
DTEND;VALUE=DATE:20240427
DTSTAMP:20260419T220036
CREATED:20240417T143730Z
LAST-MODIFIED:20240425T144107Z
UID:19052-1714089600-1714175999@biograndest.org
SUMMARY:Formation : Les préparations de plantes pour la vigne [complète]
DESCRIPTION:Formation complète ! \nAujourd’hui\, la viticulture biologique est pointée du doigt à cause de l’utilisation de cuivre qui est une molécule qui s’accumule dans les sols. Les doses de cuivre autorisées sont revues à la baisse à chaque réhomologation de la substance alors qu’aucune autre molécule homologuée contre le mildiou de la vigne en bio n’est aussi efficace. Il est donc nécessaire de proposer de nouvelles solutions aux viticulteurs bio et de les accompagner dans ce changement de pratique plus favorable pour l’environnement. Les préparations de plantes qui protègent ou aident la vigne à être plus résistante aux maladies fongiques peuvent être un levier pour réduire\, voire remplacer\, les doses de cuivre utilisées. \nCette formation permettra aux viticulteurs de reconnaitre les plantes essentielles à utiliser et de préparer des décoctions de qualité adaptée aux besoins de la vigne. \nPour tout renseignement contacter : Lucie PIERRE – lucie.pierre@biograndest.org / 06 41 56 94 56
URL:https://biograndest.org/evenement/formation-les-preparations-de-plantes-pour-la-vigne-complete/
LOCATION:Balbronn
CATEGORIES:Alsace,Formation
ATTACH;FMTTYPE=image/jpeg:https://biograndest.org/wp-content/uploads/2023/10/soins-plantes-vignes.jpg
END:VEVENT
BEGIN:VEVENT
DTSTART;TZID=Europe/Paris:20240426T170000
DTEND;TZID=Europe/Paris:20240426T190000
DTSTAMP:20260419T220036
CREATED:20240418T130049Z
LAST-MODIFIED:20240822T124313Z
UID:18900-1714150800-1714158000@biograndest.org
SUMMARY:Les bières bio Grand Hamster ressortent du terrier !
DESCRIPTION:Pour la deuxième année consécutive\, les bières bio Grand Hamster sortent du terrier !\nUn collectif de brasseries artisanales alsaciennes vous donne rendez-vous le 26 avril 2024 à 17h00 à Kooma pour le lancement de 7 bières bio « Grand Hamster ». Une initiative originale et pleine de sens !  \nLieu de la conférence de presse :\nKOOMA\, salle animation\, Îlot central de la Manufacture des Tabacs\, Cr des Cigarières\, 67000 Strasbourg. \nProgramme de la conférence de presse : \n\n16h45 : Accueil café\n17h00- 18h00 : De 5 à 7 : des bières 100% bio et locales\, pour la préservation de la\nbiodiversité\, par un collectif de brasseries artisanales bio.\n17h00-17h15 : De l’orge d’hiver bio\, de la ZPS Nord.\nAvec Francis Humann\, EARL Humann.\n17h15-17h25 : Maltala\, 1ère malterie artisanale bio d’Alsace : un maillon\nindispensable qui ouvre de nouvelles perspectives.\nAvec Lise Meinrad\, Maltala.\n17h25-17h35 : Du houblon bio et local : l’Alsace\, championne de France de la culture\nde houblon bio.\nAvec Philippe Martin\, Hop France (Comptoir agricole).\n17h35-18h00 : 7 bières bio qui racontent les engagements des brasseurs et leur\nhistoire.\nAvec Julien Delécolle\, l’Altruiste\, Scherwiller. Benjamin Pastwa\, Bendorf\, Neudorf.\nNathalie Blessing\, Brasserie Blessing\, Waldhambach. Thibaut Lithard\, Brasserie du Grillen\, Colmar. Agathe Blaise\, La Narcose\, Scharrarbergheim.\nFabien Santener\, Brasserie des 4 Pays\, Hirtzbach. Barnabé Stoehr\, S’Humpaloch\, Lautenbach.\n18h00-19h00 : Dégustation des 7 bières Grand Hamster et temps convivial au\nmagasin de producteurs bio KOOMA.\n\nLire le communiqué de presse. \nTélécharger le flyer de présentation des bières bio Grand Hamster. \nContact presse :\nPASTWA Benjamin\, Brasserie Bendorf\, 06 70 55 72 08\, brasserie.bendorf@gmail.com\nHUMANN Francis\, Président du G.I.E. Grand Hamster d’Alsace 06 15 40 44 56 – f.humann@sfr.fr \nPour votre participation\, veuillez-vous inscrire auprès de :\nBio en Grand Est-Julie GALL – 06 24 06 79 90 – julie.gall@biograndest.org \nPour en savoir plus sur la filière bio Grand Hamster d’Alsace :\nhttps://biograndest.org/grand-hamster-dalsace/ \n 
URL:https://biograndest.org/evenement/lancement-des-bieres-bio-grand-hamster-2024/
LOCATION:Kooma (Strasbourg)\, France
CATEGORIES:Alsace,Communiqué de presse,Filières
ATTACH;FMTTYPE=image/png:https://biograndest.org/wp-content/uploads/2024/04/7biereshamster-web.png
END:VEVENT
BEGIN:VEVENT
DTSTART;TZID=Europe/Paris:20240426T190000
DTEND;TZID=Europe/Paris:20240426T233000
DTSTAMP:20260419T220036
CREATED:20240328T175250Z
LAST-MODIFIED:20240417T095432Z
UID:18656-1714158000-1714174200@biograndest.org
SUMMARY:Bières bio Grand Hamster ! C'est la grande soirée de lancement!
DESCRIPTION:Quand les Grands Hamsters sortent de leurs terriers\, les bières artisanales bio pour la préservation de la biodiversité aussi ! \nVous avez dit quoi ?! \nOui\, les bières bio Grand Hamster\, qui ont fait un véritable carton l’année dernière\, parce qu’unique en leur genre\, reviennent pour notre grand plaisir à partir du 26 avril ! \nEt une soirée festive digne de ce nom vous attend ! Dans un lieu aussi unique en son genre : à KOOMA ! Où le goût\, le bio et le local est mis à l’honneur au milieu des briques rouges de l’ancienne Manufacture des Tabacs! \nCe que ces bières ont de particulier ?! Elles cumulent les atouts ! 100% bio et locales du champ à la chope\, portées par un collectif de 7 brasseries artisanales\, 7 recettes\, 7 terroirs\, avec le même malt de base ! Alors\, on vous propose pour le coup un menu d’excellence ! \n\nDes accords plats-bières au restaurant KOOMA dès 19h (réservation conseillée)\nUne soirée festive au pub\, où vous aurez l’occasion de déguster ces 7 bières pour un voyage des sens ! Un DJ sets viendra à partir de 21h\, pour accompagner vos pas de danses !\n\nOn vous attend\, dans la joie et la bonne humeur où la convivialité sera notre leit’ motiv ! \nVenez trinquer à la biodiv’\, au terroir\, au collectif ! \nEt n’oubliez pas de partager cet évènement autour du vous ! 🙂 \nLien vers évènement Facebook!
URL:https://biograndest.org/evenement/bieres-bio-grand-hamster-soiree-de-lancement/
LOCATION:Strasbourg (67)
CATEGORIES:Alsace,Bon Bien Bio,Consommateurs,Evènement,Filières
ATTACH;FMTTYPE=image/png:https://biograndest.org/wp-content/uploads/2024/03/gha-kooma-260424.png
END:VEVENT
BEGIN:VEVENT
DTSTART;TZID=Europe/Paris:20240427T140000
DTEND;TZID=Europe/Paris:20240427T170000
DTSTAMP:20260419T220036
CREATED:20240417T100926Z
LAST-MODIFIED:20240417T100926Z
UID:18784-1714226400-1714237200@biograndest.org
SUMMARY:Obligation Réelle Environnementale\, un contrat pour protéger la nature : mode d'emploi
DESCRIPTION:Le GAB et ses partenaires ont le plaisir de vous inviter à une conférence samedi 27 avril 2024 \n comment mettre en place des protections environnementales attachées à vos biens\, \nprotéger les arbres\, les ripisylves\, etc… \net tout savoir sur l’Obligation Réelle Environnementale \navec Maitre Harstenstein\, notaire à Metzervisse. \nL’Obligation Réelle Environnementale\, ORE\, peut être aussi un outil pour développer la bio ou garantir dans le temps le maintien en bio de terres déjà converties. \nPeu connues\, les Obligations Réelles Environnementales (ORE) constituent un outil juridique à la disposition de toute personne souhaitant protéger un espace naturel : prairie\, arbre\, ripisylve\, zone humide\, forêt….  \nA 14h00  au centre des congrès\, espace Zaug\, en face de l’abbatiale\, 2 place Henri Utard\, à Remiremont\, \nPour en savoir plus : \ngab88@biograndest.org / 07 69 27 03 91 \nLes obligations réelles environnementales (ORE) : un outil pour mobiliser la bio au service de la biodiversité ? (territoiresbio.fr)
URL:https://biograndest.org/evenement/obligation-reelle-environnementale-un-contrat-pour-proteger-la-nature-mode-demploi/
LOCATION:Remiremont (88)\, France
CATEGORIES:Biodiversité,Vosges
ATTACH;FMTTYPE=image/jpeg:https://biograndest.org/wp-content/uploads/2024/04/ore-affiche-240411-vfin.jpg
ORGANIZER;CN="BIO des VOSGES":MAILTO:contact-gab@orange.fr
END:VEVENT
BEGIN:VEVENT
DTSTART;TZID=Europe/Paris:20240430T193000
DTEND;TZID=Europe/Paris:20240430T203000
DTSTAMP:20260419T220036
CREATED:20240423T085928Z
LAST-MODIFIED:20240822T124120Z
UID:18961-1714505400-1714509000@biograndest.org
SUMMARY:Conférence : L'écologie du Grand Hamster d'Alsace\, mode de vie et besoins vitaux
DESCRIPTION:Venez assister à une soirée publique sur le thème de l’écologie du Grand Hamster\, sont mode de vie et ses besoins vitaux\, \nune conférence présenté par Timothé Gérard membre du CNRS à l’amphithéâtre « Eau » de l’ENGEES en entrée libre. \nAussi se tiendra une table ronde avec des acteurs qui œuvrent pour la sauvegarde de l’espèce dans la région\,  Expo grand Hamster au pub de Kooma. \nRendez-vous à l’amphithéâtre  »eau » le 30 avril de 19h30 à 20h30 \n1 cour des Cigarières\, 67000 Strasbourg \nA venir de nombreux rendez-vous organisé dans le cadre du Printemps Bio :  https://openagenda.com/fr/printemps-bio-2024
URL:https://biograndest.org/evenement/conference-lecologie-du-grand-hamster-dalsace-mode-de-vie-et-besoins-vitaux/
LOCATION:Kooma (Strasbourg)\, France
CATEGORIES:Alsace,Evènement
ATTACH;FMTTYPE=image/png:https://biograndest.org/wp-content/uploads/2024/04/capture-decran-2024-04-23-101113.png
END:VEVENT
END:VCALENDAR