BEGIN:VCALENDAR
VERSION:2.0
PRODID:-//Bio Grand Est - ECPv6.15.14//NONSGML v1.0//EN
CALSCALE:GREGORIAN
METHOD:PUBLISH
X-WR-CALNAME:Bio Grand Est
X-ORIGINAL-URL:https://biograndest.org
X-WR-CALDESC:Évènements pour Bio Grand Est
REFRESH-INTERVAL;VALUE=DURATION:PT1H
X-Robots-Tag:noindex
X-PUBLISHED-TTL:PT1H
BEGIN:VTIMEZONE
TZID:Europe/Paris
BEGIN:DAYLIGHT
TZOFFSETFROM:+0100
TZOFFSETTO:+0200
TZNAME:CEST
DTSTART:20230326T010000
END:DAYLIGHT
BEGIN:STANDARD
TZOFFSETFROM:+0200
TZOFFSETTO:+0100
TZNAME:CET
DTSTART:20231029T010000
END:STANDARD
BEGIN:DAYLIGHT
TZOFFSETFROM:+0100
TZOFFSETTO:+0200
TZNAME:CEST
DTSTART:20240331T010000
END:DAYLIGHT
BEGIN:STANDARD
TZOFFSETFROM:+0200
TZOFFSETTO:+0100
TZNAME:CET
DTSTART:20241027T010000
END:STANDARD
BEGIN:DAYLIGHT
TZOFFSETFROM:+0100
TZOFFSETTO:+0200
TZNAME:CEST
DTSTART:20250330T010000
END:DAYLIGHT
BEGIN:STANDARD
TZOFFSETFROM:+0200
TZOFFSETTO:+0100
TZNAME:CET
DTSTART:20251026T010000
END:STANDARD
END:VTIMEZONE
BEGIN:VEVENT
DTSTART;VALUE=DATE:20240504
DTEND;VALUE=DATE:20240505
DTSTAMP:20260419T202700
CREATED:20240208T132543Z
LAST-MODIFIED:20240417T095506Z
UID:18436-1714780800-1714867199@biograndest.org
SUMMARY:19ème édition du Marché Bio et aux Plantes de Bar-le-Duc
DESCRIPTION:Bio de Meuse et la ville de Bar-le-Duc se réjouissent de vous convier à la 19ème édition du Marché Bio et aux Plantes\, le samedi 4 mai 2024 de 9h à 19h au square Champion. \nVenez profiter de l’ambiance musicale\, d’un moment convivial avec restauration et buvette sur place et de nombreux exposants bio présents ! \nUn événement unique à ne pas manquer sur Bar-le-Duc et une journée chaleureuse et festive au programme. \nTélécharger l’affiche de l’événement. \n  \nProgramme et liste des exposants à venir. \n 
URL:https://biograndest.org/evenement/19eme-marche-bio-et-aux-plantes-bar-le-duc/
LOCATION:Bar-le-Duc (55)\, Square Champion
CATEGORIES:Bon Bien Bio,Consommateurs,Evènement,Meuse
ATTACH;FMTTYPE=image/png:https://biograndest.org/wp-content/uploads/2024/02/affiche-marche-bio-bar-le-duc-2024.png
END:VEVENT
BEGIN:VEVENT
DTSTART;TZID=Europe/Paris:20240505T100000
DTEND;TZID=Europe/Paris:20240505T210000
DTSTAMP:20260419T202700
CREATED:20240423T092545Z
LAST-MODIFIED:20240423T092545Z
UID:18953-1714903200-1714942800@biograndest.org
SUMMARY:Fête du village de Kooma
DESCRIPTION:Venez découvrir Kooma et ses producteurs Bio et locaux ! 🍖 🍷 🎶 🎲 \nDurant la fête du village venez à leur rencontre et profitez en pour vous régaler et vous divertir : \n\nBarbecue Bio (knacks\, planchettes paysannes…)\nPlats préparés par nos chefs\nDu vin\, de la bière\nDes animations\nEt de la bonne musique avec Dj Timal !\n\nRendez-vous le 5 mai de 10h à 21h à Kooma \nManufacture des Tabacs\, 6 cour des cigarières 67000 Strasbourg \nDe nombreux autres rendez-vous à venir avec le Printemps Bio qui approche :  https://openagenda.com/fr/printemps-bio-2024.
URL:https://biograndest.org/evenement/fete-du-village-de-kooma/
LOCATION:Kooma (Strasbourg)\, France
CATEGORIES:Alsace,Animation,Bon Bien Bio,Evènement
ATTACH;FMTTYPE=image/png:https://biograndest.org/wp-content/uploads/2024/04/capture-decran-2024-04-23-092708.png
END:VEVENT
BEGIN:VEVENT
DTSTART;TZID=Europe/Paris:20240509T100000
DTEND;TZID=Europe/Paris:20240509T190000
DTSTAMP:20260419T202700
CREATED:20240327T075711Z
LAST-MODIFIED:20240425T085455Z
UID:18629-1715248800-1715281200@biograndest.org
SUMMARY:🍇 20ème Rendez-vous avec les vignerons bio d'Alsace ! 🍷
DESCRIPTION:La viticulture biologique d’Alsace est riche et variée. \nVenez déguster une large palette de vins et partez à la découverte du savoir-faire respectueux de l’environnement de vignerons et vigneronnes lors de cette vingtième édition du Rendez-vous avec les vignerons bio d’Alsace ! \nOuvert à toutes et tous. \nRendez-vous à partir de 10h à la Foire Ecobio \nAu programme :  \n\n6 escales de dégustation libre disponible toute la journée\n\nAvec les Vins de terroir\, les Vins de cépage\, les Grands Crus\, les Pinots Noirs\, les Crémants et les Originaux (vins natures\, oranges…) \n\n3 ateliers de dégustation\n\n– 11 h : Déguster les terroirs alsaciens lors d’un atelier sur la géosensorialité avec Jean-Baptiste Klein \n– 12h30 et 17h : les crémants : clés de compréhension de leur minéralité & accords avec les fromages avec David Lefebvre \n– 15h : les meilleurs accords entre les vins bio d’Alsace et les plats végétariens avec David Lefebvre \n… \nJean-Baptiste Klein est Meilleur Ouvrier de France et le sommelier 2024 du Gault&Millau. Aujourd’hui chef sommelier du Chambard\, à Kaysersberg\, il vous propose un atelier sur la géosensorialité pour gouter comment le vin raconte le terroir sur lequel pousse la vigne. \nDavid Lefebvre\, journaliste spécialisé en œnologie vous propose deux ateliers accords mets/vins qui vous donneront les clés de compréhension pour reproduire les accords parfaits à la maison. \n… \nToute la journée :  \nDes ateliers sur la biodiversité dans le vignoble et les murets en pierres sèches avec Claudia Caridi\, Chargée de mission Natura 2000 au Parc Naturel des Ballons des Vosges et Anthony Le Roux\, murailler en Alsace ainsi que la LPO Alsace. \nUne sélection spéciale de 40 ouvrages sur le vin sera aussi proposé par Le Chat Perché. \nVenez nous poser vos questions pour reconnaitre les différents logos et comprendre ce qu’est l’Agriculture Biologique ! \n  \nEntrée payante (Préventes conseillées :  ICI) \nPlus d’infos : Lucie PIERRE : lucie.pierre@biograndest.org \n06 41 56 94 56 \nProgramme :
URL:https://biograndest.org/evenement/20eme-rdv-vignerons-bio-alsace/
LOCATION:Foire Eco Bio de Colmar\, Av. de la Foire aux Vins\, COLMAR\, 68000\, France
CATEGORIES:Alsace,Bon Bien Bio,Consommateurs,Evènement
ATTACH;FMTTYPE=image/png:https://biograndest.org/wp-content/uploads/2024/03/rdv-vigneronsbioalsace24-web.png
END:VEVENT
BEGIN:VEVENT
DTSTART;TZID=Europe/Paris:20240515T183000
DTEND;TZID=Europe/Paris:20240515T203000
DTSTAMP:20260419T202700
CREATED:20240426T073443Z
LAST-MODIFIED:20240426T073515Z
UID:19056-1715797800-1715805000@biograndest.org
SUMMARY:Réunion d'information: tester son projet agricole avant de s'installer en Grand Est
DESCRIPTION:Vous avez un projet agricole et souhaitez tester votre activité avant de vous installer ? \nVous cherchez à en savoir plus sur le dispositif espace-test ?  \nLe test d’activité agricole permet de démarrer son activité de production\, en responsabilité\, dans un cadre sécurisé\, tout en étant accompagné. \nCette visioconférence permettra de présenter le dispositif alsacien\, ainsi que ceux du Grand Est\, les partenaires impliqués\, les objectifs du test d’activités agricoles et les démarches à entreprendre pour entrer en test. \nTélécharger le flyer de l’événement.\n \nÉvènement gratuit sur inscription par mail à :  \nkim.stoeckel@biograndest.org
URL:https://biograndest.org/evenement/reunion-dinformation-tester-son-projet-agricole-avant-de-sinstaller-en-grand-est/
LOCATION:en visioconférence
CATEGORIES:Animation,Evènement
ATTACH;FMTTYPE=image/jpeg:https://biograndest.org/wp-content/uploads/2024/04/visio-espace-test.jpg
END:VEVENT
BEGIN:VEVENT
DTSTART;TZID=Europe/Paris:20240517T203000
DTEND;TZID=Europe/Paris:20240517T230000
DTSTAMP:20260419T202700
CREATED:20240417T113709Z
LAST-MODIFIED:20240424T071713Z
UID:18834-1715977800-1715986800@biograndest.org
SUMMARY:Concert à l'InvenTerre - Witness
DESCRIPTION:Dans le cadre du printemps Bio\, l’InvenTerre du Pré Vert vous propose une soirée musicale. \nVenez le 17 mai 2024 à l’InvenTerre du Pré Vert pour une soirée musicale et conviviale avec le groupe Witness. De plus le concert sera souligné avec des boissons et une restauration 100% Bio\, entrée gratuite ! \nL’InvenTerre du Pré Vert est un association qui gère la vente de produits Bio et locaux au sein de son local de vente associatif. \nAussi l’association propose des animations ainsi que des rencontres sur le thème du  »Consommons autrement ». \nRendez-vous 26 rue Bernard DuFort\, DIEUZE \nPour retrouver toutes les offres du Printemps Bio\, rendez vous sur https://openagenda.com/fr/printemps-bio-2024.
URL:https://biograndest.org/evenement/concert-a-linventerre-witness/
LOCATION:Dieuze (57)\, 26 rue Bernard Durfort\, Dieuze\, Moselle\, 57260\, France
CATEGORIES:Bon Bien Bio,Consommateurs,Evènement,Moselle
ATTACH;FMTTYPE=image/png:https://biograndest.org/wp-content/uploads/2024/04/capture-decran-2024-04-17-134234.png
END:VEVENT
BEGIN:VEVENT
DTSTART;TZID=Europe/Paris:20240522T143000
DTEND;TZID=Europe/Paris:20240522T163000
DTSTAMP:20260419T202700
CREATED:20240417T113646Z
LAST-MODIFIED:20240515T122223Z
UID:18849-1716388200-1716395400@biograndest.org
SUMMARY:Visite de la biodiversité au jardin et au rucher
DESCRIPTION:Dans le cadre du Printemps Bio\, le rucher du marcassin vous accueille pour une visite au rucher et dans le jardin de plantes aromatiques et médicinales. \nAu cours de la visite\, vivez avec les abeilles et apprenez toutes les explications concernant leur vie et comment les protéger. \nAprès la rencontre des abeilles\, partez à la rencontre de tous les pollinisateurs du jardin. En fin de visite\, une dégustation vous attend. \nTarif réduit pour la journée de la biodiversité : 3€/personne\nRéservation obligatoire sur le site lerucherdumarcassin.fr \nRendez-vous le 22 mai au rucher du marcassin Rue de la place\, 08220 Seraincourt. \nTélécharger l’affiche de l’événement. \nPour retrouver tous les événements du Printemps Bio\, rendez-vous sur https://openagenda.com/fr/printemps-bio-2024.
URL:https://biograndest.org/evenement/visite-de-la-biodiversite-au-jardin-et-au-rucher/
LOCATION:Séraincourt (08)\, France
CATEGORIES:Ardennes,Biodiversité,Bon Bien Bio
ATTACH;FMTTYPE=image/png:https://biograndest.org/wp-content/uploads/2024/04/capture-decran-2024-04-17-094757.png
ORGANIZER;CN="Rucher du marcassin":MAILTO:lerucherdumarcassin@hotmail.fr
END:VEVENT
BEGIN:VEVENT
DTSTART;TZID=Europe/Paris:20240523T180000
DTEND;TZID=Europe/Paris:20240523T210000
DTSTAMP:20260419T202700
CREATED:20240521T122334Z
LAST-MODIFIED:20240521T122334Z
UID:19188-1716487200-1716498000@biograndest.org
SUMMARY:Découvrez une nouvelle bière bio !
DESCRIPTION:Les brasseries La Grenaille et La Tumulte ont brassé ensemble une nouvelle bière bio\, cette soirée est l’occasion de la découvrir. \nA l’occasion de la sortie de la bière « Schlott »\, le bar associatif Un peu de piment vous invite à une soirée brassicole.\nEn toute convivialité\, venez déguster cette nouvelle bière.\nAu programme de cette soirée :\n– une expo sur la bière et les brasseries\n– une discussion avec les brasseurs et brasseuses bio \nPour retrouver toutes les offres du Printemps Bio\, rendez vous sur https://openagenda.com/fr/printemps-bio-2024.
URL:https://biograndest.org/evenement/decouvrez-une-nouvelle-biere-bio/
LOCATION:Moyen (54)\, rue du Presbytère\, Moyen\, 54118
CATEGORIES:Animation,Bon Bien Bio,Meurthe-et-Moselle
ATTACH;FMTTYPE=image/png:https://biograndest.org/wp-content/uploads/2024/05/soireeschlott-2.png
END:VEVENT
BEGIN:VEVENT
DTSTART;TZID=Europe/Paris:20240524T160000
DTEND;TZID=Europe/Paris:20240524T193000
DTSTAMP:20260419T202700
CREATED:20240424T071218Z
LAST-MODIFIED:20240424T083016Z
UID:18978-1716566400-1716579000@biograndest.org
SUMMARY:Marché bio - ventes de plants de légumes & d’aromates
DESCRIPTION:Dans le cadre du Printemps Bio\, \nles producteurs Bio locaux du marché du Boulingrin vous proposent des plants de légumes et d’aromates à repiquer chez vous. \nDes variétés classiques aux variétés anciennes\, le choix sera varié ! \nNous serons également présent pour répondre à toutes vos questions. \nRendez-vous le 24 mai de 16h à 19h30 dans Halles centrales du Boulingrin – Reims 51454 \nPour retrouver toutes les offres du Printemps Bio\, rendez vous sur https://openagenda.com/fr/printemps-bio-2024.
URL:https://biograndest.org/evenement/marche-bio-ventes-de-plants-de-legumes-daromates-2/
LOCATION:aux Halles du Boulingrin\, REIMS (51)
CATEGORIES:Bon Bien Bio,Evènement,Marne
ATTACH;FMTTYPE=image/png:https://biograndest.org/wp-content/uploads/2024/04/capture-decran-2024-04-23-115150.png
ORGANIZER;CN="Association du march%C3%A9":MAILTO:Arbressences@gmail.com
END:VEVENT
BEGIN:VEVENT
DTSTART;TZID=Europe/Paris:20240524T160000
DTEND;TZID=Europe/Paris:20240524T200000
DTSTAMP:20260419T202700
CREATED:20240522T080211Z
LAST-MODIFIED:20240522T080211Z
UID:19204-1716566400-1716580800@biograndest.org
SUMMARY:Le Marché Bio d’Épinal
DESCRIPTION:Découvrez un marché 100% Local 100% Bio 100% Paysan ! \nLe Marché des Paysans Bio se tient au port d’Épinal les vendredis des semaines impaires à partir de 16h. Il ferme à 20h en période estivale et à 19h en période hivernale.\nProfitez du Printemps Bio pour le découvrir. Vous y rencontrez des producteurs bio passionnés et passionnants. Ils vous proposent une belle diversité de produits bio locaux et de saisons ! \n  \nPour retrouver toutes les offres du Printemps Bio\, rendez vous sur https://openagenda.com/fr/printemps-bio-2024. \n 
URL:https://biograndest.org/evenement/le-marche-bio-depinal/
LOCATION:Prot d’Epinal (88)
CATEGORIES:Animation,Bon Bien Bio,Consommateurs,Vosges
ATTACH;FMTTYPE=image/jpeg:https://biograndest.org/wp-content/uploads/2024/05/marcheepinal.jpg
END:VEVENT
BEGIN:VEVENT
DTSTART;TZID=Europe/Paris:20240524T160000
DTEND;TZID=Europe/Paris:20240524T200000
DTSTAMP:20260419T202700
CREATED:20240522T101524Z
LAST-MODIFIED:20240522T103858Z
UID:19219-1716566400-1716580800@biograndest.org
SUMMARY:Marché bio & concert de Morik
DESCRIPTION:Découvrez à la fois le marché des producteurs bio et Morik qui nous emmènera dans un voyage musical caribéen aux accents reggae\, ragga et gwoka. \n16h-20h • Marché bio local\nPourquoi sont-ils là ? Pour vous nourrir avec leurs meilleurs produits bio et locaux. \n17h45-18h30 • Morik (solo)\nCroisière pour les Caraïbes\, passeport pour le lâcher prise ! \nCe marché se tient tous les vendredi ! \nPour retrouver toutes les offres du Printemps Bio\, rendez vous sur https://openagenda.com/fr/printemps-bio-2024.
URL:https://biograndest.org/evenement/marche-bio-concert-de-morik/
LOCATION:47 Boulevard d’Austrasie – Nancy (54)
CATEGORIES:Animation,Bon Bien Bio,Meurthe-et-Moselle
ATTACH;FMTTYPE=image/png:https://biograndest.org/wp-content/uploads/2024/05/autre-marche.png
END:VEVENT
BEGIN:VEVENT
DTSTART;TZID=Europe/Paris:20240524T210000
DTEND;TZID=Europe/Paris:20240524T230000
DTSTAMP:20260419T202700
CREATED:20240522T072937Z
LAST-MODIFIED:20240522T072937Z
UID:19193-1716584400-1716591600@biograndest.org
SUMMARY:Soirées conviviales
DESCRIPTION:L’espace culture associatif le Cotylédon vous propose des soirées conviviales autour de produits bio locaux. \n\nLe Cotylédon est un espace pour se retrouver\, un lieu de concert et un endroit où on peut venir refaire le monde autour d’une bière ou d’un jus de pommes\, d’un café conscient de l’environnement dans lequel il se trouve avec une offre de produits bio locaux.\nAlors pourquoi ne pas profitez du Printemps Bio pour découvrir ce lieu et des produits bio ! \nAu programme :\nVendredi 24 mai – 21h : concert collectif NOS (chanson française)\nSamedi 1er juin – 21h : soirée stand up\nVendredi 7 juin – 21h : concert Nicky’s Celtic side (irish)\nJeudi 27 juin – 21h : concert Nadéah (Australie) \n\nTous les évènements sont à prix libre\, « au chapeau » \nPour retrouver toutes les offres du Printemps Bio\, rendez vous sur https://openagenda.com/fr/printemps-bio-2024.
URL:https://biograndest.org/evenement/soirees-conviviales/
LOCATION:Le Cotylédon\, rue du Maréchal Foch\, Phalsbourg (57)
CATEGORIES:Animation,Bon Bien Bio,Moselle
ATTACH;FMTTYPE=image/jpeg:https://biograndest.org/wp-content/uploads/2024/05/cotyledon.jpg
END:VEVENT
BEGIN:VEVENT
DTSTART;TZID=Europe/Paris:20240525T090000
DTEND;TZID=Europe/Paris:20240525T180000
DTSTAMP:20260419T202700
CREATED:20240416T051059Z
LAST-MODIFIED:20240417T095554Z
UID:18709-1716627600-1716660000@biograndest.org
SUMMARY:Journée portes ouvertes : découverte d'un pépinière BIO et locale !
DESCRIPTION:Dans le cadre du printemps Bio\, \nLa pépinière du Hanfgranva propose une journée portes ouvertes durant laquelle vous aurez l’occasion de faire la découverte d’une pépinière labellisée. \nVous verrez aussi l’agriculture biologique de conservation des sols et la production\, pour l’essentiel des plants destinés aux haies champêtres\, fruitières et jardin-forêts. \nDe plus\, adultes\, enfants et animaux sont les bienvenus. \nRendez vous le 25 Mai de 9h à 18h à la pépinière du Hanfgranva ! \nRue de Sélestat\, Mussig \nPour retrouver toutes les offres du Printemps Bio\, rendez vous sur https://openagenda.com/fr/printemps-bio-2024.
URL:https://biograndest.org/evenement/journee-portes-ouvertes-decouverte-dun-pepiniere-bio-et-locale/
LOCATION:Mussig 67\, rue de Sélestat\, Mussig\, Alsace\, 67600\, France
CATEGORIES:Alsace,Bon Bien Bio,Consommateurs,Evènement
ATTACH;FMTTYPE=image/png:https://biograndest.org/wp-content/uploads/2024/04/capture-decran-2024-04-09-095414.png
ORGANIZER;CN="EARL les jardins Hanfgranva":MAILTO:contact@pepiniere-hanfgranva.fr
END:VEVENT
BEGIN:VEVENT
DTSTART;TZID=Europe/Paris:20240525T133000
DTEND;TZID=Europe/Paris:20240525T170000
DTSTAMP:20260419T202700
CREATED:20240424T064417Z
LAST-MODIFIED:20240424T064417Z
UID:18966-1716643800-1716656400@biograndest.org
SUMMARY:Une Escale au jardin
DESCRIPTION:Dans le cadre du Printemps\, \nL’Association Escale vous propose une après-midi pour comprendre le label Bio\, visitez les productions et profitez d’un marché de producteurs Bio et locaux\, au programme : \n\nLe Bio Kézako ?\nQu’est ce qui se cache derrière le logo AB et tour du jardin\nA la découverte de no productions\, marché de producteurs Bio et locaux\, gourmandise assurée !\n\nVous n’êtes pas mobile ? Contactez nous pour organiser votre déplacement jusqu’au jardin ! (jardin-assoescale@outlook.com) \nRendez-vous le 25 mai de 13h30 à 17h à l’Association Escale \nRue de la Voivre 88800 VITTEL \nPour retrouver toutes les offres du Printemps Bio\, rendez vous sur https://openagenda.com/fr/printemps-bio-2024.
URL:https://biograndest.org/evenement/une-escale-au-jardin/
LOCATION:Vittel (88)
CATEGORIES:Animation,Bon Bien Bio,Evènement,Vosges
ATTACH;FMTTYPE=image/png:https://biograndest.org/wp-content/uploads/2024/04/capture-decran-2024-04-23-114113.png
ORGANIZER;CN="Association Escale":MAILTO:jardin-assoescale@outlook.com
END:VEVENT
BEGIN:VEVENT
DTSTART;TZID=Europe/Paris:20240525T140000
DTEND;TZID=Europe/Paris:20240525T220000
DTSTAMP:20260419T202700
CREATED:20240517T123346Z
LAST-MODIFIED:20240517T124059Z
UID:19172-1716645600-1716674400@biograndest.org
SUMMARY:Mirabio fête ces 10 ans !
DESCRIPTION:La SCIC MIRABIO (fruits de saison et transformation)\, membre du colecosol\, fête ses 10 ans avec de nombreuses surprises le samedi 25 mai. \nDe 14h et 18h\, de nombreuses animations pour les petits et les grands\, \n14h30-15h30\, présentation de la monnaie locale Le Florain\, \n16h-18h; causerie : Paysannerie et collectif \nRestauration sur place le soir à prix libre\, buvette\, concerte et soirée festive ! \n  \nPour retrouver toutes les offres du Printemps Bio\, rendez vous sur https://openagenda.com/fr/printemps-bio-2024.
URL:https://biograndest.org/evenement/mirabio-fete-ces-10-ans/
LOCATION:Vigneulles les Hattonchatel (55)
CATEGORIES:Animation,Bon Bien Bio,Meuse
ATTACH;FMTTYPE=image/jpeg:https://biograndest.org/wp-content/uploads/2024/05/mirabio-fete-ses-10-ans.jpg
END:VEVENT
BEGIN:VEVENT
DTSTART;TZID=Europe/Paris:20240526T100000
DTEND;TZID=Europe/Paris:20240526T170000
DTSTAMP:20260419T202700
CREATED:20240402T115634Z
LAST-MODIFIED:20240514T081622Z
UID:18679-1716717600-1716742800@biograndest.org
SUMMARY:Fête de la Bio à Tours-sur-Marne 2024
DESCRIPTION:Bio de la Marne organise sa deuxième Fête de la Bio\, le dimanche 26 mai 2024 à Tours-sur-Marne dans le cadre du Printemps Bio. \nL’occasion de faire la promotion de l’agriculture biologique et de ses valeurs auprès des consommateurs lors d’une journée conviviale. \nPour s’y rendre. \nAu programme : \nConférence à 10 h 30 « Et si nous pouvions cultiver l’eau ? » avec Samuel BONVOISIN \nAtelier : « Pratique\, découverte de la sophrologie caycédienne » pour adultes à partir de 18 ans à 10h30 – Pré-inscription : agrobio51@biograndest.org (animation gratuite) \nAtelier : « Venez composer votre propre bouquet pour la fête des Mères ! » à 10h30\nPré-inscription : agrobio51@biograndest.org (animation gratuite) >>les pré-inscrits seront prioritaires ! \nMarché de producteurs Bio locaux : \n\nHélène Gille : Champignons\nPierre-Edouard Schadeck : Légumes & Farines\nFabien Billette : Pains\, pains d’épices\nMickael Coffinet : Tisanes\, sirops\, compléments alimentaires\nPierre Ferté : Miels et produits de la ruche\nArmelle Targy : Fromages au lait de chèvre et brebis\nKévin Dez : poulets\, pâtés croute de volaille\, terrines et rillettes de volailles\nLes producteurs de lentillons : lentillons\, lentilles beluga\, pois chiches\nBrasserie B51 : bières bio\n\nListe des exposants Bien-être : \n\nBoutique Graine de lumière : https://www.graine2lumiere.fr/\nCrystel Colin Bontemps\, sophrologue\nFlorine Gobillard\, kinésiologue\nChristian Miel\, massages aux bols tibétains\,\nAstrid Marc Grillon\, massage des 5 continents\, réflexologie\n\n– Buvette Bio \n– Restauration sur place\n– Ateliers : Nombreux ateliers bien-être en bord de Marne (massages\, relaxation…)\n– Bourse aux plantes\n– Participation du comité des fêtes\, de la mairie et de la Société de la musique de Tours sur Marne\, du CIVAM de l’OASIS\, l’AMAP d’Ay\, la LPO Champagne-Ardenne et de l’Association des Champagnes Biologiques\n– Activités pour enfants \nRendez-vous : Itinéraire Google Maps à Tours-sur-Marne de 10h à 17h le 26 mai 2024 \nContact organisation et informations : \nPauline BOGE\, animatrice de Bio de la Marne : agrobio51@biograndest.org – 06 66 64 49 10
URL:https://biograndest.org/evenement/fete-bio-tours-sur-marne2024/
LOCATION:Tours sur Marne
CATEGORIES:Bon Bien Bio,Consommateurs,Marne
ATTACH;FMTTYPE=image/png:https://biograndest.org/wp-content/uploads/2024/04/affiche-fete-bio-tours-sur-marne-2024-web.png
END:VEVENT
BEGIN:VEVENT
DTSTART;TZID=Europe/Paris:20240527T090000
DTEND;TZID=Europe/Paris:20240611T173000
DTSTAMP:20260419T202700
CREATED:20240426T141244Z
LAST-MODIFIED:20240926T141511Z
UID:19851-1716800400-1718127000@biograndest.org
SUMMARY:Formation : structurer et développer les ventes en demi-gros
DESCRIPTION:Cette formation a pour objectif de permettre à ces productrices et producteurs de plantes aromatiques et médicinales de savoir définir leur proposition de valeur en bénéficiant d’un socle identitaire\, de savoir structurer leur démarche commerciale et les process associés et être en mesure d’élaborer un plan d’action commercial pertinent pour le débouché ciblé. \nPublic visé :\nAgricultrices et agriculteurs en Plantes à Parfums Aromatiques et Médicinales \nEn Région Grand-Est\, les porteurs de projets et nouveaux installés sont nombreux\, les circuits courts semblent presque saturés dans certaines zones\, des producteurs constatent qu’ils ne sont pas en mesure de répondre à toutes les sollicitations\, et une demande pour le demi-gros existe.\nLes productrices et producteurs de plantes aromatiques et médicinales – culture et cueillette – souhaitent se former pour être capable d’apporter une réponse à de nouveaux débouchés ou aux sollicitations qui ne sont pas pourvues actuellement\, et ainsi de s’organiser\, de construire un plan d’action commerciale et rédiger un process reproductible. \nIntervenant William MAIRESSE\, formateur Haut Les Courts! \nHaut les Courts ! | Pour des circuits courts rémunérateurs ! \n27/05/2024 et 11/06/2024 à Nancy – Bio en Grand-Est – Espace Picardie – Avenue de l’Europe – 54520 LAXOU \nProgramme ICI \nInscriptions et informations : carole.tonin@biograndest.org / 0769230791 \n 
URL:https://biograndest.org/evenement/formation-structurer-et-developper-les-ventes-en-demi-gros/
LOCATION:BIO EN GRAND-EST\, ESPACE PICARDIE - AVenue de l'Europe\, LAXOU\, 54520\, France
CATEGORIES:Filières,Formation
ATTACH;FMTTYPE=image/jpeg:https://biograndest.org/wp-content/uploads/2024/06/ppam-bio.jpg
END:VEVENT
BEGIN:VEVENT
DTSTART;TZID=Europe/Paris:20240528T093000
DTEND;TZID=Europe/Paris:20240528T120000
DTSTAMP:20260419T202700
CREATED:20240503T084633Z
LAST-MODIFIED:20240503T090928Z
UID:19097-1716888600-1716897600@biograndest.org
SUMMARY:Vignes Bio Ouvertes : Les couverts végétaux en viticulture Biologique
DESCRIPTION:Porteurs de projet\, viticulteurs soucieux de votre impact environnemental\, vous êtes conviés pour un échange sur la viticulture bio. \nDans le cadre du projet de structuration de la filière Champagne Biologique\, l’ensemble des partenaires vous invite à une matinée d’échanges autour de la viticulture biologique : \nLes couverts végétaux en viticulture biologique \nmardi 28 mai 2024 à 9h30 \nAvec Baptiste et Gaël DEKEYNE \nProgramme de la matinée (à partir de 9h30) \n\nEnjeux de la viticulture bio sur la protection de la ressource en eau\nPoint sur la réglementation de la viticulture bio\nPrésentation de la filière\nPrésentation du domaine et visite de parcelles\nTemps d’échange\n\nRDV : \nDomaine DEKEYNE et Fils \nFerme de la Voglonière \n51260 BETHON \nPoint GPS : 48\,609591\, 3\,634011 \nTélécharger l’invitation ICI \nInscription obligatoire auprès d’Émilie BROST : emilie.brost@biograndest.org – 06 40 79 06 60
URL:https://biograndest.org/evenement/vignes-bio-ouvertes-le-travail-du-sol-en-viticulture-biologique/
LOCATION:Domaine DEKEYNE\, Ferme de la Voglonière\, BETHON\, Sélectionner un État :BETHON\, 51260\, France
CATEGORIES:Animation,Champagne,Filières,Marne,Techniques
ATTACH;FMTTYPE=image/jpeg:https://biograndest.org/wp-content/uploads/2021/02/conversion-viti-bio.jpg
END:VEVENT
BEGIN:VEVENT
DTSTART;TZID=Europe/Paris:20240531T160000
DTEND;TZID=Europe/Paris:20240531T193000
DTSTAMP:20260419T202700
CREATED:20240424T071003Z
LAST-MODIFIED:20240424T071003Z
UID:18987-1717171200-1717183800@biograndest.org
SUMMARY:Marché bio - Fête des boissons aromatiques
DESCRIPTION:Dans le cadre du Printemps Bio\, \nVenez appréhender l’été et les apéros ! \nLes producteurs du marché Bio vous dévoilent des recettes à base de plantes locales : fleur de sureau\, coquelicot\, verveine ou menthe ? Les idées pétillent et infusent pour vous offrir fraîcheur et originalité ! \nPlutôt fruité ou fleuri ? Venez le découvrir le 31 mai de 16h à 19h30 au Halles centrales du Boulingrin – Reims 51454 \nPour retrouver toutes les offres du Printemps Bio\, rendez vous sur https://openagenda.com/fr/printemps-bio-2024. \n 
URL:https://biograndest.org/evenement/marche-bio-fete-des-boissons-aromatiques/
LOCATION:aux Halles du Boulingrin\, REIMS (51)
CATEGORIES:Bon Bien Bio,Evènement,Marne
ATTACH;FMTTYPE=image/png:https://biograndest.org/wp-content/uploads/2024/04/capture-decran-2024-04-23-120558.png
ORGANIZER;CN="Association du march%C3%A9":MAILTO:Arbressences@gmail.com
END:VEVENT
BEGIN:VEVENT
DTSTART;TZID=Europe/Paris:20240531T203000
DTEND;TZID=Europe/Paris:20240531T230000
DTSTAMP:20260419T202700
CREATED:20240424T072205Z
LAST-MODIFIED:20240424T072205Z
UID:19007-1717187400-1717196400@biograndest.org
SUMMARY:Concert à l'InvenTerre - Vincent FOINANT
DESCRIPTION:Dans le cadre du Printemps Bio\, \nL’Inventerre du Pré Vert\, en qualité d’association qui gère la vente de produits Bio locaux au sein de son local de vente associatif\, propose des animations et des rencontres autour du  »consommons autrement ». \nUne soirée musicale et conviviale vous est proposée avec comme invité spécial\, Vincent Foinant (chanteur\, choriste\, bassiste…). \nDe plus le concert est avec boissons et restauration 100% bio et locale. Entrée gratuite\, au chapeau. \nRendez-vous le 31 mai de 20h30 à 23h à l’InvenTerre du Pré Vert \, 26 rue Bernard DuFort\, \nDIEUZE 57260 \nPour retrouver toutes les offres du Printemps Bio\, rendez vous sur https://openagenda.com/fr/printemps-bio-2024.
URL:https://biograndest.org/evenement/concert-a-linventerre-vincent-foinant/
LOCATION:Dieuze (57)
CATEGORIES:Bon Bien Bio,Evènement,Moselle
ATTACH;FMTTYPE=image/png:https://biograndest.org/wp-content/uploads/2024/04/capture-decran-2024-04-24-091623.png
ORGANIZER;CN="InvenTerre du Pr%C3%A9 Vert":MAILTO:contact.linventerre@mailo.com
END:VEVENT
END:VCALENDAR