BEGIN:VCALENDAR
VERSION:2.0
PRODID:-//Bio Grand Est - ECPv6.15.14//NONSGML v1.0//EN
CALSCALE:GREGORIAN
METHOD:PUBLISH
X-WR-CALNAME:Bio Grand Est
X-ORIGINAL-URL:https://biograndest.org
X-WR-CALDESC:Évènements pour Bio Grand Est
REFRESH-INTERVAL;VALUE=DURATION:PT1H
X-Robots-Tag:noindex
X-PUBLISHED-TTL:PT1H
BEGIN:VTIMEZONE
TZID:Europe/Paris
BEGIN:DAYLIGHT
TZOFFSETFROM:+0100
TZOFFSETTO:+0200
TZNAME:CEST
DTSTART:20230326T010000
END:DAYLIGHT
BEGIN:STANDARD
TZOFFSETFROM:+0200
TZOFFSETTO:+0100
TZNAME:CET
DTSTART:20231029T010000
END:STANDARD
BEGIN:DAYLIGHT
TZOFFSETFROM:+0100
TZOFFSETTO:+0200
TZNAME:CEST
DTSTART:20240331T010000
END:DAYLIGHT
BEGIN:STANDARD
TZOFFSETFROM:+0200
TZOFFSETTO:+0100
TZNAME:CET
DTSTART:20241027T010000
END:STANDARD
BEGIN:DAYLIGHT
TZOFFSETFROM:+0100
TZOFFSETTO:+0200
TZNAME:CEST
DTSTART:20250330T010000
END:DAYLIGHT
BEGIN:STANDARD
TZOFFSETFROM:+0200
TZOFFSETTO:+0100
TZNAME:CET
DTSTART:20251026T010000
END:STANDARD
END:VTIMEZONE
BEGIN:VEVENT
DTSTART;TZID=Europe/Paris:20240701T183000
DTEND;TZID=Europe/Paris:20240701T203000
DTSTAMP:20260419T171502
CREATED:20240626T063949Z
LAST-MODIFIED:20240626T064129Z
UID:19420-1719858600-1719865800@biograndest.org
SUMMARY:Marché estival bio local artisanal à Le Tholy
DESCRIPTION:Tous les lundis de Juillet et Août de 18h00 à 20h30Producteurs Bio LocauxBuvette et petite restauration\, Animations\, Artisans \n\nLe marché BIO LOCAL estival de Le Tholy nouvelle formule ! \n\n\nPour la quatrième année consécutive\, la commune de Le Tholy organisera cet été son marché BIO LOCAL. Celui-ci se déroulera désormais tous les lundis de juillet et août de 18h00 à 20h30 sur la toute nouvelle place du village qui se situe devant l’église et qui offre une vue magnifique sur la vallée de la Cleurie et les alentours. \n\n\n\nLe marché garde son identité et sa volonté de soutenir les producteurs et artisans du coin qui s’engagent dans une démarche durable\, respectueuse de l’Humain et de l’environnement\, en proposant des produits BIO LOCAUX de qualité. Cette année\, le Groupement des Agriculteurs Bio des Vosges (GAB 88) parraine le marché et salue ainsi le travail des organisateurs et des producteurs pour proposer dans la régularité cette offre alimentaire et artisanale de qualité et du territoire.\n\n\n\nDurant tout l’été\, Cafrancs et touristes pourront y trouver fromages \, œufs \, fruits  et légumes \, glaces \, plantes aromatiques et médicinales \, bières et boissons fraîches \, pâtes\, pains \, une petite restauration  et bien d’autres choses encore… bref\, tout ce dont on a besoin pour cuisiner sainement tout en préservant l’environnement et en soutenant les acteurs du territoire \, le tout aux prix directs producteurs !\n\n\n\nCe marché se veut aussi festif et convivial \, sur cette toute nouvelle place\, nouveau cœur battant du village où\, nous l’espérons\, les citoyens auront plaisir à se retrouver et échanger entre eux mais aussi avec les producteurs et artisans.\nPour favoriser ces rencontres\, un espace buvette sera organisé par des bénévoles et des animations seront également proposées tout au long de l’été.\n\n\nDernière nouveauté\, le marché invitera également chaque semaine 2 ou 3 artistes ou artisans locaux à venir présenter leurs réalisations\, pour ajouter du beau au bon !\n\n\n\nProducteurs présents tous les lundis soirs :\nFan de Colimont – Pâtes fraîches et sèches\nChapeau de Paille et Bottes de Pluie – Tisanes\, aromates\, condiments confitures\, gelées\, sirops\, biscuits salés et sucrés\nFerme du Hazard – Légumes\, fruits\, glaces\, confitures\, sirops\nLa ferme BIO du Faing la Biche – Oeufs\nFerme du Fossard – Produits laitiers chèvre et vache\n829 Savonnerie\, Teinture et Impression végétales – Savons\, cosmétiques\, laine\nLe Pain des Hauts – Fournil Ambulant – Pains\nChévrerie Du Grand Rouillier – Produits laitiers chèvre\nBrasserie de Quat’Sous – Bières et Kombucha (boisson fermentée)\nFood is not dead – Petite restauration sur place ou à emporter\nLa meule de la cave – Affuteur
URL:https://biograndest.org/evenement/marche-estival-bio-local-artisanal-a-le-tholy/
LOCATION:LE THOLY\, Place de l'Eglise\, LE THOLY\, 88530\, France
CATEGORIES:Bon Bien Bio,Vosges
ATTACH;FMTTYPE=image/jpeg:https://biograndest.org/wp-content/uploads/2024/06/flyers-a5-le-tholy.jpg
END:VEVENT
BEGIN:VEVENT
DTSTART;TZID=Europe/Paris:20240702T140000
DTEND;TZID=Europe/Paris:20240702T160000
DTSTAMP:20260419T171502
CREATED:20240611T141540Z
LAST-MODIFIED:20240614T115435Z
UID:19293-1719928800-1719936000@biograndest.org
SUMMARY:Vignes Bio Ouvertes : Les Préparations Naturelles Peu Préoccupantes en viticulture Biologique
DESCRIPTION:Porteurs de projet\, viticulteurs soucieux de votre impact environnemental\, vous êtes conviés pour un échange sur la viticulture bio. \nDans le cadre du projet de structuration de la filière Champagne Biologique\, l’ensemble des partenaires vous invite à une matinée d’échanges autour de la viticulture biologique : \nLes Préparations Naturelles Peu Préoccupantes en viticulture biologique\nmardi 2 juillet 2024 à 14h\nAvec Alexandre Chaillon et Antoine Portaluri \nProgramme de l’après-midi (à partir de 14h) \n\nEnjeux de la viticulture bio sur la protection de la ressource en eau\nPoint technique et réglementaire sur les PNPP\nPrésentation de la filière champagne bio\nPrésentation du domaine\nTemps d’échange\n\nRDV : \n2 rue jules Lobbet\n51160 AY-CHAMPAGNE \nPoint GPS : 49.055256\, 4.005527 \nTélécharger l’invitation ICI \nInscription obligatoire auprès d’Émilie BROST : emilie.brost@biograndest.org – 06 40 79 06 60
URL:https://biograndest.org/evenement/vignes-bio-ouvertes-pnpp-en-viticulture-biologique/
LOCATION:Ay-Champagne (51)
CATEGORIES:Animation,Champagne,Filières,Marne,Techniques
ATTACH;FMTTYPE=image/jpeg:https://biograndest.org/wp-content/uploads/2023/10/soins-plantes-vignes.jpg
END:VEVENT
BEGIN:VEVENT
DTSTART;TZID=Europe/Paris:20240705T190000
DTEND;TZID=Europe/Paris:20240705T213000
DTSTAMP:20260419T171502
CREATED:20240619T135651Z
LAST-MODIFIED:20240625T060937Z
UID:19388-1720206000-1720215000@biograndest.org
SUMMARY:🎶 Guinguette Bio à Épinal 🎶
DESCRIPTION:Les producteurs du Marché Paysan Bio et Bio en Grand Est\, avec l’appui de la ville d’Épinal\, vous invitent à une soirée Guinguette le vendredi 5 juillet en parallèle du Marché Bio.\n\nVenez passer un moment agréable et danser au son du groupe BacPlus Zinc. Vous pourrez (re)découvrir les produits des paysans bio du marché autour d’assiettes apéro\, de douceurs sucrées et de boissons. D’autres animations vous seront proposées.\n\nLe marché débute à 16h.La Guinguette ouvrira à 19h jusqu’à 21h30.\nVenez nombreux !
URL:https://biograndest.org/evenement/%f0%9f%8e%b6-guinguette-bio-a-epinal-%f0%9f%8e%b6/
LOCATION:Port\, Epinal (88)
CATEGORIES:Bon Bien Bio,Evènement,Vosges
ATTACH;FMTTYPE=image/jpeg:https://biograndest.org/wp-content/uploads/2024/06/guinguette88.jpg
END:VEVENT
BEGIN:VEVENT
DTSTART;TZID=Europe/Paris:20240708T183000
DTEND;TZID=Europe/Paris:20240708T203000
DTSTAMP:20260419T171502
CREATED:20240626T064010Z
LAST-MODIFIED:20240626T064215Z
UID:19427-1720463400-1720470600@biograndest.org
SUMMARY:Marché estival bio local artisanal à Le Tholy
DESCRIPTION:Tous les lundis de Juillet et Août de 18h00 à 20h30Producteurs Bio LocauxBuvette et petite restauration\, Animations\, Artisans \n\nLe marché BIO LOCAL estival de Le Tholy nouvelle formule ! \n\n\nPour la quatrième année consécutive\, la commune de Le Tholy organisera cet été son marché BIO LOCAL. Celui-ci se déroulera désormais tous les lundis de juillet et août de 18h00 à 20h30 sur la toute nouvelle place du village qui se situe devant l’église et qui offre une vue magnifique sur la vallée de la Cleurie et les alentours. \n\n\n\nLe marché garde son identité et sa volonté de soutenir les producteurs et artisans du coin qui s’engagent dans une démarche durable\, respectueuse de l’Humain et de l’environnement\, en proposant des produits BIO LOCAUX de qualité. Cette année\, le Groupement des Agriculteurs Bio des Vosges (GAB 88) parraine le marché et salue ainsi le travail des organisateurs et des producteurs pour proposer dans la régularité cette offre alimentaire et artisanale de qualité et du territoire.\n\n\n\nDurant tout l’été\, Cafrancs et touristes pourront y trouver fromages \, œufs \, fruits  et légumes \, glaces \, plantes aromatiques et médicinales \, bières et boissons fraîches \, pâtes\, pains \, une petite restauration  et bien d’autres choses encore… bref\, tout ce dont on a besoin pour cuisiner sainement tout en préservant l’environnement et en soutenant les acteurs du territoire \, le tout aux prix directs producteurs !\n\n\n\nCe marché se veut aussi festif et convivial \, sur cette toute nouvelle place\, nouveau cœur battant du village où\, nous l’espérons\, les citoyens auront plaisir à se retrouver et échanger entre eux mais aussi avec les producteurs et artisans.\nPour favoriser ces rencontres\, un espace buvette sera organisé par des bénévoles et des animations seront également proposées tout au long de l’été.\n\n\nDernière nouveauté\, le marché invitera également chaque semaine 2 ou 3 artistes ou artisans locaux à venir présenter leurs réalisations\, pour ajouter du beau au bon !\n\n\n\nProducteurs présents tous les lundis soirs :\nFan de Colimont – Pâtes fraîches et sèches\nChapeau de Paille et Bottes de Pluie – Tisanes\, aromates\, condiments confitures\, gelées\, sirops\, biscuits salés et sucrés\nFerme du Hazard – Légumes\, fruits\, glaces\, confitures\, sirops\nLa ferme BIO du Faing la Biche – Oeufs\nFerme du Fossard – Produits laitiers chèvre et vache\n829 Savonnerie\, Teinture et Impression végétales – Savons\, cosmétiques\, laine\nLe Pain des Hauts – Fournil Ambulant – Pains\nChévrerie Du Grand Rouillier – Produits laitiers chèvre\nBrasserie de Quat’Sous – Bières et Kombucha (boisson fermentée)\nFood is not dead – Petite restauration sur place ou à emporter\nLa meule de la cave – Affuteur
URL:https://biograndest.org/evenement/marche-estival-bio-local-artisanal-a-le-tholy-2/
LOCATION:LE THOLY\, Place de l'Eglise\, LE THOLY\, 88530\, France
CATEGORIES:Bon Bien Bio,Vosges
ATTACH;FMTTYPE=image/jpeg:https://biograndest.org/wp-content/uploads/2024/06/flyers-a5-le-tholy.jpg
END:VEVENT
BEGIN:VEVENT
DTSTART;TZID=Europe/Paris:20240709T140000
DTEND;TZID=Europe/Paris:20240709T160000
DTSTAMP:20260419T171502
CREATED:20240620T084034Z
LAST-MODIFIED:20240620T091037Z
UID:19397-1720533600-1720540800@biograndest.org
SUMMARY:Vignes Bio Ouvertes : le tressage\, une technique alternative au rognage
DESCRIPTION:Porteurs de projet\, viticulteurs soucieux de votre impact environnemental\, vous êtes conviés pour un échange sur la viticulture bio. \nDans le cadre du projet de structuration de la filière Champagne Biologique\, l’ensemble des partenaires vous invite à une matinée d’échanges autour de la viticulture biologique : \nLe tressage : technique alternative au rognage\nmardi 9 juillet 2024 à 14h\nAvec Thibault LEGRAND\, \nProgramme de l’après-midi (à partir de 14h) \n\nEnjeux de la viticulture bio sur la protection de la ressource en eau\nPoint technique et réglementaire sur la viticulture bio\nPrésentation de la technique du tressage\nPrésentation de la filière champagne bio\nTemps d’échange\n\nRDV : Vallée de la Marne\, entre Œuilly et Vandrière à confirmer \nTélécharger l’invitation ICI \nInscription obligatoire auprès d’Émilie BROST : emilie.brost@biograndest.org – 06 40 79 06 60
URL:https://biograndest.org/evenement/vignes-bio-ouvertes-le-tressage-une-technique-alternative-au-rognage/
CATEGORIES:Animation,Champagne,Filières,Marne,Techniques
ATTACH;FMTTYPE=image/jpeg:https://biograndest.org/wp-content/uploads/2024/06/tressage-viti-bio.jpg
END:VEVENT
BEGIN:VEVENT
DTSTART;TZID=Europe/Paris:20240709T140000
DTEND;TZID=Europe/Paris:20240709T160000
DTSTAMP:20260419T171502
CREATED:20250624T095833Z
LAST-MODIFIED:20250624T095833Z
UID:21973-1720533600-1720540800@biograndest.org
SUMMARY:Vignes Bio Ouvertes : le tressage\, une technique alternative au rognage
DESCRIPTION:Porteurs de projet\, viticulteurs soucieux de votre impact environnemental\, vous êtes conviés pour un échange sur la viticulture bio. \nDans le cadre du projet de structuration de la filière Champagne Biologique\, l’ensemble des partenaires vous invite à une matinée d’échanges autour de la viticulture biologique : \nLe tressage : technique alternative au rognage\nmardi 9 juillet 2024 à 14h\nAvec Thibault LEGRAND\, \nProgramme de l’après-midi (à partir de 14h) \n\nEnjeux de la viticulture bio sur la protection de la ressource en eau\nPoint technique et réglementaire sur la viticulture bio\nPrésentation de la technique du tressage\nPrésentation de la filière champagne bio\nTemps d’échange\n\nRDV : Vallée de la Marne\, entre Œuilly et Vandrière à confirmer \nTélécharger l’invitation ICI \nInscription obligatoire auprès d’Émilie BROST : emilie.brost@biograndest.org – 06 40 79 06 60
URL:https://biograndest.org/evenement/vignes-bio-ouvertes-le-tressage-une-technique-alternative-au-rognage-2/
CATEGORIES:Animation,Champagne,Filières,Marne,Techniques
ATTACH;FMTTYPE=image/jpeg:https://biograndest.org/wp-content/uploads/2024/06/tressage-viti-bio.jpg
END:VEVENT
BEGIN:VEVENT
DTSTART;TZID=Europe/Paris:20240710T090000
DTEND;TZID=Europe/Paris:20240710T120000
DTSTAMP:20260419T171502
CREATED:20240617T103848Z
LAST-MODIFIED:20240617T142735Z
UID:19331-1720602000-1720612800@biograndest.org
SUMMARY:Matinée Technique Bio
DESCRIPTION:Bio en Grand Est\, la chambre de l’agriculture vignobles champenois et le service technique du Comité Champagne CIVC vous invitent à une matinée Technique bio : \nQuels outils disponibles pour les exploitations qui souhaitent s’engager en bio ? \nLe mercredi 10 juillet à 9h \nau Vignoble expérimental de Plumecoq 51530 Chouilly\nCette matinée s’organise autour de différents ateliers : \n– Biodiversité : haies\, couverts végétaux \n– Protections fongicides : essais cuivre\, substances de base \n– Travail du sol \n– œnologie : bas intrants \n– Eco-conception des emballages \nInscription obligatoire  : https://forms.office.com/e/UgGdH1TJPH \nTélécharger l’invitation ICI \nInformations : Émilie BROST : emilie.brost@biograndest.org – 06 40 79 06 60
URL:https://biograndest.org/evenement/matinee-technique-bio/
LOCATION:CHOUILLY (51)
CATEGORIES:Animation,Champagne,Marne,Techniques
ATTACH;FMTTYPE=image/jpeg:https://biograndest.org/wp-content/uploads/2024/06/matinee-technique-bio-bge-civc.jpg
END:VEVENT
BEGIN:VEVENT
DTSTART;TZID=Europe/Paris:20240713T200000
DTEND;TZID=Europe/Paris:20240714T190000
DTSTAMP:20260419T171502
CREATED:20240613T142647Z
LAST-MODIFIED:20240701T063748Z
UID:19286-1720900800-1720983600@biograndest.org
SUMMARY:Fêtons la Bio à la Ferme du Hazard le 13 et le 14 juillet 2024
DESCRIPTION:Les producteurs de Bio des Vosges sont ravis de vous convier à l’événement Fêtons la Bio le 13 et 14 juillet 2024 à la Ferme du Hazard. \nCette année\, venez profiter dansez à la Ferme avec le bal Folk proposé par Trio JeanLo à 20H le samedi 13 juillet. Frères de scène\, les musiciens de Trio Jeanlo entretiennent un lien vivant avec la musique traditionnelle : compositions personnelles\, traditionnels réarrangés ou textes anciens chantés sur des mélodies originales. \nDimanche 14 juillet\, vous retrouverez de nombreuses animations tout public\, un marché bio local\, un concert ainsi qu’une buvette et restauration sur place. Au programme\, un événement convivial\, familial et dansant à ne pas manquer avec de nombreuses animations : \nMarché bio local de producteurs et d’artisans\nStands d’associations environnementalistes\nBuvette et restauration (gaspacho\, assiette de crudités\, pommes de terre\, burgers\, fromage\, tartes flambées\, sorbets\, …).\nAnimation musicale : Association Des TasdeRaisons\nJeux et animations pour les enfants et les plus grands !\n• Balades en ânes\n• Démonstration de poterie\n• Sens à Son\, fabrication d’objets sonores avec les éléments de la nature\n• Panier bio à gagner …venez en découvrir le prix\nProgramme des animations :\n10h30 Visite de la Ferme du Hazard (maraichage\, bovins\, volailles\, petits fruits\, et transformation à la ferme). Rendez-vous devant la ferme.\n11h00 Atelier compteur Geiger au stand de la CRIIRAD.\n14h00 Visite de la ferme du Hazard (maraichage\, bovins\, volailles\, petits fruits\, et transformation à la ferme). Rendez-vous devant la ferme.\n14h00 Découverte des petites bêtes de l’eau et de la qualité de l’eau : départs en groupe avec l’association ETC TERRA\n15h15 Découverte des petites bêtes de l’eau et de la qualité de l’eau : départs en groupe avec l’association ETC TERRA\n15h30 CONFÉRENCE : La gestion de l’eau au jardin avec Jacques BANVOY. La gestion de l’eau est un enjeu écologique majeur pour la planète ! Comment économiser l’eau tout en prenant soin des plantes du jardin ? Comment préserver les ressources en eau ? Chaque geste compte !\n16h00 Atelier mesure du radon au stand de la CRIIRAD.\n16h30 Découverte des petites bêtes de l’eau et de la qualité de l’eau : départs en groupe avec l’association ETC TERRA \nOn vous attend nombreux ! \n  \n 
URL:https://biograndest.org/evenement/fetons-la-bio-a-la-ferme-du-hazard-le-13-et-le-14-juillet-2024/
LOCATION:18 rue de la Fetelle\, 88430 Gerbepal\, 18 rue de la Fetelle\, Gerpebal\, 88340\, France
CATEGORIES:Bon Bien Bio,Vosges
ATTACH;FMTTYPE=image/jpeg:https://biograndest.org/wp-content/uploads/2024/06/affiche-fetonslabio-24-scaled.jpg
END:VEVENT
BEGIN:VEVENT
DTSTART;TZID=Europe/Paris:20240715T183000
DTEND;TZID=Europe/Paris:20240715T203000
DTSTAMP:20260419T171502
CREATED:20240626T064049Z
LAST-MODIFIED:20240626T064203Z
UID:19429-1721068200-1721075400@biograndest.org
SUMMARY:Marché estival bio local artisanal à Le Tholy
DESCRIPTION:Tous les lundis de Juillet et Août de 18h00 à 20h30Producteurs Bio LocauxBuvette et petite restauration\, Animations\, Artisans \n\nLe marché BIO LOCAL estival de Le Tholy nouvelle formule ! \n\n\nPour la quatrième année consécutive\, la commune de Le Tholy organisera cet été son marché BIO LOCAL. Celui-ci se déroulera désormais tous les lundis de juillet et août de 18h00 à 20h30 sur la toute nouvelle place du village qui se situe devant l’église et qui offre une vue magnifique sur la vallée de la Cleurie et les alentours. \n\n\n\nLe marché garde son identité et sa volonté de soutenir les producteurs et artisans du coin qui s’engagent dans une démarche durable\, respectueuse de l’Humain et de l’environnement\, en proposant des produits BIO LOCAUX de qualité. Cette année\, le Groupement des Agriculteurs Bio des Vosges (GAB 88) parraine le marché et salue ainsi le travail des organisateurs et des producteurs pour proposer dans la régularité cette offre alimentaire et artisanale de qualité et du territoire.\n\n\n\nDurant tout l’été\, Cafrancs et touristes pourront y trouver fromages \, œufs \, fruits  et légumes \, glaces \, plantes aromatiques et médicinales \, bières et boissons fraîches \, pâtes\, pains \, une petite restauration  et bien d’autres choses encore… bref\, tout ce dont on a besoin pour cuisiner sainement tout en préservant l’environnement et en soutenant les acteurs du territoire \, le tout aux prix directs producteurs !\n\n\n\nCe marché se veut aussi festif et convivial \, sur cette toute nouvelle place\, nouveau cœur battant du village où\, nous l’espérons\, les citoyens auront plaisir à se retrouver et échanger entre eux mais aussi avec les producteurs et artisans.\nPour favoriser ces rencontres\, un espace buvette sera organisé par des bénévoles et des animations seront également proposées tout au long de l’été.\n\n\nDernière nouveauté\, le marché invitera également chaque semaine 2 ou 3 artistes ou artisans locaux à venir présenter leurs réalisations\, pour ajouter du beau au bon !\n\n\n\nProducteurs présents tous les lundis soirs :\nFan de Colimont – Pâtes fraîches et sèches\nChapeau de Paille et Bottes de Pluie – Tisanes\, aromates\, condiments confitures\, gelées\, sirops\, biscuits salés et sucrés\nFerme du Hazard – Légumes\, fruits\, glaces\, confitures\, sirops\nLa ferme BIO du Faing la Biche – Oeufs\nFerme du Fossard – Produits laitiers chèvre et vache\n829 Savonnerie\, Teinture et Impression végétales – Savons\, cosmétiques\, laine\nLe Pain des Hauts – Fournil Ambulant – Pains\nChévrerie Du Grand Rouillier – Produits laitiers chèvre\nBrasserie de Quat’Sous – Bières et Kombucha (boisson fermentée)\nFood is not dead – Petite restauration sur place ou à emporter\nLa meule de la cave – Affuteur
URL:https://biograndest.org/evenement/marche-estival-bio-local-artisanal-a-le-tholy-3/
LOCATION:LE THOLY\, Place de l'Eglise\, LE THOLY\, 88530\, France
CATEGORIES:Bon Bien Bio,Vosges
ATTACH;FMTTYPE=image/jpeg:https://biograndest.org/wp-content/uploads/2024/06/flyers-a5-le-tholy.jpg
END:VEVENT
BEGIN:VEVENT
DTSTART;TZID=Europe/Paris:20240716T140000
DTEND;TZID=Europe/Paris:20240716T170000
DTSTAMP:20260419T171502
CREATED:20240628T122629Z
LAST-MODIFIED:20240702T071612Z
UID:19448-1721138400-1721149200@biograndest.org
SUMMARY:Vignes Bio Ouvertes : Rallye Bio\, à la découverte des viticultures bio de la montagne de Reims
DESCRIPTION:Porteurs de projet\, viticulteurs soucieux de votre impact environnemental\, vous êtes conviés pour un échange sur la viticulture bio. \nDans le cadre du projet de structuration de la filière Champagne Biologique\, l’ensemble des partenaires vous invite à une matinée d’échanges autour de la viticulture biologique : \nÀ la découverte des viticulteurs bio dans la montagne de Reims\nmardi 16 juillet 2024 de 14h à 17h\nAvec Florian Villière\, Champagne SADI MALOT de Villers Marmery (conversion Bio depuis 2018) \nAvec David Leclapart\, Champagne LECLAPART de Trépail (conversion Bio depuis 2000) \n  \nProgramme de l’après-midi: \n\nEnjeux de la viticulture bio sur la protection de la ressource en eau\nPoint technique et réglementaire sur la viticulture bio\nPrésentation de la filière champagne bio\nPrésentation des domaines\nTemps d’échange\n\nRDV : \nà partir de 14h au domaine SADI MALOT\, 55\, rue Pasteur 51380 Villers-Marmery \nà partir de 15h30 au domaine LECLAPART\, 5\, rue saint Vincent 51380 Trépail \nTélécharger l’invitation ICI \nInscription obligatoire auprès d’Émilie BROST : emilie.brost@biograndest.org – 06 40 79 06 60
URL:https://biograndest.org/evenement/vignes-bio-ouvertes-montage-reims/
CATEGORIES:Animation,Champagne,Filières,Marne,Techniques
ATTACH;FMTTYPE=image/jpeg:https://biograndest.org/wp-content/uploads/2024/06/vignes-montagne-de-reims-1.jpg
END:VEVENT
BEGIN:VEVENT
DTSTART;TZID=Europe/Paris:20240718T140000
DTEND;TZID=Europe/Paris:20240718T170000
DTSTAMP:20260419T171502
CREATED:20241104T092029Z
LAST-MODIFIED:20241104T092029Z
UID:20372-1721311200-1721322000@biograndest.org
SUMMARY:Vignes Bio Ouvertes : Les Préparations Naturelles Peu Préoccupantes en viticulture Biologique
DESCRIPTION:Porteurs de projet\, viticulteurs soucieux de votre impact environnemental\, vous êtes conviés pour un échange sur la viticulture bio. \nDans le cadre du projet de structuration de la filière Champagne Biologique\, l’ensemble des partenaires vous invite à une matinée d’échanges autour de la viticulture biologique : \nLes Préparations Naturelles Peu Préoccupantes en viticulture biologique\nJeudi 18 juillet 2024 à 14h\nAvec Alice Pelissot et Michel Jacob\, viticulteurs \nProgramme de l’après-midi (à partir de 14h) \n\nEnjeux de la viticulture bio sur la protection de la ressource en eau\nPoint technique et réglementaire sur les PNPP\nPrésentation de la filière champagne bio\nPrésentation du domaine\nTemps d’échange\n\nRDV : \n40 rue Gaston Checq le Magny \n10340 Les Riceys \nPoint GPS : 47.98056   4.35936 \nTélécharger l’invitation ICI \nInscription obligatoire auprès d’Émilie BROST : emilie.brost@biograndest.org – 06 40 79 06 60
URL:https://biograndest.org/evenement/vignes-bio-ouvertes-les-preparations-naturelles-peu-preoccupantes-en-viticulture-biologique-3/
LOCATION:Les Riceys (10)
CATEGORIES:Animation,Aube,Champagne,Filières,Techniques
ATTACH;FMTTYPE=image/jpeg:https://biograndest.org/wp-content/uploads/2024/07/saule-et-pissenlit-1.jpg
END:VEVENT
BEGIN:VEVENT
DTSTART;TZID=Europe/Paris:20240722T183000
DTEND;TZID=Europe/Paris:20240722T203000
DTSTAMP:20260419T171502
CREATED:20240626T064222Z
LAST-MODIFIED:20240626T064242Z
UID:19431-1721673000-1721680200@biograndest.org
SUMMARY:Marché estival bio local artisanal à Le Tholy
DESCRIPTION:Tous les lundis de Juillet et Août de 18h00 à 20h30Producteurs Bio LocauxBuvette et petite restauration\, Animations\, Artisans \n\nLe marché BIO LOCAL estival de Le Tholy nouvelle formule ! \n\n\nPour la quatrième année consécutive\, la commune de Le Tholy organisera cet été son marché BIO LOCAL. Celui-ci se déroulera désormais tous les lundis de juillet et août de 18h00 à 20h30 sur la toute nouvelle place du village qui se situe devant l’église et qui offre une vue magnifique sur la vallée de la Cleurie et les alentours. \n\n\n\nLe marché garde son identité et sa volonté de soutenir les producteurs et artisans du coin qui s’engagent dans une démarche durable\, respectueuse de l’Humain et de l’environnement\, en proposant des produits BIO LOCAUX de qualité. Cette année\, le Groupement des Agriculteurs Bio des Vosges (GAB 88) parraine le marché et salue ainsi le travail des organisateurs et des producteurs pour proposer dans la régularité cette offre alimentaire et artisanale de qualité et du territoire.\n\n\n\nDurant tout l’été\, Cafrancs et touristes pourront y trouver fromages \, œufs \, fruits  et légumes \, glaces \, plantes aromatiques et médicinales \, bières et boissons fraîches \, pâtes\, pains \, une petite restauration  et bien d’autres choses encore… bref\, tout ce dont on a besoin pour cuisiner sainement tout en préservant l’environnement et en soutenant les acteurs du territoire \, le tout aux prix directs producteurs !\n\n\n\nCe marché se veut aussi festif et convivial \, sur cette toute nouvelle place\, nouveau cœur battant du village où\, nous l’espérons\, les citoyens auront plaisir à se retrouver et échanger entre eux mais aussi avec les producteurs et artisans.\nPour favoriser ces rencontres\, un espace buvette sera organisé par des bénévoles et des animations seront également proposées tout au long de l’été.\n\n\nDernière nouveauté\, le marché invitera également chaque semaine 2 ou 3 artistes ou artisans locaux à venir présenter leurs réalisations\, pour ajouter du beau au bon !\n\n\n\nProducteurs présents tous les lundis soirs :\nFan de Colimont – Pâtes fraîches et sèches\nChapeau de Paille et Bottes de Pluie – Tisanes\, aromates\, condiments confitures\, gelées\, sirops\, biscuits salés et sucrés\nFerme du Hazard – Légumes\, fruits\, glaces\, confitures\, sirops\nLa ferme BIO du Faing la Biche – Oeufs\nFerme du Fossard – Produits laitiers chèvre et vache\n829 Savonnerie\, Teinture et Impression végétales – Savons\, cosmétiques\, laine\nLe Pain des Hauts – Fournil Ambulant – Pains\nChévrerie Du Grand Rouillier – Produits laitiers chèvre\nBrasserie de Quat’Sous – Bières et Kombucha (boisson fermentée)\nFood is not dead – Petite restauration sur place ou à emporter\nLa meule de la cave – Affuteur
URL:https://biograndest.org/evenement/marche-estival-bio-local-artisanal-a-le-tholy-4/
LOCATION:LE THOLY\, Place de l'Eglise\, LE THOLY\, 88530\, France
CATEGORIES:Bon Bien Bio,Vosges
ATTACH;FMTTYPE=image/jpeg:https://biograndest.org/wp-content/uploads/2024/06/flyers-a5-le-tholy.jpg
END:VEVENT
END:VCALENDAR